BEGIN:VCALENDAR
VERSION:2.0
PRODID:spatie/icalendar-generator
NAME:Wohn- und Geschäftshaus Thunstrasse 2\, Bern
X-WR-CALNAME:Wohn- und Geschäftshaus Thunstrasse 2\, Bern
BEGIN:VTIMEZONE
TZID:Europe/Zurich
BEGIN:STANDARD
DTSTART:20251026T030000
TZOFFSETFROM:+0200
TZOFFSETTO:+0100
END:STANDARD
BEGIN:DAYLIGHT
DTSTART:20260329T010000
TZOFFSETFROM:+0100
TZOFFSETTO:+0200
END:DAYLIGHT
BEGIN:STANDARD
DTSTART:20261025T030000
TZOFFSETFROM:+0200
TZOFFSETTO:+0100
END:STANDARD
END:VTIMEZONE
BEGIN:VTIMEZONE
TZID:UTC
BEGIN:STANDARD
DTSTART:20250727T222149
TZOFFSETFROM:+0000
TZOFFSETTO:+0000
END:STANDARD
END:VTIMEZONE
BEGIN:VEVENT
UID:69ea9b7d77603
DTSTAMP:20260423T222149Z
SUMMARY:KONKURADO: Wohn- und Geschäftshaus Thunstrasse 2\, Bern\, Auswahl 
 Teilnehmende 27.04.2026 - 27.04.2026
DESCRIPTION:Link zum Verfahren: https://konkurado.ch/it/wohn-und-geschaefts
 haus-thunstrasse-2-bern
X-MICROSOFT-CDO-ALLDAYEVENT:TRUE
DTSTART;TZID=Europe/Zurich;VALUE=DATE:20260427
END:VEVENT
BEGIN:VEVENT
UID:69ea9b7d77692
DTSTAMP:20260423T222149Z
SUMMARY:KONKURADO: Wohn- und Geschäftshaus Thunstrasse 2\, Bern\, Auswahl 
 Teilnehmende 27.04.2026 - 27.04.2026
DESCRIPTION:Link zum Verfahren: https://konkurado.ch/it/wohn-und-geschaefts
 haus-thunstrasse-2-bern
X-MICROSOFT-CDO-ALLDAYEVENT:TRUE
DTSTART;TZID=Europe/Zurich;VALUE=DATE:20260427
END:VEVENT
BEGIN:VEVENT
UID:69ea9b7d776d0
DTSTAMP:20260423T222149Z
SUMMARY:KONKURADO: Wohn- und Geschäftshaus Thunstrasse 2\, Bern\, Frageste
 llung 29.05.2026 - 29.05.2026
DESCRIPTION:Link zum Verfahren: https://konkurado.ch/it/wohn-und-geschaefts
 haus-thunstrasse-2-bern
X-MICROSOFT-CDO-ALLDAYEVENT:TRUE
DTSTART;TZID=Europe/Zurich;VALUE=DATE:20260529
END:VEVENT
BEGIN:VEVENT
UID:69ea9b7d776f6
DTSTAMP:20260423T222149Z
SUMMARY:KONKURADO: Wohn- und Geschäftshaus Thunstrasse 2\, Bern\, Frageste
 llung 29.05.2026 - 29.05.2026
DESCRIPTION:Link zum Verfahren: https://konkurado.ch/it/wohn-und-geschaefts
 haus-thunstrasse-2-bern
X-MICROSOFT-CDO-ALLDAYEVENT:TRUE
DTSTART;TZID=Europe/Zurich;VALUE=DATE:20260529
END:VEVENT
BEGIN:VEVENT
UID:69ea9b7d77760
DTSTAMP:20260423T222149Z
SUMMARY:KONKURADO: Wohn- und Geschäftshaus Thunstrasse 2\, Bern\, Bekanntg
 abe teilnehmende Teams 28.04.2026 - 28.04.2026
DESCRIPTION:Link zum Verfahren: https://konkurado.ch/it/wohn-und-geschaefts
 haus-thunstrasse-2-bern
X-MICROSOFT-CDO-ALLDAYEVENT:TRUE
DTSTART;TZID=Europe/Zurich;VALUE=DATE:20260428
END:VEVENT
BEGIN:VEVENT
UID:69ea9b7d77788
DTSTAMP:20260423T222149Z
SUMMARY:KONKURADO: Wohn- und Geschäftshaus Thunstrasse 2\, Bern\, Bekanntg
 abe teilnehmende Teams 28.04.2026 - 28.04.2026
DESCRIPTION:Link zum Verfahren: https://konkurado.ch/it/wohn-und-geschaefts
 haus-thunstrasse-2-bern
X-MICROSOFT-CDO-ALLDAYEVENT:TRUE
DTSTART;TZID=Europe/Zurich;VALUE=DATE:20260428
END:VEVENT
BEGIN:VEVENT
UID:69ea9b7d777df
DTSTAMP:20260423T222149Z
SUMMARY:KONKURADO: Wohn- und Geschäftshaus Thunstrasse 2\, Bern\, Begehung
 \, Bezug Modell 06.05.2026 - 06.05.2026
DESCRIPTION:Link zum Verfahren: https://konkurado.ch/it/wohn-und-geschaefts
 haus-thunstrasse-2-bern
X-MICROSOFT-CDO-ALLDAYEVENT:TRUE
DTSTART;TZID=Europe/Zurich;VALUE=DATE:20260506
END:VEVENT
BEGIN:VEVENT
UID:69ea9b7d77805
DTSTAMP:20260423T222149Z
SUMMARY:KONKURADO: Wohn- und Geschäftshaus Thunstrasse 2\, Bern\, Begehung
 \, Bezug Modell 06.05.2026 - 06.05.2026
DESCRIPTION:Link zum Verfahren: https://konkurado.ch/it/wohn-und-geschaefts
 haus-thunstrasse-2-bern
X-MICROSOFT-CDO-ALLDAYEVENT:TRUE
DTSTART;TZID=Europe/Zurich;VALUE=DATE:20260506
END:VEVENT
BEGIN:VEVENT
UID:69ea9b7d77857
DTSTAMP:20260423T222149Z
SUMMARY:KONKURADO: Wohn- und Geschäftshaus Thunstrasse 2\, Bern\, Fragebea
 ntwortung 12.06.2026 - 12.06.2026
DESCRIPTION:Link zum Verfahren: https://konkurado.ch/it/wohn-und-geschaefts
 haus-thunstrasse-2-bern
X-MICROSOFT-CDO-ALLDAYEVENT:TRUE
DTSTART;TZID=Europe/Zurich;VALUE=DATE:20260612
END:VEVENT
BEGIN:VEVENT
UID:69ea9b7d7787e
DTSTAMP:20260423T222149Z
SUMMARY:KONKURADO: Wohn- und Geschäftshaus Thunstrasse 2\, Bern\, Fragebea
 ntwortung 12.06.2026 - 12.06.2026
DESCRIPTION:Link zum Verfahren: https://konkurado.ch/it/wohn-und-geschaefts
 haus-thunstrasse-2-bern
X-MICROSOFT-CDO-ALLDAYEVENT:TRUE
DTSTART;TZID=Europe/Zurich;VALUE=DATE:20260612
END:VEVENT
BEGIN:VEVENT
UID:69ea9b7d778b2
DTSTAMP:20260423T222149Z
SUMMARY:KONKURADO: Wohn- und Geschäftshaus Thunstrasse 2\, Bern\, Abgabe M
 odell 27.08.2026 - 27.08.2026
DESCRIPTION:Link zum Verfahren: https://konkurado.ch/it/wohn-und-geschaefts
 haus-thunstrasse-2-bern
X-MICROSOFT-CDO-ALLDAYEVENT:TRUE
DTSTART;TZID=Europe/Zurich;VALUE=DATE:20260827
END:VEVENT
BEGIN:VEVENT
UID:69ea9b7d778d8
DTSTAMP:20260423T222149Z
SUMMARY:KONKURADO: Wohn- und Geschäftshaus Thunstrasse 2\, Bern\, Abgabe M
 odell 27.08.2026 - 27.08.2026
DESCRIPTION:Link zum Verfahren: https://konkurado.ch/it/wohn-und-geschaefts
 haus-thunstrasse-2-bern
X-MICROSOFT-CDO-ALLDAYEVENT:TRUE
DTSTART;TZID=Europe/Zurich;VALUE=DATE:20260827
END:VEVENT
BEGIN:VEVENT
UID:69ea9b7d77909
DTSTAMP:20260423T222149Z
SUMMARY:KONKURADO: Wohn- und Geschäftshaus Thunstrasse 2\, Bern\, Eingabe 
 Bewerbung 17.04.2026 - 17.04.2026
DESCRIPTION:Link zum Verfahren: https://konkurado.ch/it/wohn-und-geschaefts
 haus-thunstrasse-2-bern
X-MICROSOFT-CDO-ALLDAYEVENT:TRUE
DTSTART;TZID=Europe/Zurich;VALUE=DATE:20260417
END:VEVENT
BEGIN:VEVENT
UID:69ea9b7d7792e
DTSTAMP:20260423T222149Z
SUMMARY:KONKURADO: Wohn- und Geschäftshaus Thunstrasse 2\, Bern\, Eingabe 
 Bewerbung 17.04.2026 - 17.04.2026
DESCRIPTION:Link zum Verfahren: https://konkurado.ch/it/wohn-und-geschaefts
 haus-thunstrasse-2-bern
X-MICROSOFT-CDO-ALLDAYEVENT:TRUE
DTSTART;TZID=Europe/Zurich;VALUE=DATE:20260417
END:VEVENT
BEGIN:VEVENT
UID:69ea9b7d7795a
DTSTAMP:20260423T222149Z
SUMMARY:KONKURADO: Wohn- und Geschäftshaus Thunstrasse 2\, Bern\, Abgabe P
 läne 14.08.2026 - 14.08.2026
DESCRIPTION:Link zum Verfahren: https://konkurado.ch/it/wohn-und-geschaefts
 haus-thunstrasse-2-bern
X-MICROSOFT-CDO-ALLDAYEVENT:TRUE
DTSTART;TZID=Europe/Zurich;VALUE=DATE:20260814
END:VEVENT
BEGIN:VEVENT
UID:69ea9b7d7797e
DTSTAMP:20260423T222149Z
SUMMARY:KONKURADO: Wohn- und Geschäftshaus Thunstrasse 2\, Bern\, Abgabe P
 läne 14.08.2026 - 14.08.2026
DESCRIPTION:Link zum Verfahren: https://konkurado.ch/it/wohn-und-geschaefts
 haus-thunstrasse-2-bern
X-MICROSOFT-CDO-ALLDAYEVENT:TRUE
DTSTART;TZID=Europe/Zurich;VALUE=DATE:20260814
END:VEVENT
END:VCALENDAR