BEGIN:VCALENDAR
VERSION:2.0
PRODID:spatie/icalendar-generator
NAME:Wägitaler Aa / Vorgezogene Massnahmen Hochwasserschutz
X-WR-CALNAME:Wägitaler Aa / Vorgezogene Massnahmen Hochwasserschutz
BEGIN:VTIMEZONE
TZID:Europe/Zurich
BEGIN:STANDARD
DTSTART:20251026T030000
TZOFFSETFROM:+0200
TZOFFSETTO:+0100
END:STANDARD
BEGIN:DAYLIGHT
DTSTART:20260329T010000
TZOFFSETFROM:+0100
TZOFFSETTO:+0200
END:DAYLIGHT
BEGIN:STANDARD
DTSTART:20261025T030000
TZOFFSETFROM:+0200
TZOFFSETTO:+0100
END:STANDARD
END:VTIMEZONE
BEGIN:VTIMEZONE
TZID:UTC
BEGIN:STANDARD
DTSTART:20250728T155423
TZOFFSETFROM:+0000
TZOFFSETTO:+0000
END:STANDARD
END:VTIMEZONE
BEGIN:VEVENT
UID:69eb922f00ac4
DTSTAMP:20260424T155423Z
SUMMARY:KONKURADO: Wägitaler Aa / Vorgezogene Massnahmen Hochwasserschutz\
 , Einreichung von Fragen bis 07.05.2026 - 07.05.2026
DESCRIPTION:Link zum Verfahren: https://konkurado.ch/it/wagitaler-aa-vorgez
 ogene-massnahmen-hochwasserschutz
X-MICROSOFT-CDO-ALLDAYEVENT:TRUE
DTSTART;TZID=Europe/Zurich;VALUE=DATE:20260507
END:VEVENT
BEGIN:VEVENT
UID:69eb922f00b41
DTSTAMP:20260424T155423Z
SUMMARY:KONKURADO: Wägitaler Aa / Vorgezogene Massnahmen Hochwasserschutz\
 , Einreichung von Fragen bis 07.05.2026 - 07.05.2026
DESCRIPTION:Link zum Verfahren: https://konkurado.ch/it/wagitaler-aa-vorgez
 ogene-massnahmen-hochwasserschutz
X-MICROSOFT-CDO-ALLDAYEVENT:TRUE
DTSTART;TZID=Europe/Zurich;VALUE=DATE:20260507
END:VEVENT
BEGIN:VEVENT
UID:69eb922f00bb0
DTSTAMP:20260424T155423Z
SUMMARY:KONKURADO: Wägitaler Aa / Vorgezogene Massnahmen Hochwasserschutz\
 , Einreichung von Angeboten bis 10.06.2026 - 10.06.2026
DESCRIPTION:Link zum Verfahren: https://konkurado.ch/it/wagitaler-aa-vorgez
 ogene-massnahmen-hochwasserschutz
X-MICROSOFT-CDO-ALLDAYEVENT:TRUE
DTSTART;TZID=Europe/Zurich;VALUE=DATE:20260610
END:VEVENT
BEGIN:VEVENT
UID:69eb922f00bdc
DTSTAMP:20260424T155423Z
SUMMARY:KONKURADO: Wägitaler Aa / Vorgezogene Massnahmen Hochwasserschutz\
 , Einreichung von Angeboten bis 10.06.2026 - 10.06.2026
DESCRIPTION:Link zum Verfahren: https://konkurado.ch/it/wagitaler-aa-vorgez
 ogene-massnahmen-hochwasserschutz
X-MICROSOFT-CDO-ALLDAYEVENT:TRUE
DTSTART;TZID=Europe/Zurich;VALUE=DATE:20260610
END:VEVENT
BEGIN:VEVENT
UID:69eb922f00c36
DTSTAMP:20260424T155423Z
SUMMARY:KONKURADO: Wägitaler Aa / Vorgezogene Massnahmen Hochwasserschutz\
 , Offertöffnung 11.06.2026 - 11.06.2026
DESCRIPTION:Link zum Verfahren: https://konkurado.ch/it/wagitaler-aa-vorgez
 ogene-massnahmen-hochwasserschutz
X-MICROSOFT-CDO-ALLDAYEVENT:TRUE
DTSTART;TZID=Europe/Zurich;VALUE=DATE:20260611
END:VEVENT
BEGIN:VEVENT
UID:69eb922f00c5d
DTSTAMP:20260424T155423Z
SUMMARY:KONKURADO: Wägitaler Aa / Vorgezogene Massnahmen Hochwasserschutz\
 , Offertöffnung 11.06.2026 - 11.06.2026
DESCRIPTION:Link zum Verfahren: https://konkurado.ch/it/wagitaler-aa-vorgez
 ogene-massnahmen-hochwasserschutz
X-MICROSOFT-CDO-ALLDAYEVENT:TRUE
DTSTART;TZID=Europe/Zurich;VALUE=DATE:20260611
END:VEVENT
BEGIN:VEVENT
UID:69eb922f00cb0
DTSTAMP:20260424T155423Z
SUMMARY:KONKURADO: Wägitaler Aa / Vorgezogene Massnahmen Hochwasserschutz\
 , Verfügbarkeit der Ausschreibungsunterlagen 23.04.2026 - 10.06.2026
DESCRIPTION:Link zum Verfahren: https://konkurado.ch/it/wagitaler-aa-vorgez
 ogene-massnahmen-hochwasserschutz
X-MICROSOFT-CDO-ALLDAYEVENT:TRUE
DTSTART;TZID=Europe/Zurich;VALUE=DATE:20260423
END:VEVENT
BEGIN:VEVENT
UID:69eb922f00cd6
DTSTAMP:20260424T155423Z
SUMMARY:KONKURADO: Wägitaler Aa / Vorgezogene Massnahmen Hochwasserschutz\
 , Verfügbarkeit der Ausschreibungsunterlagen 23.04.2026 - 10.06.2026
DESCRIPTION:Link zum Verfahren: https://konkurado.ch/it/wagitaler-aa-vorgez
 ogene-massnahmen-hochwasserschutz
X-MICROSOFT-CDO-ALLDAYEVENT:TRUE
DTSTART;TZID=Europe/Zurich;VALUE=DATE:20260610
END:VEVENT
END:VCALENDAR