BEGIN:VCALENDAR
VERSION:2.0
PRODID:spatie/icalendar-generator
NAME:Vorder Chilefeld\, Windisch - Kombinierter Wettbewerb für Planende un
 d gemeinnützige Wohnbauträgerschaften im selektiven Verfahren
X-WR-CALNAME:Vorder Chilefeld\, Windisch - Kombinierter Wettbewerb für Pla
 nende und gemeinnützige Wohnbauträgerschaften im selektiven Verfahren
BEGIN:VTIMEZONE
TZID:Europe/Zurich
BEGIN:STANDARD
DTSTART:20251026T030000
TZOFFSETFROM:+0200
TZOFFSETTO:+0100
END:STANDARD
BEGIN:DAYLIGHT
DTSTART:20260329T010000
TZOFFSETFROM:+0100
TZOFFSETTO:+0200
END:DAYLIGHT
BEGIN:STANDARD
DTSTART:20261025T030000
TZOFFSETFROM:+0200
TZOFFSETTO:+0100
END:STANDARD
BEGIN:DAYLIGHT
DTSTART:20270328T010000
TZOFFSETFROM:+0100
TZOFFSETTO:+0200
END:DAYLIGHT
END:VTIMEZONE
BEGIN:VTIMEZONE
TZID:UTC
BEGIN:STANDARD
DTSTART:20250728T155540
TZOFFSETFROM:+0000
TZOFFSETTO:+0000
END:STANDARD
END:VTIMEZONE
BEGIN:VEVENT
UID:69eb927ce182e
DTSTAMP:20260424T155540Z
SUMMARY:KONKURADO: Vorder Chilefeld\, Windisch - Kombinierter Wettbewerb f
 ür Planende und gemeinnützige Wohnbauträgerschaften im selektiven Verfa
 hren\, Einreichen des Teilnahmeantrags 19.06.2026 - 19.06.2026
DESCRIPTION:Link zum Verfahren: https://konkurado.ch/it/vorder-chilefeld-wi
 ndisch-kombinierter-wettbewerb-fur-planende-und-gemeinnutzige-wohnbautrage
 rschaften-im-selektiven-verfahren
X-MICROSOFT-CDO-ALLDAYEVENT:TRUE
DTSTART;TZID=Europe/Zurich;VALUE=DATE:20260619
END:VEVENT
BEGIN:VEVENT
UID:69eb927ce18b6
DTSTAMP:20260424T155540Z
SUMMARY:KONKURADO: Vorder Chilefeld\, Windisch - Kombinierter Wettbewerb f
 ür Planende und gemeinnützige Wohnbauträgerschaften im selektiven Verfa
 hren\, Einreichen des Teilnahmeantrags 19.06.2026 - 19.06.2026
DESCRIPTION:Link zum Verfahren: https://konkurado.ch/it/vorder-chilefeld-wi
 ndisch-kombinierter-wettbewerb-fur-planende-und-gemeinnutzige-wohnbautrage
 rschaften-im-selektiven-verfahren
X-MICROSOFT-CDO-ALLDAYEVENT:TRUE
DTSTART;TZID=Europe/Zurich;VALUE=DATE:20260619
END:VEVENT
BEGIN:VEVENT
UID:69eb927ce193e
DTSTAMP:20260424T155540Z
SUMMARY:KONKURADO: Vorder Chilefeld\, Windisch - Kombinierter Wettbewerb f
 ür Planende und gemeinnützige Wohnbauträgerschaften im selektiven Verfa
 hren\, Vorgesehene Frist für die Einreichung des Angebots 11.12.2026 - 11
 .12.2026
DESCRIPTION:Link zum Verfahren: https://konkurado.ch/it/vorder-chilefeld-wi
 ndisch-kombinierter-wettbewerb-fur-planende-und-gemeinnutzige-wohnbautrage
 rschaften-im-selektiven-verfahren
X-MICROSOFT-CDO-ALLDAYEVENT:TRUE
DTSTART;TZID=Europe/Zurich;VALUE=DATE:20261211
END:VEVENT
BEGIN:VEVENT
UID:69eb927ce1966
DTSTAMP:20260424T155540Z
SUMMARY:KONKURADO: Vorder Chilefeld\, Windisch - Kombinierter Wettbewerb f
 ür Planende und gemeinnützige Wohnbauträgerschaften im selektiven Verfa
 hren\, Vorgesehene Frist für die Einreichung des Angebots 11.12.2026 - 11
 .12.2026
DESCRIPTION:Link zum Verfahren: https://konkurado.ch/it/vorder-chilefeld-wi
 ndisch-kombinierter-wettbewerb-fur-planende-und-gemeinnutzige-wohnbautrage
 rschaften-im-selektiven-verfahren
X-MICROSOFT-CDO-ALLDAYEVENT:TRUE
DTSTART;TZID=Europe/Zurich;VALUE=DATE:20261211
END:VEVENT
BEGIN:VEVENT
UID:69eb927ce19c0
DTSTAMP:20260424T155540Z
SUMMARY:KONKURADO: Vorder Chilefeld\, Windisch - Kombinierter Wettbewerb f
 ür Planende und gemeinnützige Wohnbauträgerschaften im selektiven Verfa
 hren\, Bezug Wettbewerbsunterlagen und Modell 10.08.2026 - 10.08.2026
DESCRIPTION:Link zum Verfahren: https://konkurado.ch/it/vorder-chilefeld-wi
 ndisch-kombinierter-wettbewerb-fur-planende-und-gemeinnutzige-wohnbautrage
 rschaften-im-selektiven-verfahren
X-MICROSOFT-CDO-ALLDAYEVENT:TRUE
DTSTART;TZID=Europe/Zurich;VALUE=DATE:20260810
END:VEVENT
BEGIN:VEVENT
UID:69eb927ce19e7
DTSTAMP:20260424T155540Z
SUMMARY:KONKURADO: Vorder Chilefeld\, Windisch - Kombinierter Wettbewerb f
 ür Planende und gemeinnützige Wohnbauträgerschaften im selektiven Verfa
 hren\, Bezug Wettbewerbsunterlagen und Modell 10.08.2026 - 10.08.2026
DESCRIPTION:Link zum Verfahren: https://konkurado.ch/it/vorder-chilefeld-wi
 ndisch-kombinierter-wettbewerb-fur-planende-und-gemeinnutzige-wohnbautrage
 rschaften-im-selektiven-verfahren
X-MICROSOFT-CDO-ALLDAYEVENT:TRUE
DTSTART;TZID=Europe/Zurich;VALUE=DATE:20260810
END:VEVENT
BEGIN:VEVENT
UID:69eb927ce1a3c
DTSTAMP:20260424T155540Z
SUMMARY:KONKURADO: Vorder Chilefeld\, Windisch - Kombinierter Wettbewerb f
 ür Planende und gemeinnützige Wohnbauträgerschaften im selektiven Verfa
 hren\, Abgabefrist Fragen 04.09.2026 - 04.09.2026
DESCRIPTION:Link zum Verfahren: https://konkurado.ch/it/vorder-chilefeld-wi
 ndisch-kombinierter-wettbewerb-fur-planende-und-gemeinnutzige-wohnbautrage
 rschaften-im-selektiven-verfahren
X-MICROSOFT-CDO-ALLDAYEVENT:TRUE
DTSTART;TZID=Europe/Zurich;VALUE=DATE:20260904
END:VEVENT
BEGIN:VEVENT
UID:69eb927ce1a63
DTSTAMP:20260424T155540Z
SUMMARY:KONKURADO: Vorder Chilefeld\, Windisch - Kombinierter Wettbewerb f
 ür Planende und gemeinnützige Wohnbauträgerschaften im selektiven Verfa
 hren\, Abgabefrist Fragen 04.09.2026 - 04.09.2026
DESCRIPTION:Link zum Verfahren: https://konkurado.ch/it/vorder-chilefeld-wi
 ndisch-kombinierter-wettbewerb-fur-planende-und-gemeinnutzige-wohnbautrage
 rschaften-im-selektiven-verfahren
X-MICROSOFT-CDO-ALLDAYEVENT:TRUE
DTSTART;TZID=Europe/Zurich;VALUE=DATE:20260904
END:VEVENT
BEGIN:VEVENT
UID:69eb927ce1ab5
DTSTAMP:20260424T155540Z
SUMMARY:KONKURADO: Vorder Chilefeld\, Windisch - Kombinierter Wettbewerb f
 ür Planende und gemeinnützige Wohnbauträgerschaften im selektiven Verfa
 hren\, Abgabefrist Modelle 08.01.2027 - 08.01.2027
DESCRIPTION:Link zum Verfahren: https://konkurado.ch/it/vorder-chilefeld-wi
 ndisch-kombinierter-wettbewerb-fur-planende-und-gemeinnutzige-wohnbautrage
 rschaften-im-selektiven-verfahren
X-MICROSOFT-CDO-ALLDAYEVENT:TRUE
DTSTART;TZID=Europe/Zurich;VALUE=DATE:20270108
END:VEVENT
BEGIN:VEVENT
UID:69eb927ce1aef
DTSTAMP:20260424T155540Z
SUMMARY:KONKURADO: Vorder Chilefeld\, Windisch - Kombinierter Wettbewerb f
 ür Planende und gemeinnützige Wohnbauträgerschaften im selektiven Verfa
 hren\, Abgabefrist Modelle 08.01.2027 - 08.01.2027
DESCRIPTION:Link zum Verfahren: https://konkurado.ch/it/vorder-chilefeld-wi
 ndisch-kombinierter-wettbewerb-fur-planende-und-gemeinnutzige-wohnbautrage
 rschaften-im-selektiven-verfahren
X-MICROSOFT-CDO-ALLDAYEVENT:TRUE
DTSTART;TZID=Europe/Zurich;VALUE=DATE:20270108
END:VEVENT
END:VCALENDAR