BEGIN:VCALENDAR
VERSION:2.0
PRODID:spatie/icalendar-generator
NAME:Stationäre Wohnintegration Birmensdorferstrasse
X-WR-CALNAME:Stationäre Wohnintegration Birmensdorferstrasse
BEGIN:VTIMEZONE
TZID:Europe/Zurich
BEGIN:STANDARD
DTSTART:20251026T030000
TZOFFSETFROM:+0200
TZOFFSETTO:+0100
END:STANDARD
BEGIN:DAYLIGHT
DTSTART:20260329T010000
TZOFFSETFROM:+0100
TZOFFSETTO:+0200
END:DAYLIGHT
BEGIN:STANDARD
DTSTART:20261025T030000
TZOFFSETFROM:+0200
TZOFFSETTO:+0100
END:STANDARD
BEGIN:DAYLIGHT
DTSTART:20270328T010000
TZOFFSETFROM:+0100
TZOFFSETTO:+0200
END:DAYLIGHT
BEGIN:STANDARD
DTSTART:20271031T030000
TZOFFSETFROM:+0200
TZOFFSETTO:+0100
END:STANDARD
END:VTIMEZONE
BEGIN:VTIMEZONE
TZID:UTC
BEGIN:STANDARD
DTSTART:20250728T142909
TZOFFSETFROM:+0000
TZOFFSETTO:+0000
END:STANDARD
END:VTIMEZONE
BEGIN:VEVENT
UID:69eb7e35b1c7d
DTSTAMP:20260424T142909Z
SUMMARY:KONKURADO: Stationäre Wohnintegration Birmensdorferstrasse\, Publi
 kation der Unterlagen 10.04.2026 - 10.04.2026
DESCRIPTION:Link zum Verfahren: https://konkurado.ch/it/sta-birmensdorferst
 rasse
X-MICROSOFT-CDO-ALLDAYEVENT:TRUE
DTSTART;TZID=Europe/Zurich;VALUE=DATE:20260410
END:VEVENT
BEGIN:VEVENT
UID:69eb7e35b1d0f
DTSTAMP:20260424T142909Z
SUMMARY:KONKURADO: Stationäre Wohnintegration Birmensdorferstrasse\, Publi
 kation der Unterlagen 10.04.2026 - 10.04.2026
DESCRIPTION:Link zum Verfahren: https://konkurado.ch/it/sta-birmensdorferst
 rasse
X-MICROSOFT-CDO-ALLDAYEVENT:TRUE
DTSTART;TZID=Europe/Zurich;VALUE=DATE:20260410
END:VEVENT
BEGIN:VEVENT
UID:69eb7e35b1d61
DTSTAMP:20260424T142909Z
SUMMARY:KONKURADO: Stationäre Wohnintegration Birmensdorferstrasse\, Frage
 stellung bis 10.04.2026 - 26.05.2026
DESCRIPTION:Link zum Verfahren: https://konkurado.ch/it/sta-birmensdorferst
 rasse
X-MICROSOFT-CDO-ALLDAYEVENT:TRUE
DTSTART;TZID=Europe/Zurich;VALUE=DATE:20260410
END:VEVENT
BEGIN:VEVENT
UID:69eb7e35b1d8d
DTSTAMP:20260424T142909Z
SUMMARY:KONKURADO: Stationäre Wohnintegration Birmensdorferstrasse\, Frage
 stellung bis 10.04.2026 - 26.05.2026
DESCRIPTION:Link zum Verfahren: https://konkurado.ch/it/sta-birmensdorferst
 rasse
X-MICROSOFT-CDO-ALLDAYEVENT:TRUE
DTSTART;TZID=Europe/Zurich;VALUE=DATE:20260526
END:VEVENT
BEGIN:VEVENT
UID:69eb7e35b1dc3
DTSTAMP:20260424T142909Z
SUMMARY:KONKURADO: Stationäre Wohnintegration Birmensdorferstrasse\, Uploa
 d Unterlagen (digital) inkl. Verfasserdaten 10.04.2026 - 31.08.2027
DESCRIPTION:Link zum Verfahren: https://konkurado.ch/it/sta-birmensdorferst
 rasse
X-MICROSOFT-CDO-ALLDAYEVENT:TRUE
DTSTART;TZID=Europe/Zurich;VALUE=DATE:20260410
END:VEVENT
BEGIN:VEVENT
UID:69eb7e35b1dec
DTSTAMP:20260424T142909Z
SUMMARY:KONKURADO: Stationäre Wohnintegration Birmensdorferstrasse\, Uploa
 d Unterlagen (digital) inkl. Verfasserdaten 10.04.2026 - 31.08.2027
DESCRIPTION:Link zum Verfahren: https://konkurado.ch/it/sta-birmensdorferst
 rasse
X-MICROSOFT-CDO-ALLDAYEVENT:TRUE
DTSTART;TZID=Europe/Zurich;VALUE=DATE:20270831
END:VEVENT
BEGIN:VEVENT
UID:69eb7e35b1e2e
DTSTAMP:20260424T142909Z
SUMMARY:KONKURADO: Stationäre Wohnintegration Birmensdorferstrasse\, Jurie
 rung 01.10.2026 - 18.12.2026
DESCRIPTION:Link zum Verfahren: https://konkurado.ch/it/sta-birmensdorferst
 rasse
X-MICROSOFT-CDO-ALLDAYEVENT:TRUE
DTSTART;TZID=Europe/Zurich;VALUE=DATE:20261001
END:VEVENT
BEGIN:VEVENT
UID:69eb7e35b1e53
DTSTAMP:20260424T142909Z
SUMMARY:KONKURADO: Stationäre Wohnintegration Birmensdorferstrasse\, Jurie
 rung 01.10.2026 - 18.12.2026
DESCRIPTION:Link zum Verfahren: https://konkurado.ch/it/sta-birmensdorferst
 rasse
X-MICROSOFT-CDO-ALLDAYEVENT:TRUE
DTSTART;TZID=Europe/Zurich;VALUE=DATE:20261218
END:VEVENT
BEGIN:VEVENT
UID:69eb7e35b1e85
DTSTAMP:20260424T142909Z
SUMMARY:KONKURADO: Stationäre Wohnintegration Birmensdorferstrasse\, Anmel
 dung ordentlicher Modellbezug 10.04.2026 - 27.04.2026
DESCRIPTION:Link zum Verfahren: https://konkurado.ch/it/sta-birmensdorferst
 rasse
X-MICROSOFT-CDO-ALLDAYEVENT:TRUE
DTSTART;TZID=Europe/Zurich;VALUE=DATE:20260410
END:VEVENT
BEGIN:VEVENT
UID:69eb7e35b1ead
DTSTAMP:20260424T142909Z
SUMMARY:KONKURADO: Stationäre Wohnintegration Birmensdorferstrasse\, Anmel
 dung ordentlicher Modellbezug 10.04.2026 - 27.04.2026
DESCRIPTION:Link zum Verfahren: https://konkurado.ch/it/sta-birmensdorferst
 rasse
X-MICROSOFT-CDO-ALLDAYEVENT:TRUE
DTSTART;TZID=Europe/Zurich;VALUE=DATE:20260427
END:VEVENT
BEGIN:VEVENT
UID:69eb7e35b1f21
DTSTAMP:20260424T142909Z
SUMMARY:KONKURADO: Stationäre Wohnintegration Birmensdorferstrasse\, Orden
 tliche Modellausgabe 10.04.2026 - 05.05.2026
DESCRIPTION:Link zum Verfahren: https://konkurado.ch/it/sta-birmensdorferst
 rasse
X-MICROSOFT-CDO-ALLDAYEVENT:TRUE
DTSTART;TZID=Europe/Zurich;VALUE=DATE:20260410
END:VEVENT
BEGIN:VEVENT
UID:69eb7e35b1f4c
DTSTAMP:20260424T142909Z
SUMMARY:KONKURADO: Stationäre Wohnintegration Birmensdorferstrasse\, Orden
 tliche Modellausgabe 10.04.2026 - 05.05.2026
DESCRIPTION:Link zum Verfahren: https://konkurado.ch/it/sta-birmensdorferst
 rasse
X-MICROSOFT-CDO-ALLDAYEVENT:TRUE
DTSTART;TZID=Europe/Zurich;VALUE=DATE:20260505
END:VEVENT
BEGIN:VEVENT
UID:69eb7e35b1fa5
DTSTAMP:20260424T142909Z
SUMMARY:KONKURADO: Stationäre Wohnintegration Birmensdorferstrasse\, Nacht
 rägliche Modellausgabe ab 06.05.2026 - 25.08.2026
DESCRIPTION:Link zum Verfahren: https://konkurado.ch/it/sta-birmensdorferst
 rasse
X-MICROSOFT-CDO-ALLDAYEVENT:TRUE
DTSTART;TZID=Europe/Zurich;VALUE=DATE:20260506
END:VEVENT
BEGIN:VEVENT
UID:69eb7e35b1fce
DTSTAMP:20260424T142909Z
SUMMARY:KONKURADO: Stationäre Wohnintegration Birmensdorferstrasse\, Nacht
 rägliche Modellausgabe ab 06.05.2026 - 25.08.2026
DESCRIPTION:Link zum Verfahren: https://konkurado.ch/it/sta-birmensdorferst
 rasse
X-MICROSOFT-CDO-ALLDAYEVENT:TRUE
DTSTART;TZID=Europe/Zurich;VALUE=DATE:20260825
END:VEVENT
BEGIN:VEVENT
UID:69eb7e35b2023
DTSTAMP:20260424T142909Z
SUMMARY:KONKURADO: Stationäre Wohnintegration Birmensdorferstrasse\, Frage
 beantwortung 27.05.2026 - 15.06.2026
DESCRIPTION:Link zum Verfahren: https://konkurado.ch/it/sta-birmensdorferst
 rasse
X-MICROSOFT-CDO-ALLDAYEVENT:TRUE
DTSTART;TZID=Europe/Zurich;VALUE=DATE:20260527
END:VEVENT
BEGIN:VEVENT
UID:69eb7e35b204a
DTSTAMP:20260424T142909Z
SUMMARY:KONKURADO: Stationäre Wohnintegration Birmensdorferstrasse\, Frage
 beantwortung 27.05.2026 - 15.06.2026
DESCRIPTION:Link zum Verfahren: https://konkurado.ch/it/sta-birmensdorferst
 rasse
X-MICROSOFT-CDO-ALLDAYEVENT:TRUE
DTSTART;TZID=Europe/Zurich;VALUE=DATE:20260615
END:VEVENT
BEGIN:VEVENT
UID:69eb7e35b209e
DTSTAMP:20260424T142909Z
SUMMARY:KONKURADO: Stationäre Wohnintegration Birmensdorferstrasse\, Abgab
 e Unterlagen (Papierform) 10.04.2026 - 01.09.2026
DESCRIPTION:Link zum Verfahren: https://konkurado.ch/it/sta-birmensdorferst
 rasse
X-MICROSOFT-CDO-ALLDAYEVENT:TRUE
DTSTART;TZID=Europe/Zurich;VALUE=DATE:20260410
END:VEVENT
BEGIN:VEVENT
UID:69eb7e35b20c8
DTSTAMP:20260424T142909Z
SUMMARY:KONKURADO: Stationäre Wohnintegration Birmensdorferstrasse\, Abgab
 e Unterlagen (Papierform) 10.04.2026 - 01.09.2026
DESCRIPTION:Link zum Verfahren: https://konkurado.ch/it/sta-birmensdorferst
 rasse
X-MICROSOFT-CDO-ALLDAYEVENT:TRUE
DTSTART;TZID=Europe/Zurich;VALUE=DATE:20260901
END:VEVENT
BEGIN:VEVENT
UID:69eb7e35b211a
DTSTAMP:20260424T142909Z
SUMMARY:KONKURADO: Stationäre Wohnintegration Birmensdorferstrasse\, Abgab
 e Modell 05.05.2026 - 15.09.2026
DESCRIPTION:Link zum Verfahren: https://konkurado.ch/it/sta-birmensdorferst
 rasse
X-MICROSOFT-CDO-ALLDAYEVENT:TRUE
DTSTART;TZID=Europe/Zurich;VALUE=DATE:20260505
END:VEVENT
BEGIN:VEVENT
UID:69eb7e35b2144
DTSTAMP:20260424T142909Z
SUMMARY:KONKURADO: Stationäre Wohnintegration Birmensdorferstrasse\, Abgab
 e Modell 05.05.2026 - 15.09.2026
DESCRIPTION:Link zum Verfahren: https://konkurado.ch/it/sta-birmensdorferst
 rasse
X-MICROSOFT-CDO-ALLDAYEVENT:TRUE
DTSTART;TZID=Europe/Zurich;VALUE=DATE:20260915
END:VEVENT
BEGIN:VEVENT
UID:69eb7e35b2177
DTSTAMP:20260424T142909Z
SUMMARY:KONKURADO: Stationäre Wohnintegration Birmensdorferstrasse\, Anmel
 dung nachträchlicher Modellbezug 28.04.2026 - 08.09.2026
DESCRIPTION:Link zum Verfahren: https://konkurado.ch/it/sta-birmensdorferst
 rasse
X-MICROSOFT-CDO-ALLDAYEVENT:TRUE
DTSTART;TZID=Europe/Zurich;VALUE=DATE:20260428
END:VEVENT
BEGIN:VEVENT
UID:69eb7e35b219d
DTSTAMP:20260424T142909Z
SUMMARY:KONKURADO: Stationäre Wohnintegration Birmensdorferstrasse\, Anmel
 dung nachträchlicher Modellbezug 28.04.2026 - 08.09.2026
DESCRIPTION:Link zum Verfahren: https://konkurado.ch/it/sta-birmensdorferst
 rasse
X-MICROSOFT-CDO-ALLDAYEVENT:TRUE
DTSTART;TZID=Europe/Zurich;VALUE=DATE:20260908
END:VEVENT
END:VCALENDAR