BEGIN:VCALENDAR
VERSION:2.0
PRODID:spatie/icalendar-generator
NAME:Sissach - ARA E1\, Gesamtleitender Projektingenieur
X-WR-CALNAME:Sissach - ARA E1\, Gesamtleitender Projektingenieur
BEGIN:VTIMEZONE
TZID:Europe/Zurich
BEGIN:STANDARD
DTSTART:20251026T030000
TZOFFSETFROM:+0200
TZOFFSETTO:+0100
END:STANDARD
BEGIN:DAYLIGHT
DTSTART:20260329T010000
TZOFFSETFROM:+0100
TZOFFSETTO:+0200
END:DAYLIGHT
BEGIN:STANDARD
DTSTART:20261025T030000
TZOFFSETFROM:+0200
TZOFFSETTO:+0100
END:STANDARD
END:VTIMEZONE
BEGIN:VTIMEZONE
TZID:UTC
BEGIN:STANDARD
DTSTART:20250728T154347
TZOFFSETFROM:+0000
TZOFFSETTO:+0000
END:STANDARD
END:VTIMEZONE
BEGIN:VEVENT
UID:69eb8fb3322c7
DTSTAMP:20260424T154347Z
SUMMARY:KONKURADO: Sissach - ARA E1\, Gesamtleitender Projektingenieur\, Ei
 nreichung von Fragen bis 27.04.2026 - 27.04.2026
DESCRIPTION:Link zum Verfahren: https://konkurado.ch/it/sissach-ara-e1-gesa
 mtleitender-projektingenieur
X-MICROSOFT-CDO-ALLDAYEVENT:TRUE
DTSTART;TZID=Europe/Zurich;VALUE=DATE:20260427
END:VEVENT
BEGIN:VEVENT
UID:69eb8fb33234b
DTSTAMP:20260424T154347Z
SUMMARY:KONKURADO: Sissach - ARA E1\, Gesamtleitender Projektingenieur\, Ei
 nreichung von Fragen bis 27.04.2026 - 27.04.2026
DESCRIPTION:Link zum Verfahren: https://konkurado.ch/it/sissach-ara-e1-gesa
 mtleitender-projektingenieur
X-MICROSOFT-CDO-ALLDAYEVENT:TRUE
DTSTART;TZID=Europe/Zurich;VALUE=DATE:20260427
END:VEVENT
BEGIN:VEVENT
UID:69eb8fb3323c1
DTSTAMP:20260424T154347Z
SUMMARY:KONKURADO: Sissach - ARA E1\, Gesamtleitender Projektingenieur\, Ei
 nreichung von Angeboten bis 21.05.2026 - 21.05.2026
DESCRIPTION:Link zum Verfahren: https://konkurado.ch/it/sissach-ara-e1-gesa
 mtleitender-projektingenieur
X-MICROSOFT-CDO-ALLDAYEVENT:TRUE
DTSTART;TZID=Europe/Zurich;VALUE=DATE:20260521
END:VEVENT
BEGIN:VEVENT
UID:69eb8fb3323ea
DTSTAMP:20260424T154347Z
SUMMARY:KONKURADO: Sissach - ARA E1\, Gesamtleitender Projektingenieur\, Ei
 nreichung von Angeboten bis 21.05.2026 - 21.05.2026
DESCRIPTION:Link zum Verfahren: https://konkurado.ch/it/sissach-ara-e1-gesa
 mtleitender-projektingenieur
X-MICROSOFT-CDO-ALLDAYEVENT:TRUE
DTSTART;TZID=Europe/Zurich;VALUE=DATE:20260521
END:VEVENT
BEGIN:VEVENT
UID:69eb8fb332444
DTSTAMP:20260424T154347Z
SUMMARY:KONKURADO: Sissach - ARA E1\, Gesamtleitender Projektingenieur\, Of
 fertöffnung 22.05.2026 - 22.05.2026
DESCRIPTION:Link zum Verfahren: https://konkurado.ch/it/sissach-ara-e1-gesa
 mtleitender-projektingenieur
X-MICROSOFT-CDO-ALLDAYEVENT:TRUE
DTSTART;TZID=Europe/Zurich;VALUE=DATE:20260522
END:VEVENT
BEGIN:VEVENT
UID:69eb8fb33246c
DTSTAMP:20260424T154347Z
SUMMARY:KONKURADO: Sissach - ARA E1\, Gesamtleitender Projektingenieur\, Of
 fertöffnung 22.05.2026 - 22.05.2026
DESCRIPTION:Link zum Verfahren: https://konkurado.ch/it/sissach-ara-e1-gesa
 mtleitender-projektingenieur
X-MICROSOFT-CDO-ALLDAYEVENT:TRUE
DTSTART;TZID=Europe/Zurich;VALUE=DATE:20260522
END:VEVENT
BEGIN:VEVENT
UID:69eb8fb3324c3
DTSTAMP:20260424T154347Z
SUMMARY:KONKURADO: Sissach - ARA E1\, Gesamtleitender Projektingenieur\, Ob
 ligatorische Begehung 21.04.2026 - 21.04.2026
DESCRIPTION:Link zum Verfahren: https://konkurado.ch/it/sissach-ara-e1-gesa
 mtleitender-projektingenieur
X-MICROSOFT-CDO-ALLDAYEVENT:TRUE
DTSTART;TZID=Europe/Zurich;VALUE=DATE:20260421
END:VEVENT
BEGIN:VEVENT
UID:69eb8fb3324ec
DTSTAMP:20260424T154347Z
SUMMARY:KONKURADO: Sissach - ARA E1\, Gesamtleitender Projektingenieur\, Ob
 ligatorische Begehung 21.04.2026 - 21.04.2026
DESCRIPTION:Link zum Verfahren: https://konkurado.ch/it/sissach-ara-e1-gesa
 mtleitender-projektingenieur
X-MICROSOFT-CDO-ALLDAYEVENT:TRUE
DTSTART;TZID=Europe/Zurich;VALUE=DATE:20260421
END:VEVENT
END:VCALENDAR