BEGIN:VCALENDAR
VERSION:2.0
PRODID:spatie/icalendar-generator
NAME:Sanierung Primarschule Wiedlisbach
X-WR-CALNAME:Sanierung Primarschule Wiedlisbach
BEGIN:VTIMEZONE
TZID:Europe/Zurich
BEGIN:STANDARD
DTSTART:20251026T030000
TZOFFSETFROM:+0200
TZOFFSETTO:+0100
END:STANDARD
BEGIN:DAYLIGHT
DTSTART:20260329T010000
TZOFFSETFROM:+0100
TZOFFSETTO:+0200
END:DAYLIGHT
BEGIN:STANDARD
DTSTART:20261025T030000
TZOFFSETFROM:+0200
TZOFFSETTO:+0100
END:STANDARD
END:VTIMEZONE
BEGIN:VTIMEZONE
TZID:UTC
BEGIN:STANDARD
DTSTART:20250728T154347
TZOFFSETFROM:+0000
TZOFFSETTO:+0000
END:STANDARD
END:VTIMEZONE
BEGIN:VEVENT
UID:69eb8fb3322bf
DTSTAMP:20260424T154347Z
SUMMARY:KONKURADO: Sanierung Primarschule Wiedlisbach\, Einreichung von Fra
 gen bis 30.04.2026 - 30.04.2026
DESCRIPTION:Link zum Verfahren: https://konkurado.ch/it/sanierung-primarsch
 ule-wiedlisbach
X-MICROSOFT-CDO-ALLDAYEVENT:TRUE
DTSTART;TZID=Europe/Zurich;VALUE=DATE:20260430
END:VEVENT
BEGIN:VEVENT
UID:69eb8fb332348
DTSTAMP:20260424T154347Z
SUMMARY:KONKURADO: Sanierung Primarschule Wiedlisbach\, Einreichung von Fra
 gen bis 30.04.2026 - 30.04.2026
DESCRIPTION:Link zum Verfahren: https://konkurado.ch/it/sanierung-primarsch
 ule-wiedlisbach
X-MICROSOFT-CDO-ALLDAYEVENT:TRUE
DTSTART;TZID=Europe/Zurich;VALUE=DATE:20260430
END:VEVENT
BEGIN:VEVENT
UID:69eb8fb3323c1
DTSTAMP:20260424T154347Z
SUMMARY:KONKURADO: Sanierung Primarschule Wiedlisbach\, Einreichung von Ang
 eboten bis 21.05.2026 - 21.05.2026
DESCRIPTION:Link zum Verfahren: https://konkurado.ch/it/sanierung-primarsch
 ule-wiedlisbach
X-MICROSOFT-CDO-ALLDAYEVENT:TRUE
DTSTART;TZID=Europe/Zurich;VALUE=DATE:20260521
END:VEVENT
BEGIN:VEVENT
UID:69eb8fb3323ea
DTSTAMP:20260424T154347Z
SUMMARY:KONKURADO: Sanierung Primarschule Wiedlisbach\, Einreichung von Ang
 eboten bis 21.05.2026 - 21.05.2026
DESCRIPTION:Link zum Verfahren: https://konkurado.ch/it/sanierung-primarsch
 ule-wiedlisbach
X-MICROSOFT-CDO-ALLDAYEVENT:TRUE
DTSTART;TZID=Europe/Zurich;VALUE=DATE:20260521
END:VEVENT
BEGIN:VEVENT
UID:69eb8fb332444
DTSTAMP:20260424T154347Z
SUMMARY:KONKURADO: Sanierung Primarschule Wiedlisbach\, Offertöffnung 22.0
 5.2026 - 22.05.2026
DESCRIPTION:Link zum Verfahren: https://konkurado.ch/it/sanierung-primarsch
 ule-wiedlisbach
X-MICROSOFT-CDO-ALLDAYEVENT:TRUE
DTSTART;TZID=Europe/Zurich;VALUE=DATE:20260522
END:VEVENT
BEGIN:VEVENT
UID:69eb8fb33246f
DTSTAMP:20260424T154347Z
SUMMARY:KONKURADO: Sanierung Primarschule Wiedlisbach\, Offertöffnung 22.0
 5.2026 - 22.05.2026
DESCRIPTION:Link zum Verfahren: https://konkurado.ch/it/sanierung-primarsch
 ule-wiedlisbach
X-MICROSOFT-CDO-ALLDAYEVENT:TRUE
DTSTART;TZID=Europe/Zurich;VALUE=DATE:20260522
END:VEVENT
BEGIN:VEVENT
UID:69eb8fb3324c6
DTSTAMP:20260424T154347Z
SUMMARY:KONKURADO: Sanierung Primarschule Wiedlisbach\, Verfügbarkeit der 
 Ausschreibungsunterlagen 15.04.2026 - 21.04.2026
DESCRIPTION:Link zum Verfahren: https://konkurado.ch/it/sanierung-primarsch
 ule-wiedlisbach
X-MICROSOFT-CDO-ALLDAYEVENT:TRUE
DTSTART;TZID=Europe/Zurich;VALUE=DATE:20260415
END:VEVENT
BEGIN:VEVENT
UID:69eb8fb3324ec
DTSTAMP:20260424T154347Z
SUMMARY:KONKURADO: Sanierung Primarschule Wiedlisbach\, Verfügbarkeit der 
 Ausschreibungsunterlagen 15.04.2026 - 21.04.2026
DESCRIPTION:Link zum Verfahren: https://konkurado.ch/it/sanierung-primarsch
 ule-wiedlisbach
X-MICROSOFT-CDO-ALLDAYEVENT:TRUE
DTSTART;TZID=Europe/Zurich;VALUE=DATE:20260421
END:VEVENT
BEGIN:VEVENT
UID:69eb8fb332552
DTSTAMP:20260424T154347Z
SUMMARY:KONKURADO: Sanierung Primarschule Wiedlisbach\, Anmeldung Obligator
 ische Objektbegehung 21.04.2026 - 21.04.2026
DESCRIPTION:Link zum Verfahren: https://konkurado.ch/it/sanierung-primarsch
 ule-wiedlisbach
X-MICROSOFT-CDO-ALLDAYEVENT:TRUE
DTSTART;TZID=Europe/Zurich;VALUE=DATE:20260421
END:VEVENT
BEGIN:VEVENT
UID:69eb8fb332587
DTSTAMP:20260424T154347Z
SUMMARY:KONKURADO: Sanierung Primarschule Wiedlisbach\, Anmeldung Obligator
 ische Objektbegehung 21.04.2026 - 21.04.2026
DESCRIPTION:Link zum Verfahren: https://konkurado.ch/it/sanierung-primarsch
 ule-wiedlisbach
X-MICROSOFT-CDO-ALLDAYEVENT:TRUE
DTSTART;TZID=Europe/Zurich;VALUE=DATE:20260421
END:VEVENT
BEGIN:VEVENT
UID:69eb8fb3325e3
DTSTAMP:20260424T154347Z
SUMMARY:KONKURADO: Sanierung Primarschule Wiedlisbach\, Obligatorische Obje
 ktbegehung 24.04.2026 - 24.04.2026
DESCRIPTION:Link zum Verfahren: https://konkurado.ch/it/sanierung-primarsch
 ule-wiedlisbach
X-MICROSOFT-CDO-ALLDAYEVENT:TRUE
DTSTART;TZID=Europe/Zurich;VALUE=DATE:20260424
END:VEVENT
BEGIN:VEVENT
UID:69eb8fb33260e
DTSTAMP:20260424T154347Z
SUMMARY:KONKURADO: Sanierung Primarschule Wiedlisbach\, Obligatorische Obje
 ktbegehung 24.04.2026 - 24.04.2026
DESCRIPTION:Link zum Verfahren: https://konkurado.ch/it/sanierung-primarsch
 ule-wiedlisbach
X-MICROSOFT-CDO-ALLDAYEVENT:TRUE
DTSTART;TZID=Europe/Zurich;VALUE=DATE:20260424
END:VEVENT
END:VCALENDAR