BEGIN:VCALENDAR
VERSION:2.0
PRODID:spatie/icalendar-generator
NAME:Requalification des espaces ouverts du quartier de Battelle Tambourine
  (Carouge)\, projet et réalisation
X-WR-CALNAME:Requalification des espaces ouverts du quartier de Battelle Ta
 mbourine (Carouge)\, projet et réalisation
BEGIN:VTIMEZONE
TZID:Europe/Zurich
BEGIN:STANDARD
DTSTART:20251026T030000
TZOFFSETFROM:+0200
TZOFFSETTO:+0100
END:STANDARD
BEGIN:DAYLIGHT
DTSTART:20260329T010000
TZOFFSETFROM:+0100
TZOFFSETTO:+0200
END:DAYLIGHT
BEGIN:STANDARD
DTSTART:20261025T030000
TZOFFSETFROM:+0200
TZOFFSETTO:+0100
END:STANDARD
END:VTIMEZONE
BEGIN:VTIMEZONE
TZID:UTC
BEGIN:STANDARD
DTSTART:20250728T160130
TZOFFSETFROM:+0000
TZOFFSETTO:+0000
END:STANDARD
END:VTIMEZONE
BEGIN:VEVENT
UID:69eb93da69334
DTSTAMP:20260424T160130Z
SUMMARY:KONKURADO: Requalification des espaces ouverts du quartier de Batte
 lle Tambourine (Carouge)\, projet et réalisation\, Session de questions\,
  soumettre avant 04.05.2026 - 04.05.2026
DESCRIPTION:Link zum Verfahren: https://konkurado.ch/it/requalification-des
 -espaces-ouverts-du-quartier-de-battelle-tambourine-carouge-projet-et-real
 isation
X-MICROSOFT-CDO-ALLDAYEVENT:TRUE
DTSTART;TZID=Europe/Zurich;VALUE=DATE:20260504
END:VEVENT
BEGIN:VEVENT
UID:69eb93da693b0
DTSTAMP:20260424T160130Z
SUMMARY:KONKURADO: Requalification des espaces ouverts du quartier de Batte
 lle Tambourine (Carouge)\, projet et réalisation\, Session de questions\,
  soumettre avant 04.05.2026 - 04.05.2026
DESCRIPTION:Link zum Verfahren: https://konkurado.ch/it/requalification-des
 -espaces-ouverts-du-quartier-de-battelle-tambourine-carouge-projet-et-real
 isation
X-MICROSOFT-CDO-ALLDAYEVENT:TRUE
DTSTART;TZID=Europe/Zurich;VALUE=DATE:20260504
END:VEVENT
BEGIN:VEVENT
UID:69eb93da69424
DTSTAMP:20260424T160130Z
SUMMARY:KONKURADO: Requalification des espaces ouverts du quartier de Batte
 lle Tambourine (Carouge)\, projet et réalisation\, Soumission des offres 
 21.05.2026 - 21.05.2026
DESCRIPTION:Link zum Verfahren: https://konkurado.ch/it/requalification-des
 -espaces-ouverts-du-quartier-de-battelle-tambourine-carouge-projet-et-real
 isation
X-MICROSOFT-CDO-ALLDAYEVENT:TRUE
DTSTART;TZID=Europe/Zurich;VALUE=DATE:20260521
END:VEVENT
BEGIN:VEVENT
UID:69eb93da69452
DTSTAMP:20260424T160130Z
SUMMARY:KONKURADO: Requalification des espaces ouverts du quartier de Batte
 lle Tambourine (Carouge)\, projet et réalisation\, Soumission des offres 
 21.05.2026 - 21.05.2026
DESCRIPTION:Link zum Verfahren: https://konkurado.ch/it/requalification-des
 -espaces-ouverts-du-quartier-de-battelle-tambourine-carouge-projet-et-real
 isation
X-MICROSOFT-CDO-ALLDAYEVENT:TRUE
DTSTART;TZID=Europe/Zurich;VALUE=DATE:20260521
END:VEVENT
BEGIN:VEVENT
UID:69eb93da694ab
DTSTAMP:20260424T160130Z
SUMMARY:KONKURADO: Requalification des espaces ouverts du quartier de Batte
 lle Tambourine (Carouge)\, projet et réalisation\, Date limite prévue po
 ur la soumission de l’offre 24.07.2026 - 24.07.2026
DESCRIPTION:Link zum Verfahren: https://konkurado.ch/it/requalification-des
 -espaces-ouverts-du-quartier-de-battelle-tambourine-carouge-projet-et-real
 isation
X-MICROSOFT-CDO-ALLDAYEVENT:TRUE
DTSTART;TZID=Europe/Zurich;VALUE=DATE:20260724
END:VEVENT
BEGIN:VEVENT
UID:69eb93da694d5
DTSTAMP:20260424T160130Z
SUMMARY:KONKURADO: Requalification des espaces ouverts du quartier de Batte
 lle Tambourine (Carouge)\, projet et réalisation\, Date limite prévue po
 ur la soumission de l’offre 24.07.2026 - 24.07.2026
DESCRIPTION:Link zum Verfahren: https://konkurado.ch/it/requalification-des
 -espaces-ouverts-du-quartier-de-battelle-tambourine-carouge-projet-et-real
 isation
X-MICROSOFT-CDO-ALLDAYEVENT:TRUE
DTSTART;TZID=Europe/Zurich;VALUE=DATE:20260724
END:VEVENT
BEGIN:VEVENT
UID:69eb93da6952a
DTSTAMP:20260424T160130Z
SUMMARY:KONKURADO: Requalification des espaces ouverts du quartier de Batte
 lle Tambourine (Carouge)\, projet et réalisation\, Sélection des partici
 pants 11.06.2026 - 11.06.2026
DESCRIPTION:Link zum Verfahren: https://konkurado.ch/it/requalification-des
 -espaces-ouverts-du-quartier-de-battelle-tambourine-carouge-projet-et-real
 isation
X-MICROSOFT-CDO-ALLDAYEVENT:TRUE
DTSTART;TZID=Europe/Zurich;VALUE=DATE:20260611
END:VEVENT
BEGIN:VEVENT
UID:69eb93da69550
DTSTAMP:20260424T160130Z
SUMMARY:KONKURADO: Requalification des espaces ouverts du quartier de Batte
 lle Tambourine (Carouge)\, projet et réalisation\, Sélection des partici
 pants 11.06.2026 - 11.06.2026
DESCRIPTION:Link zum Verfahren: https://konkurado.ch/it/requalification-des
 -espaces-ouverts-du-quartier-de-battelle-tambourine-carouge-projet-et-real
 isation
X-MICROSOFT-CDO-ALLDAYEVENT:TRUE
DTSTART;TZID=Europe/Zurich;VALUE=DATE:20260611
END:VEVENT
END:VCALENDAR