BEGIN:VCALENDAR
VERSION:2.0
PRODID:spatie/icalendar-generator
NAME:Präqualifikation für einstufiger Projektwettbewerb für Generalplane
 r LebensRaum Klingnau
X-WR-CALNAME:Präqualifikation für einstufiger Projektwettbewerb für Gene
 ralplaner LebensRaum Klingnau
BEGIN:VTIMEZONE
TZID:Europe/Zurich
BEGIN:STANDARD
DTSTART:20251026T030000
TZOFFSETFROM:+0200
TZOFFSETTO:+0100
END:STANDARD
BEGIN:DAYLIGHT
DTSTART:20260329T010000
TZOFFSETFROM:+0100
TZOFFSETTO:+0200
END:DAYLIGHT
BEGIN:STANDARD
DTSTART:20261025T030000
TZOFFSETFROM:+0200
TZOFFSETTO:+0100
END:STANDARD
BEGIN:DAYLIGHT
DTSTART:20270328T010000
TZOFFSETFROM:+0100
TZOFFSETTO:+0200
END:DAYLIGHT
END:VTIMEZONE
BEGIN:VTIMEZONE
TZID:UTC
BEGIN:STANDARD
DTSTART:20250728T154915
TZOFFSETFROM:+0000
TZOFFSETTO:+0000
END:STANDARD
END:VTIMEZONE
BEGIN:VEVENT
UID:69eb90fb9fede
DTSTAMP:20260424T154915Z
SUMMARY:KONKURADO: Präqualifikation für einstufiger Projektwettbewerb fü
 r Generalplaner LebensRaum Klingnau\, Einreichen des Teilnahmeantrags 01.0
 6.2026 - 01.06.2026
DESCRIPTION:Link zum Verfahren: https://konkurado.ch/it/praqualifikation-fu
 r-einstufiger-projektwettbewerb-fur-generalplaner-lebensraum-klingnau
X-MICROSOFT-CDO-ALLDAYEVENT:TRUE
DTSTART;TZID=Europe/Zurich;VALUE=DATE:20260601
END:VEVENT
BEGIN:VEVENT
UID:69eb90fb9ff62
DTSTAMP:20260424T154915Z
SUMMARY:KONKURADO: Präqualifikation für einstufiger Projektwettbewerb fü
 r Generalplaner LebensRaum Klingnau\, Einreichen des Teilnahmeantrags 01.0
 6.2026 - 01.06.2026
DESCRIPTION:Link zum Verfahren: https://konkurado.ch/it/praqualifikation-fu
 r-einstufiger-projektwettbewerb-fur-generalplaner-lebensraum-klingnau
X-MICROSOFT-CDO-ALLDAYEVENT:TRUE
DTSTART;TZID=Europe/Zurich;VALUE=DATE:20260601
END:VEVENT
BEGIN:VEVENT
UID:69eb90fb9ffd7
DTSTAMP:20260424T154915Z
SUMMARY:KONKURADO: Präqualifikation für einstufiger Projektwettbewerb fü
 r Generalplaner LebensRaum Klingnau\, Vorgesehene Frist für die Einreichu
 ng des Angebots 29.10.2026 - 29.10.2026
DESCRIPTION:Link zum Verfahren: https://konkurado.ch/it/praqualifikation-fu
 r-einstufiger-projektwettbewerb-fur-generalplaner-lebensraum-klingnau
X-MICROSOFT-CDO-ALLDAYEVENT:TRUE
DTSTART;TZID=Europe/Zurich;VALUE=DATE:20261029
END:VEVENT
BEGIN:VEVENT
UID:69eb90fba0002
DTSTAMP:20260424T154915Z
SUMMARY:KONKURADO: Präqualifikation für einstufiger Projektwettbewerb fü
 r Generalplaner LebensRaum Klingnau\, Vorgesehene Frist für die Einreichu
 ng des Angebots 29.10.2026 - 29.10.2026
DESCRIPTION:Link zum Verfahren: https://konkurado.ch/it/praqualifikation-fu
 r-einstufiger-projektwettbewerb-fur-generalplaner-lebensraum-klingnau
X-MICROSOFT-CDO-ALLDAYEVENT:TRUE
DTSTART;TZID=Europe/Zurich;VALUE=DATE:20261029
END:VEVENT
BEGIN:VEVENT
UID:69eb90fba0063
DTSTAMP:20260424T154915Z
SUMMARY:KONKURADO: Präqualifikation für einstufiger Projektwettbewerb fü
 r Generalplaner LebensRaum Klingnau\, Start Projektwettbewerb (Obligatoris
 che  Ortsbegehung)  09.07.2026 - 09.07.2026
DESCRIPTION:Link zum Verfahren: https://konkurado.ch/it/praqualifikation-fu
 r-einstufiger-projektwettbewerb-fur-generalplaner-lebensraum-klingnau
X-MICROSOFT-CDO-ALLDAYEVENT:TRUE
DTSTART;TZID=Europe/Zurich;VALUE=DATE:20260709
END:VEVENT
BEGIN:VEVENT
UID:69eb90fba0089
DTSTAMP:20260424T154915Z
SUMMARY:KONKURADO: Präqualifikation für einstufiger Projektwettbewerb fü
 r Generalplaner LebensRaum Klingnau\, Start Projektwettbewerb (Obligatoris
 che  Ortsbegehung)  09.07.2026 - 09.07.2026
DESCRIPTION:Link zum Verfahren: https://konkurado.ch/it/praqualifikation-fu
 r-einstufiger-projektwettbewerb-fur-generalplaner-lebensraum-klingnau
X-MICROSOFT-CDO-ALLDAYEVENT:TRUE
DTSTART;TZID=Europe/Zurich;VALUE=DATE:20260709
END:VEVENT
END:VCALENDAR