BEGIN:VCALENDAR
VERSION:2.0
PRODID:spatie/icalendar-generator
NAME:Pont de la Tine + / Etudes SIA 31 à 33
X-WR-CALNAME:Pont de la Tine + / Etudes SIA 31 à 33
BEGIN:VTIMEZONE
TZID:Europe/Zurich
BEGIN:STANDARD
DTSTART:20251026T030000
TZOFFSETFROM:+0200
TZOFFSETTO:+0100
END:STANDARD
BEGIN:DAYLIGHT
DTSTART:20260329T010000
TZOFFSETFROM:+0100
TZOFFSETTO:+0200
END:DAYLIGHT
BEGIN:STANDARD
DTSTART:20261025T030000
TZOFFSETFROM:+0200
TZOFFSETTO:+0100
END:STANDARD
END:VTIMEZONE
BEGIN:VTIMEZONE
TZID:UTC
BEGIN:STANDARD
DTSTART:20250728T155332
TZOFFSETFROM:+0000
TZOFFSETTO:+0000
END:STANDARD
END:VTIMEZONE
BEGIN:VEVENT
UID:69eb91fc348f7
DTSTAMP:20260424T155332Z
SUMMARY:KONKURADO: Pont de la Tine + / Etudes SIA 31 à 33\, Session de que
 stions\, soumettre avant 30.04.2026 - 30.04.2026
DESCRIPTION:Link zum Verfahren: https://konkurado.ch/it/pont-de-la-tine-etu
 des-sia-31-a-33
X-MICROSOFT-CDO-ALLDAYEVENT:TRUE
DTSTART;TZID=Europe/Zurich;VALUE=DATE:20260430
END:VEVENT
BEGIN:VEVENT
UID:69eb91fc3497f
DTSTAMP:20260424T155332Z
SUMMARY:KONKURADO: Pont de la Tine + / Etudes SIA 31 à 33\, Session de que
 stions\, soumettre avant 30.04.2026 - 30.04.2026
DESCRIPTION:Link zum Verfahren: https://konkurado.ch/it/pont-de-la-tine-etu
 des-sia-31-a-33
X-MICROSOFT-CDO-ALLDAYEVENT:TRUE
DTSTART;TZID=Europe/Zurich;VALUE=DATE:20260430
END:VEVENT
BEGIN:VEVENT
UID:69eb91fc349fd
DTSTAMP:20260424T155332Z
SUMMARY:KONKURADO: Pont de la Tine + / Etudes SIA 31 à 33\, Soumission des
  offres 01.06.2026 - 01.06.2026
DESCRIPTION:Link zum Verfahren: https://konkurado.ch/it/pont-de-la-tine-etu
 des-sia-31-a-33
X-MICROSOFT-CDO-ALLDAYEVENT:TRUE
DTSTART;TZID=Europe/Zurich;VALUE=DATE:20260601
END:VEVENT
BEGIN:VEVENT
UID:69eb91fc34a25
DTSTAMP:20260424T155332Z
SUMMARY:KONKURADO: Pont de la Tine + / Etudes SIA 31 à 33\, Soumission des
  offres 01.06.2026 - 01.06.2026
DESCRIPTION:Link zum Verfahren: https://konkurado.ch/it/pont-de-la-tine-etu
 des-sia-31-a-33
X-MICROSOFT-CDO-ALLDAYEVENT:TRUE
DTSTART;TZID=Europe/Zurich;VALUE=DATE:20260601
END:VEVENT
BEGIN:VEVENT
UID:69eb91fc34a80
DTSTAMP:20260424T155332Z
SUMMARY:KONKURADO: Pont de la Tine + / Etudes SIA 31 à 33\, Ouverture des 
 offres 02.06.2026 - 02.06.2026
DESCRIPTION:Link zum Verfahren: https://konkurado.ch/it/pont-de-la-tine-etu
 des-sia-31-a-33
X-MICROSOFT-CDO-ALLDAYEVENT:TRUE
DTSTART;TZID=Europe/Zurich;VALUE=DATE:20260602
END:VEVENT
BEGIN:VEVENT
UID:69eb91fc34aa7
DTSTAMP:20260424T155332Z
SUMMARY:KONKURADO: Pont de la Tine + / Etudes SIA 31 à 33\, Ouverture des 
 offres 02.06.2026 - 02.06.2026
DESCRIPTION:Link zum Verfahren: https://konkurado.ch/it/pont-de-la-tine-etu
 des-sia-31-a-33
X-MICROSOFT-CDO-ALLDAYEVENT:TRUE
DTSTART;TZID=Europe/Zurich;VALUE=DATE:20260602
END:VEVENT
BEGIN:VEVENT
UID:69eb91fc34b03
DTSTAMP:20260424T155332Z
SUMMARY:KONKURADO: Pont de la Tine + / Etudes SIA 31 à 33\, Disponibilité
  des documents d’appel d’offres 14.04.2026 - 01.06.2026
DESCRIPTION:Link zum Verfahren: https://konkurado.ch/it/pont-de-la-tine-etu
 des-sia-31-a-33
X-MICROSOFT-CDO-ALLDAYEVENT:TRUE
DTSTART;TZID=Europe/Zurich;VALUE=DATE:20260414
END:VEVENT
BEGIN:VEVENT
UID:69eb91fc34b29
DTSTAMP:20260424T155332Z
SUMMARY:KONKURADO: Pont de la Tine + / Etudes SIA 31 à 33\, Disponibilité
  des documents d’appel d’offres 14.04.2026 - 01.06.2026
DESCRIPTION:Link zum Verfahren: https://konkurado.ch/it/pont-de-la-tine-etu
 des-sia-31-a-33
X-MICROSOFT-CDO-ALLDAYEVENT:TRUE
DTSTART;TZID=Europe/Zurich;VALUE=DATE:20260601
END:VEVENT
END:VCALENDAR