BEGIN:VCALENDAR
VERSION:2.0
PRODID:spatie/icalendar-generator
NAME:Neubau Wohnüberbauung Baufeld MF04 - Wolf Areal Basel
X-WR-CALNAME:Neubau Wohnüberbauung Baufeld MF04 - Wolf Areal Basel
BEGIN:VTIMEZONE
TZID:Europe/Zurich
BEGIN:STANDARD
DTSTART:20251026T030000
TZOFFSETFROM:+0200
TZOFFSETTO:+0100
END:STANDARD
BEGIN:DAYLIGHT
DTSTART:20260329T010000
TZOFFSETFROM:+0100
TZOFFSETTO:+0200
END:DAYLIGHT
BEGIN:STANDARD
DTSTART:20261025T030000
TZOFFSETFROM:+0200
TZOFFSETTO:+0100
END:STANDARD
BEGIN:DAYLIGHT
DTSTART:20270328T010000
TZOFFSETFROM:+0100
TZOFFSETTO:+0200
END:DAYLIGHT
END:VTIMEZONE
BEGIN:VTIMEZONE
TZID:UTC
BEGIN:STANDARD
DTSTART:20250728T161444
TZOFFSETFROM:+0000
TZOFFSETTO:+0000
END:STANDARD
END:VTIMEZONE
BEGIN:VEVENT
UID:69eb96f4426da
DTSTAMP:20260424T161444Z
SUMMARY:KONKURADO: Neubau Wohnüberbauung Baufeld MF04 - Wolf Areal Basel\,
  Bewerbung Präqualifikation 05.05.2026 - 05.05.2026
DESCRIPTION:Link zum Verfahren: https://konkurado.ch/it/neubau-wohnuberbauu
 ng-baufeld-mf04-wolf-areal-basel
X-MICROSOFT-CDO-ALLDAYEVENT:TRUE
DTSTART;TZID=Europe/Zurich;VALUE=DATE:20260505
END:VEVENT
BEGIN:VEVENT
UID:69eb96f442747
DTSTAMP:20260424T161444Z
SUMMARY:KONKURADO: Neubau Wohnüberbauung Baufeld MF04 - Wolf Areal Basel\,
  Bewerbung Präqualifikation 05.05.2026 - 05.05.2026
DESCRIPTION:Link zum Verfahren: https://konkurado.ch/it/neubau-wohnuberbauu
 ng-baufeld-mf04-wolf-areal-basel
X-MICROSOFT-CDO-ALLDAYEVENT:TRUE
DTSTART;TZID=Europe/Zurich;VALUE=DATE:20260505
END:VEVENT
BEGIN:VEVENT
UID:69eb96f4427d4
DTSTAMP:20260424T161444Z
SUMMARY:KONKURADO: Neubau Wohnüberbauung Baufeld MF04 - Wolf Areal Basel\,
  Abgabe Pläne 18.09.2026 - 18.09.2026
DESCRIPTION:Link zum Verfahren: https://konkurado.ch/it/neubau-wohnuberbauu
 ng-baufeld-mf04-wolf-areal-basel
X-MICROSOFT-CDO-ALLDAYEVENT:TRUE
DTSTART;TZID=Europe/Zurich;VALUE=DATE:20260918
END:VEVENT
BEGIN:VEVENT
UID:69eb96f442816
DTSTAMP:20260424T161444Z
SUMMARY:KONKURADO: Neubau Wohnüberbauung Baufeld MF04 - Wolf Areal Basel\,
  Abgabe Pläne 18.09.2026 - 18.09.2026
DESCRIPTION:Link zum Verfahren: https://konkurado.ch/it/neubau-wohnuberbauu
 ng-baufeld-mf04-wolf-areal-basel
X-MICROSOFT-CDO-ALLDAYEVENT:TRUE
DTSTART;TZID=Europe/Zurich;VALUE=DATE:20260918
END:VEVENT
BEGIN:VEVENT
UID:69eb96f44284e
DTSTAMP:20260424T161444Z
SUMMARY:KONKURADO: Neubau Wohnüberbauung Baufeld MF04 - Wolf Areal Basel\,
  Abgabe Modell 02.10.2026 - 02.10.2026
DESCRIPTION:Link zum Verfahren: https://konkurado.ch/it/neubau-wohnuberbauu
 ng-baufeld-mf04-wolf-areal-basel
X-MICROSOFT-CDO-ALLDAYEVENT:TRUE
DTSTART;TZID=Europe/Zurich;VALUE=DATE:20261002
END:VEVENT
BEGIN:VEVENT
UID:69eb96f442875
DTSTAMP:20260424T161444Z
SUMMARY:KONKURADO: Neubau Wohnüberbauung Baufeld MF04 - Wolf Areal Basel\,
  Abgabe Modell 02.10.2026 - 02.10.2026
DESCRIPTION:Link zum Verfahren: https://konkurado.ch/it/neubau-wohnuberbauu
 ng-baufeld-mf04-wolf-areal-basel
X-MICROSOFT-CDO-ALLDAYEVENT:TRUE
DTSTART;TZID=Europe/Zurich;VALUE=DATE:20261002
END:VEVENT
END:VCALENDAR