BEGIN:VCALENDAR
VERSION:2.0
PRODID:spatie/icalendar-generator
NAME:Neubau Hallenbad und Sportanlagen\, Stadt Zug
X-WR-CALNAME:Neubau Hallenbad und Sportanlagen\, Stadt Zug
BEGIN:VTIMEZONE
TZID:Europe/Zurich
BEGIN:STANDARD
DTSTART:20251026T030000
TZOFFSETFROM:+0200
TZOFFSETTO:+0100
END:STANDARD
BEGIN:DAYLIGHT
DTSTART:20260329T010000
TZOFFSETFROM:+0100
TZOFFSETTO:+0200
END:DAYLIGHT
BEGIN:STANDARD
DTSTART:20261025T030000
TZOFFSETFROM:+0200
TZOFFSETTO:+0100
END:STANDARD
BEGIN:DAYLIGHT
DTSTART:20270328T010000
TZOFFSETFROM:+0100
TZOFFSETTO:+0200
END:DAYLIGHT
END:VTIMEZONE
BEGIN:VTIMEZONE
TZID:UTC
BEGIN:STANDARD
DTSTART:20250728T155136
TZOFFSETFROM:+0000
TZOFFSETTO:+0000
END:STANDARD
END:VTIMEZONE
BEGIN:VEVENT
UID:69eb9188ebbbe
DTSTAMP:20260424T155136Z
SUMMARY:KONKURADO: Neubau Hallenbad und Sportanlagen\, Stadt Zug\, Einreich
 en des Teilnahmeantrags 13.05.2026 - 13.05.2026
DESCRIPTION:Link zum Verfahren: https://konkurado.ch/it/neubau-hallenbad-un
 d-sportanlagen-stadt-zug
X-MICROSOFT-CDO-ALLDAYEVENT:TRUE
DTSTART;TZID=Europe/Zurich;VALUE=DATE:20260513
END:VEVENT
BEGIN:VEVENT
UID:69eb9188ebc48
DTSTAMP:20260424T155136Z
SUMMARY:KONKURADO: Neubau Hallenbad und Sportanlagen\, Stadt Zug\, Einreich
 en des Teilnahmeantrags 13.05.2026 - 13.05.2026
DESCRIPTION:Link zum Verfahren: https://konkurado.ch/it/neubau-hallenbad-un
 d-sportanlagen-stadt-zug
X-MICROSOFT-CDO-ALLDAYEVENT:TRUE
DTSTART;TZID=Europe/Zurich;VALUE=DATE:20260513
END:VEVENT
BEGIN:VEVENT
UID:69eb9188ebcbb
DTSTAMP:20260424T155136Z
SUMMARY:KONKURADO: Neubau Hallenbad und Sportanlagen\, Stadt Zug\, Einreich
 ung des Projektbeitrags bis 19.11.2026 - 19.11.2026
DESCRIPTION:Link zum Verfahren: https://konkurado.ch/it/neubau-hallenbad-un
 d-sportanlagen-stadt-zug
X-MICROSOFT-CDO-ALLDAYEVENT:TRUE
DTSTART;TZID=Europe/Zurich;VALUE=DATE:20261119
END:VEVENT
BEGIN:VEVENT
UID:69eb9188ebce3
DTSTAMP:20260424T155136Z
SUMMARY:KONKURADO: Neubau Hallenbad und Sportanlagen\, Stadt Zug\, Einreich
 ung des Projektbeitrags bis 19.11.2026 - 19.11.2026
DESCRIPTION:Link zum Verfahren: https://konkurado.ch/it/neubau-hallenbad-un
 d-sportanlagen-stadt-zug
X-MICROSOFT-CDO-ALLDAYEVENT:TRUE
DTSTART;TZID=Europe/Zurich;VALUE=DATE:20261119
END:VEVENT
END:VCALENDAR