BEGIN:VCALENDAR
VERSION:2.0
PRODID:spatie/icalendar-generator
NAME:N09.48 MP-080010 - Upn.Vennes-Chexbres+PUN - Coordinateur sécurité p
 our le maître d'ouvrage (CSMO) - TP2 Voutages et Jonction de Vennes (ID 1
 1801)
X-WR-CALNAME:N09.48 MP-080010 - Upn.Vennes-Chexbres+PUN - Coordinateur séc
 urité pour le maître d'ouvrage (CSMO) - TP2 Voutages et Jonction de Venn
 es (ID 11801)
BEGIN:VTIMEZONE
TZID:Europe/Zurich
BEGIN:STANDARD
DTSTART:20251026T030000
TZOFFSETFROM:+0200
TZOFFSETTO:+0100
END:STANDARD
BEGIN:DAYLIGHT
DTSTART:20260329T010000
TZOFFSETFROM:+0100
TZOFFSETTO:+0200
END:DAYLIGHT
BEGIN:STANDARD
DTSTART:20261025T030000
TZOFFSETFROM:+0200
TZOFFSETTO:+0100
END:STANDARD
END:VTIMEZONE
BEGIN:VTIMEZONE
TZID:UTC
BEGIN:STANDARD
DTSTART:20250728T161230
TZOFFSETFROM:+0000
TZOFFSETTO:+0000
END:STANDARD
END:VTIMEZONE
BEGIN:VEVENT
UID:69eb966e10cfb
DTSTAMP:20260424T161230Z
SUMMARY:KONKURADO: N09.48 MP-080010 - Upn.Vennes-Chexbres+PUN - Coordinateu
 r sécurité pour le maître d'ouvrage (CSMO) - TP2 Voutages et Jonction d
 e Vennes (ID 11801)\, Session de questions\, soumettre avant 15.05.2026 - 
 15.05.2026
DESCRIPTION:Link zum Verfahren: https://konkurado.ch/it/n0948-mp-080010-upn
 vennes-chexbrespun-coordinateur-securite-pour-le-maitre-douvrage-csmo-tp2-
 voutages-et-jonction-de-vennes-id-11801
X-MICROSOFT-CDO-ALLDAYEVENT:TRUE
DTSTART;TZID=Europe/Zurich;VALUE=DATE:20260515
END:VEVENT
BEGIN:VEVENT
UID:69eb966e10dc2
DTSTAMP:20260424T161230Z
SUMMARY:KONKURADO: N09.48 MP-080010 - Upn.Vennes-Chexbres+PUN - Coordinateu
 r sécurité pour le maître d'ouvrage (CSMO) - TP2 Voutages et Jonction d
 e Vennes (ID 11801)\, Session de questions\, soumettre avant 15.05.2026 - 
 15.05.2026
DESCRIPTION:Link zum Verfahren: https://konkurado.ch/it/n0948-mp-080010-upn
 vennes-chexbrespun-coordinateur-securite-pour-le-maitre-douvrage-csmo-tp2-
 voutages-et-jonction-de-vennes-id-11801
X-MICROSOFT-CDO-ALLDAYEVENT:TRUE
DTSTART;TZID=Europe/Zurich;VALUE=DATE:20260515
END:VEVENT
BEGIN:VEVENT
UID:69eb966e10e79
DTSTAMP:20260424T161230Z
SUMMARY:KONKURADO: N09.48 MP-080010 - Upn.Vennes-Chexbres+PUN - Coordinateu
 r sécurité pour le maître d'ouvrage (CSMO) - TP2 Voutages et Jonction d
 e Vennes (ID 11801)\, Soumission des offres 15.06.2026 - 15.06.2026
DESCRIPTION:Link zum Verfahren: https://konkurado.ch/it/n0948-mp-080010-upn
 vennes-chexbrespun-coordinateur-securite-pour-le-maitre-douvrage-csmo-tp2-
 voutages-et-jonction-de-vennes-id-11801
X-MICROSOFT-CDO-ALLDAYEVENT:TRUE
DTSTART;TZID=Europe/Zurich;VALUE=DATE:20260615
END:VEVENT
BEGIN:VEVENT
UID:69eb966e10ec7
DTSTAMP:20260424T161230Z
SUMMARY:KONKURADO: N09.48 MP-080010 - Upn.Vennes-Chexbres+PUN - Coordinateu
 r sécurité pour le maître d'ouvrage (CSMO) - TP2 Voutages et Jonction d
 e Vennes (ID 11801)\, Soumission des offres 15.06.2026 - 15.06.2026
DESCRIPTION:Link zum Verfahren: https://konkurado.ch/it/n0948-mp-080010-upn
 vennes-chexbrespun-coordinateur-securite-pour-le-maitre-douvrage-csmo-tp2-
 voutages-et-jonction-de-vennes-id-11801
X-MICROSOFT-CDO-ALLDAYEVENT:TRUE
DTSTART;TZID=Europe/Zurich;VALUE=DATE:20260615
END:VEVENT
BEGIN:VEVENT
UID:69eb966e10f5f
DTSTAMP:20260424T161230Z
SUMMARY:KONKURADO: N09.48 MP-080010 - Upn.Vennes-Chexbres+PUN - Coordinateu
 r sécurité pour le maître d'ouvrage (CSMO) - TP2 Voutages et Jonction d
 e Vennes (ID 11801)\, Disponibilité des documents d’appel d’offres 24
 .04.2026 - 15.06.2026
DESCRIPTION:Link zum Verfahren: https://konkurado.ch/it/n0948-mp-080010-upn
 vennes-chexbrespun-coordinateur-securite-pour-le-maitre-douvrage-csmo-tp2-
 voutages-et-jonction-de-vennes-id-11801
X-MICROSOFT-CDO-ALLDAYEVENT:TRUE
DTSTART;TZID=Europe/Zurich;VALUE=DATE:20260424
END:VEVENT
BEGIN:VEVENT
UID:69eb966e10fac
DTSTAMP:20260424T161230Z
SUMMARY:KONKURADO: N09.48 MP-080010 - Upn.Vennes-Chexbres+PUN - Coordinateu
 r sécurité pour le maître d'ouvrage (CSMO) - TP2 Voutages et Jonction d
 e Vennes (ID 11801)\, Disponibilité des documents d’appel d’offres 24
 .04.2026 - 15.06.2026
DESCRIPTION:Link zum Verfahren: https://konkurado.ch/it/n0948-mp-080010-upn
 vennes-chexbrespun-coordinateur-securite-pour-le-maitre-douvrage-csmo-tp2-
 voutages-et-jonction-de-vennes-id-11801
X-MICROSOFT-CDO-ALLDAYEVENT:TRUE
DTSTART;TZID=Europe/Zurich;VALUE=DATE:20260615
END:VEVENT
END:VCALENDAR