BEGIN:VCALENDAR
VERSION:2.0
PRODID:spatie/icalendar-generator
NAME:MP-090199\, N03/60 Vollausbau Anschluss Schindellegi\; PV Umwelt Phase
 n AP/DP
X-WR-CALNAME:MP-090199\, N03/60 Vollausbau Anschluss Schindellegi\; PV Umwe
 lt Phasen AP/DP
BEGIN:VTIMEZONE
TZID:Europe/Zurich
BEGIN:STANDARD
DTSTART:20251026T030000
TZOFFSETFROM:+0200
TZOFFSETTO:+0100
END:STANDARD
BEGIN:DAYLIGHT
DTSTART:20260329T010000
TZOFFSETFROM:+0100
TZOFFSETTO:+0200
END:DAYLIGHT
BEGIN:STANDARD
DTSTART:20261025T030000
TZOFFSETFROM:+0200
TZOFFSETTO:+0100
END:STANDARD
END:VTIMEZONE
BEGIN:VTIMEZONE
TZID:UTC
BEGIN:STANDARD
DTSTART:20250728T154813
TZOFFSETFROM:+0000
TZOFFSETTO:+0000
END:STANDARD
END:VTIMEZONE
BEGIN:VEVENT
UID:69eb90bd884ae
DTSTAMP:20260424T154813Z
SUMMARY:KONKURADO: MP-090199\, N03/60 Vollausbau Anschluss Schindellegi\; P
 V Umwelt Phasen AP/DP\, Einreichung von Fragen bis 07.05.2026 - 07.05.2026
DESCRIPTION:Link zum Verfahren: https://konkurado.ch/it/mp-090199-n0360-vol
 lausbau-anschluss-schindellegi-pv-umwelt-phasen-apdp
X-MICROSOFT-CDO-ALLDAYEVENT:TRUE
DTSTART;TZID=Europe/Zurich;VALUE=DATE:20260507
END:VEVENT
BEGIN:VEVENT
UID:69eb90bd88540
DTSTAMP:20260424T154813Z
SUMMARY:KONKURADO: MP-090199\, N03/60 Vollausbau Anschluss Schindellegi\; P
 V Umwelt Phasen AP/DP\, Einreichung von Fragen bis 07.05.2026 - 07.05.2026
DESCRIPTION:Link zum Verfahren: https://konkurado.ch/it/mp-090199-n0360-vol
 lausbau-anschluss-schindellegi-pv-umwelt-phasen-apdp
X-MICROSOFT-CDO-ALLDAYEVENT:TRUE
DTSTART;TZID=Europe/Zurich;VALUE=DATE:20260507
END:VEVENT
BEGIN:VEVENT
UID:69eb90bd885ba
DTSTAMP:20260424T154813Z
SUMMARY:KONKURADO: MP-090199\, N03/60 Vollausbau Anschluss Schindellegi\; P
 V Umwelt Phasen AP/DP\, Einreichung von Angeboten bis 17.06.2026 - 17.06.2
 026
DESCRIPTION:Link zum Verfahren: https://konkurado.ch/it/mp-090199-n0360-vol
 lausbau-anschluss-schindellegi-pv-umwelt-phasen-apdp
X-MICROSOFT-CDO-ALLDAYEVENT:TRUE
DTSTART;TZID=Europe/Zurich;VALUE=DATE:20260617
END:VEVENT
BEGIN:VEVENT
UID:69eb90bd885e2
DTSTAMP:20260424T154813Z
SUMMARY:KONKURADO: MP-090199\, N03/60 Vollausbau Anschluss Schindellegi\; P
 V Umwelt Phasen AP/DP\, Einreichung von Angeboten bis 17.06.2026 - 17.06.2
 026
DESCRIPTION:Link zum Verfahren: https://konkurado.ch/it/mp-090199-n0360-vol
 lausbau-anschluss-schindellegi-pv-umwelt-phasen-apdp
X-MICROSOFT-CDO-ALLDAYEVENT:TRUE
DTSTART;TZID=Europe/Zurich;VALUE=DATE:20260617
END:VEVENT
BEGIN:VEVENT
UID:69eb90bd88642
DTSTAMP:20260424T154813Z
SUMMARY:KONKURADO: MP-090199\, N03/60 Vollausbau Anschluss Schindellegi\; P
 V Umwelt Phasen AP/DP\, Offertöffnung 24.06.2026 - 24.06.2026
DESCRIPTION:Link zum Verfahren: https://konkurado.ch/it/mp-090199-n0360-vol
 lausbau-anschluss-schindellegi-pv-umwelt-phasen-apdp
X-MICROSOFT-CDO-ALLDAYEVENT:TRUE
DTSTART;TZID=Europe/Zurich;VALUE=DATE:20260624
END:VEVENT
BEGIN:VEVENT
UID:69eb90bd88672
DTSTAMP:20260424T154813Z
SUMMARY:KONKURADO: MP-090199\, N03/60 Vollausbau Anschluss Schindellegi\; P
 V Umwelt Phasen AP/DP\, Offertöffnung 24.06.2026 - 24.06.2026
DESCRIPTION:Link zum Verfahren: https://konkurado.ch/it/mp-090199-n0360-vol
 lausbau-anschluss-schindellegi-pv-umwelt-phasen-apdp
X-MICROSOFT-CDO-ALLDAYEVENT:TRUE
DTSTART;TZID=Europe/Zurich;VALUE=DATE:20260624
END:VEVENT
END:VCALENDAR