BEGIN:VCALENDAR
VERSION:2.0
PRODID:spatie/icalendar-generator
NAME:Modélisation physique hydraulique des ouvrages de la Drize – Secteu
 r route de Saint-Julien (PAV)
X-WR-CALNAME:Modélisation physique hydraulique des ouvrages de la Drize 
 – Secteur route de Saint-Julien (PAV)
BEGIN:VTIMEZONE
TZID:Europe/Zurich
BEGIN:STANDARD
DTSTART:20251026T030000
TZOFFSETFROM:+0200
TZOFFSETTO:+0100
END:STANDARD
BEGIN:DAYLIGHT
DTSTART:20260329T010000
TZOFFSETFROM:+0100
TZOFFSETTO:+0200
END:DAYLIGHT
BEGIN:STANDARD
DTSTART:20261025T030000
TZOFFSETFROM:+0200
TZOFFSETTO:+0100
END:STANDARD
END:VTIMEZONE
BEGIN:VTIMEZONE
TZID:UTC
BEGIN:STANDARD
DTSTART:20250728T154753
TZOFFSETFROM:+0000
TZOFFSETTO:+0000
END:STANDARD
END:VTIMEZONE
BEGIN:VEVENT
UID:69eb90a93a2ed
DTSTAMP:20260424T154753Z
SUMMARY:KONKURADO: Modélisation physique hydraulique des ouvrages de la Dr
 ize – Secteur route de Saint-Julien (PAV)\, Session de questions\, soume
 ttre avant 30.04.2026 - 30.04.2026
DESCRIPTION:Link zum Verfahren: https://konkurado.ch/it/modelisation-physiq
 ue-hydraulique-des-ouvrages-de-la-drize-secteur-route-de-saint-julien-pav
X-MICROSOFT-CDO-ALLDAYEVENT:TRUE
DTSTART;TZID=Europe/Zurich;VALUE=DATE:20260430
END:VEVENT
BEGIN:VEVENT
UID:69eb90a93a367
DTSTAMP:20260424T154753Z
SUMMARY:KONKURADO: Modélisation physique hydraulique des ouvrages de la Dr
 ize – Secteur route de Saint-Julien (PAV)\, Session de questions\, soume
 ttre avant 30.04.2026 - 30.04.2026
DESCRIPTION:Link zum Verfahren: https://konkurado.ch/it/modelisation-physiq
 ue-hydraulique-des-ouvrages-de-la-drize-secteur-route-de-saint-julien-pav
X-MICROSOFT-CDO-ALLDAYEVENT:TRUE
DTSTART;TZID=Europe/Zurich;VALUE=DATE:20260430
END:VEVENT
BEGIN:VEVENT
UID:69eb90a93a3d8
DTSTAMP:20260424T154753Z
SUMMARY:KONKURADO: Modélisation physique hydraulique des ouvrages de la Dr
 ize – Secteur route de Saint-Julien (PAV)\, Soumission des offres 21.05.
 2026 - 21.05.2026
DESCRIPTION:Link zum Verfahren: https://konkurado.ch/it/modelisation-physiq
 ue-hydraulique-des-ouvrages-de-la-drize-secteur-route-de-saint-julien-pav
X-MICROSOFT-CDO-ALLDAYEVENT:TRUE
DTSTART;TZID=Europe/Zurich;VALUE=DATE:20260521
END:VEVENT
BEGIN:VEVENT
UID:69eb90a93a400
DTSTAMP:20260424T154753Z
SUMMARY:KONKURADO: Modélisation physique hydraulique des ouvrages de la Dr
 ize – Secteur route de Saint-Julien (PAV)\, Soumission des offres 21.05.
 2026 - 21.05.2026
DESCRIPTION:Link zum Verfahren: https://konkurado.ch/it/modelisation-physiq
 ue-hydraulique-des-ouvrages-de-la-drize-secteur-route-de-saint-julien-pav
X-MICROSOFT-CDO-ALLDAYEVENT:TRUE
DTSTART;TZID=Europe/Zurich;VALUE=DATE:20260521
END:VEVENT
BEGIN:VEVENT
UID:69eb90a93a458
DTSTAMP:20260424T154753Z
SUMMARY:KONKURADO: Modélisation physique hydraulique des ouvrages de la Dr
 ize – Secteur route de Saint-Julien (PAV)\, Ouverture des offres 21.05.2
 026 - 21.05.2026
DESCRIPTION:Link zum Verfahren: https://konkurado.ch/it/modelisation-physiq
 ue-hydraulique-des-ouvrages-de-la-drize-secteur-route-de-saint-julien-pav
X-MICROSOFT-CDO-ALLDAYEVENT:TRUE
DTSTART;TZID=Europe/Zurich;VALUE=DATE:20260521
END:VEVENT
BEGIN:VEVENT
UID:69eb90a93a47f
DTSTAMP:20260424T154753Z
SUMMARY:KONKURADO: Modélisation physique hydraulique des ouvrages de la Dr
 ize – Secteur route de Saint-Julien (PAV)\, Ouverture des offres 21.05.2
 026 - 21.05.2026
DESCRIPTION:Link zum Verfahren: https://konkurado.ch/it/modelisation-physiq
 ue-hydraulique-des-ouvrages-de-la-drize-secteur-route-de-saint-julien-pav
X-MICROSOFT-CDO-ALLDAYEVENT:TRUE
DTSTART;TZID=Europe/Zurich;VALUE=DATE:20260521
END:VEVENT
BEGIN:VEVENT
UID:69eb90a93a4db
DTSTAMP:20260424T154753Z
SUMMARY:KONKURADO: Modélisation physique hydraulique des ouvrages de la Dr
 ize – Secteur route de Saint-Julien (PAV)\, Disponibilité des documents
  d’appel d’offres 21.04.2026 - 21.05.2026
DESCRIPTION:Link zum Verfahren: https://konkurado.ch/it/modelisation-physiq
 ue-hydraulique-des-ouvrages-de-la-drize-secteur-route-de-saint-julien-pav
X-MICROSOFT-CDO-ALLDAYEVENT:TRUE
DTSTART;TZID=Europe/Zurich;VALUE=DATE:20260421
END:VEVENT
BEGIN:VEVENT
UID:69eb90a93a50d
DTSTAMP:20260424T154753Z
SUMMARY:KONKURADO: Modélisation physique hydraulique des ouvrages de la Dr
 ize – Secteur route de Saint-Julien (PAV)\, Disponibilité des documents
  d’appel d’offres 21.04.2026 - 21.05.2026
DESCRIPTION:Link zum Verfahren: https://konkurado.ch/it/modelisation-physiq
 ue-hydraulique-des-ouvrages-de-la-drize-secteur-route-de-saint-julien-pav
X-MICROSOFT-CDO-ALLDAYEVENT:TRUE
DTSTART;TZID=Europe/Zurich;VALUE=DATE:20260521
END:VEVENT
BEGIN:VEVENT
UID:69eb90a93a560
DTSTAMP:20260424T154753Z
SUMMARY:KONKURADO: Modélisation physique hydraulique des ouvrages de la Dr
 ize – Secteur route de Saint-Julien (PAV)\, Visite sur place 28.04.2026 
 - 28.04.2026
DESCRIPTION:Link zum Verfahren: https://konkurado.ch/it/modelisation-physiq
 ue-hydraulique-des-ouvrages-de-la-drize-secteur-route-de-saint-julien-pav
X-MICROSOFT-CDO-ALLDAYEVENT:TRUE
DTSTART;TZID=Europe/Zurich;VALUE=DATE:20260428
END:VEVENT
BEGIN:VEVENT
UID:69eb90a93a58b
DTSTAMP:20260424T154753Z
SUMMARY:KONKURADO: Modélisation physique hydraulique des ouvrages de la Dr
 ize – Secteur route de Saint-Julien (PAV)\, Visite sur place 28.04.2026 
 - 28.04.2026
DESCRIPTION:Link zum Verfahren: https://konkurado.ch/it/modelisation-physiq
 ue-hydraulique-des-ouvrages-de-la-drize-secteur-route-de-saint-julien-pav
X-MICROSOFT-CDO-ALLDAYEVENT:TRUE
DTSTART;TZID=Europe/Zurich;VALUE=DATE:20260428
END:VEVENT
END:VCALENDAR