BEGIN:VCALENDAR
VERSION:2.0
PRODID:spatie/icalendar-generator
NAME:Laufen - Neubau Naubrücke / Teilobjekt Stützmauer SBB
X-WR-CALNAME:Laufen - Neubau Naubrücke / Teilobjekt Stützmauer SBB
BEGIN:VTIMEZONE
TZID:Europe/Zurich
BEGIN:STANDARD
DTSTART:20251026T030000
TZOFFSETFROM:+0200
TZOFFSETTO:+0100
END:STANDARD
BEGIN:DAYLIGHT
DTSTART:20260329T010000
TZOFFSETFROM:+0100
TZOFFSETTO:+0200
END:DAYLIGHT
BEGIN:STANDARD
DTSTART:20261025T030000
TZOFFSETFROM:+0200
TZOFFSETTO:+0100
END:STANDARD
END:VTIMEZONE
BEGIN:VTIMEZONE
TZID:UTC
BEGIN:STANDARD
DTSTART:20250728T155332
TZOFFSETFROM:+0000
TZOFFSETTO:+0000
END:STANDARD
END:VTIMEZONE
BEGIN:VEVENT
UID:69eb91fcabc6b
DTSTAMP:20260424T155332Z
SUMMARY:KONKURADO: Laufen - Neubau Naubrücke / Teilobjekt Stützmauer SBB\
 , Einreichung von Fragen bis 23.04.2026 - 23.04.2026
DESCRIPTION:Link zum Verfahren: https://konkurado.ch/it/laufen-neubau-naubr
 ucke-teilobjekt-stutzmauer-sbb
X-MICROSOFT-CDO-ALLDAYEVENT:TRUE
DTSTART;TZID=Europe/Zurich;VALUE=DATE:20260423
END:VEVENT
BEGIN:VEVENT
UID:69eb91fcabd2a
DTSTAMP:20260424T155332Z
SUMMARY:KONKURADO: Laufen - Neubau Naubrücke / Teilobjekt Stützmauer SBB\
 , Einreichung von Fragen bis 23.04.2026 - 23.04.2026
DESCRIPTION:Link zum Verfahren: https://konkurado.ch/it/laufen-neubau-naubr
 ucke-teilobjekt-stutzmauer-sbb
X-MICROSOFT-CDO-ALLDAYEVENT:TRUE
DTSTART;TZID=Europe/Zurich;VALUE=DATE:20260423
END:VEVENT
BEGIN:VEVENT
UID:69eb91fcabdfb
DTSTAMP:20260424T155332Z
SUMMARY:KONKURADO: Laufen - Neubau Naubrücke / Teilobjekt Stützmauer SBB\
 , Einreichung von Angeboten bis 07.05.2026 - 07.05.2026
DESCRIPTION:Link zum Verfahren: https://konkurado.ch/it/laufen-neubau-naubr
 ucke-teilobjekt-stutzmauer-sbb
X-MICROSOFT-CDO-ALLDAYEVENT:TRUE
DTSTART;TZID=Europe/Zurich;VALUE=DATE:20260507
END:VEVENT
BEGIN:VEVENT
UID:69eb91fcabe41
DTSTAMP:20260424T155332Z
SUMMARY:KONKURADO: Laufen - Neubau Naubrücke / Teilobjekt Stützmauer SBB\
 , Einreichung von Angeboten bis 07.05.2026 - 07.05.2026
DESCRIPTION:Link zum Verfahren: https://konkurado.ch/it/laufen-neubau-naubr
 ucke-teilobjekt-stutzmauer-sbb
X-MICROSOFT-CDO-ALLDAYEVENT:TRUE
DTSTART;TZID=Europe/Zurich;VALUE=DATE:20260507
END:VEVENT
BEGIN:VEVENT
UID:69eb91fcabee4
DTSTAMP:20260424T155332Z
SUMMARY:KONKURADO: Laufen - Neubau Naubrücke / Teilobjekt Stützmauer SBB\
 , Offertöffnung 08.05.2026 - 08.05.2026
DESCRIPTION:Link zum Verfahren: https://konkurado.ch/it/laufen-neubau-naubr
 ucke-teilobjekt-stutzmauer-sbb
X-MICROSOFT-CDO-ALLDAYEVENT:TRUE
DTSTART;TZID=Europe/Zurich;VALUE=DATE:20260508
END:VEVENT
BEGIN:VEVENT
UID:69eb91fcabf28
DTSTAMP:20260424T155332Z
SUMMARY:KONKURADO: Laufen - Neubau Naubrücke / Teilobjekt Stützmauer SBB\
 , Offertöffnung 08.05.2026 - 08.05.2026
DESCRIPTION:Link zum Verfahren: https://konkurado.ch/it/laufen-neubau-naubr
 ucke-teilobjekt-stutzmauer-sbb
X-MICROSOFT-CDO-ALLDAYEVENT:TRUE
DTSTART;TZID=Europe/Zurich;VALUE=DATE:20260508
END:VEVENT
END:VCALENDAR