BEGIN:VCALENDAR
VERSION:2.0
PRODID:spatie/icalendar-generator
NAME:Geomatico del Committente Linea FLP Lugano – Ponte Tresa. Prestazion
 i da geomatico (GEO).
X-WR-CALNAME:Geomatico del Committente Linea FLP Lugano – Ponte Tresa. Pr
 estazioni da geomatico (GEO).
BEGIN:VTIMEZONE
TZID:Europe/Zurich
BEGIN:STANDARD
DTSTART:20251026T030000
TZOFFSETFROM:+0200
TZOFFSETTO:+0100
END:STANDARD
BEGIN:DAYLIGHT
DTSTART:20260329T010000
TZOFFSETFROM:+0100
TZOFFSETTO:+0200
END:DAYLIGHT
BEGIN:STANDARD
DTSTART:20261025T030000
TZOFFSETFROM:+0200
TZOFFSETTO:+0100
END:STANDARD
END:VTIMEZONE
BEGIN:VTIMEZONE
TZID:UTC
BEGIN:STANDARD
DTSTART:20250728T161159
TZOFFSETFROM:+0000
TZOFFSETTO:+0000
END:STANDARD
END:VTIMEZONE
BEGIN:VEVENT
UID:69eb964f2c42d
DTSTAMP:20260424T161159Z
SUMMARY:KONKURADO: Geomatico del Committente Linea FLP Lugano – Ponte Tre
 sa. Prestazioni da geomatico (GEO).\, Presentazione di domande entro 13.05
 .2026 - 13.05.2026
DESCRIPTION:Link zum Verfahren: https://konkurado.ch/it/geomatico-del-commi
 ttente-linea-flp-lugano-ponte-tresa-prestazioni-da-geomatico-geo
X-MICROSOFT-CDO-ALLDAYEVENT:TRUE
DTSTART;TZID=Europe/Zurich;VALUE=DATE:20260513
END:VEVENT
BEGIN:VEVENT
UID:69eb964f2c4b9
DTSTAMP:20260424T161159Z
SUMMARY:KONKURADO: Geomatico del Committente Linea FLP Lugano – Ponte Tre
 sa. Prestazioni da geomatico (GEO).\, Presentazione di domande entro 13.05
 .2026 - 13.05.2026
DESCRIPTION:Link zum Verfahren: https://konkurado.ch/it/geomatico-del-commi
 ttente-linea-flp-lugano-ponte-tresa-prestazioni-da-geomatico-geo
X-MICROSOFT-CDO-ALLDAYEVENT:TRUE
DTSTART;TZID=Europe/Zurich;VALUE=DATE:20260513
END:VEVENT
BEGIN:VEVENT
UID:69eb964f2c52f
DTSTAMP:20260424T161159Z
SUMMARY:KONKURADO: Geomatico del Committente Linea FLP Lugano – Ponte Tre
 sa. Prestazioni da geomatico (GEO).\, Presentazione di offerte entro 10.06
 .2026 - 10.06.2026
DESCRIPTION:Link zum Verfahren: https://konkurado.ch/it/geomatico-del-commi
 ttente-linea-flp-lugano-ponte-tresa-prestazioni-da-geomatico-geo
X-MICROSOFT-CDO-ALLDAYEVENT:TRUE
DTSTART;TZID=Europe/Zurich;VALUE=DATE:20260610
END:VEVENT
BEGIN:VEVENT
UID:69eb964f2c55e
DTSTAMP:20260424T161159Z
SUMMARY:KONKURADO: Geomatico del Committente Linea FLP Lugano – Ponte Tre
 sa. Prestazioni da geomatico (GEO).\, Presentazione di offerte entro 10.06
 .2026 - 10.06.2026
DESCRIPTION:Link zum Verfahren: https://konkurado.ch/it/geomatico-del-commi
 ttente-linea-flp-lugano-ponte-tresa-prestazioni-da-geomatico-geo
X-MICROSOFT-CDO-ALLDAYEVENT:TRUE
DTSTART;TZID=Europe/Zurich;VALUE=DATE:20260610
END:VEVENT
BEGIN:VEVENT
UID:69eb964f2c5bb
DTSTAMP:20260424T161159Z
SUMMARY:KONKURADO: Geomatico del Committente Linea FLP Lugano – Ponte Tre
 sa. Prestazioni da geomatico (GEO).\, Apertura offerte 10.06.2026 - 10.06.
 2026
DESCRIPTION:Link zum Verfahren: https://konkurado.ch/it/geomatico-del-commi
 ttente-linea-flp-lugano-ponte-tresa-prestazioni-da-geomatico-geo
X-MICROSOFT-CDO-ALLDAYEVENT:TRUE
DTSTART;TZID=Europe/Zurich;VALUE=DATE:20260610
END:VEVENT
BEGIN:VEVENT
UID:69eb964f2c5e5
DTSTAMP:20260424T161159Z
SUMMARY:KONKURADO: Geomatico del Committente Linea FLP Lugano – Ponte Tre
 sa. Prestazioni da geomatico (GEO).\, Apertura offerte 10.06.2026 - 10.06.
 2026
DESCRIPTION:Link zum Verfahren: https://konkurado.ch/it/geomatico-del-commi
 ttente-linea-flp-lugano-ponte-tresa-prestazioni-da-geomatico-geo
X-MICROSOFT-CDO-ALLDAYEVENT:TRUE
DTSTART;TZID=Europe/Zurich;VALUE=DATE:20260610
END:VEVENT
BEGIN:VEVENT
UID:69eb964f2c63c
DTSTAMP:20260424T161159Z
SUMMARY:KONKURADO: Geomatico del Committente Linea FLP Lugano – Ponte Tre
 sa. Prestazioni da geomatico (GEO).\, Manifestazione d’interesse fino a 
 10.06.2026 - 10.06.2026
DESCRIPTION:Link zum Verfahren: https://konkurado.ch/it/geomatico-del-commi
 ttente-linea-flp-lugano-ponte-tresa-prestazioni-da-geomatico-geo
X-MICROSOFT-CDO-ALLDAYEVENT:TRUE
DTSTART;TZID=Europe/Zurich;VALUE=DATE:20260610
END:VEVENT
BEGIN:VEVENT
UID:69eb964f2c662
DTSTAMP:20260424T161159Z
SUMMARY:KONKURADO: Geomatico del Committente Linea FLP Lugano – Ponte Tre
 sa. Prestazioni da geomatico (GEO).\, Manifestazione d’interesse fino a 
 10.06.2026 - 10.06.2026
DESCRIPTION:Link zum Verfahren: https://konkurado.ch/it/geomatico-del-commi
 ttente-linea-flp-lugano-ponte-tresa-prestazioni-da-geomatico-geo
X-MICROSOFT-CDO-ALLDAYEVENT:TRUE
DTSTART;TZID=Europe/Zurich;VALUE=DATE:20260610
END:VEVENT
BEGIN:VEVENT
UID:69eb964f2c6b4
DTSTAMP:20260424T161159Z
SUMMARY:KONKURADO: Geomatico del Committente Linea FLP Lugano – Ponte Tre
 sa. Prestazioni da geomatico (GEO).\, Disponibilità dei documenti di gara
  22.04.2026 - 10.06.2026
DESCRIPTION:Link zum Verfahren: https://konkurado.ch/it/geomatico-del-commi
 ttente-linea-flp-lugano-ponte-tresa-prestazioni-da-geomatico-geo
X-MICROSOFT-CDO-ALLDAYEVENT:TRUE
DTSTART;TZID=Europe/Zurich;VALUE=DATE:20260422
END:VEVENT
BEGIN:VEVENT
UID:69eb964f2c6da
DTSTAMP:20260424T161159Z
SUMMARY:KONKURADO: Geomatico del Committente Linea FLP Lugano – Ponte Tre
 sa. Prestazioni da geomatico (GEO).\, Disponibilità dei documenti di gara
  22.04.2026 - 10.06.2026
DESCRIPTION:Link zum Verfahren: https://konkurado.ch/it/geomatico-del-commi
 ttente-linea-flp-lugano-ponte-tresa-prestazioni-da-geomatico-geo
X-MICROSOFT-CDO-ALLDAYEVENT:TRUE
DTSTART;TZID=Europe/Zurich;VALUE=DATE:20260610
END:VEVENT
END:VCALENDAR