BEGIN:VCALENDAR
VERSION:2.0
PRODID:spatie/icalendar-generator
NAME:Generalplanerleistungen - ambulatens Operationszentrum Grabengut
X-WR-CALNAME:Generalplanerleistungen - ambulatens Operationszentrum Grabeng
 ut
BEGIN:VTIMEZONE
TZID:Europe/Zurich
BEGIN:STANDARD
DTSTART:20251026T030000
TZOFFSETFROM:+0200
TZOFFSETTO:+0100
END:STANDARD
BEGIN:DAYLIGHT
DTSTART:20260329T010000
TZOFFSETFROM:+0100
TZOFFSETTO:+0200
END:DAYLIGHT
BEGIN:STANDARD
DTSTART:20261025T030000
TZOFFSETFROM:+0200
TZOFFSETTO:+0100
END:STANDARD
END:VTIMEZONE
BEGIN:VTIMEZONE
TZID:UTC
BEGIN:STANDARD
DTSTART:20250728T155325
TZOFFSETFROM:+0000
TZOFFSETTO:+0000
END:STANDARD
END:VTIMEZONE
BEGIN:VEVENT
UID:69eb91f500024
DTSTAMP:20260424T155325Z
SUMMARY:KONKURADO: Generalplanerleistungen - ambulatens Operationszentrum G
 rabengut\, Fragerunde\, einreichen bis 01.05.2026 - 01.05.2026
DESCRIPTION:Link zum Verfahren: https://konkurado.ch/it/generalplanerleistu
 ngen-ambulatens-operationszentrum-grabengut
X-MICROSOFT-CDO-ALLDAYEVENT:TRUE
DTSTART;TZID=Europe/Zurich;VALUE=DATE:20260501
END:VEVENT
BEGIN:VEVENT
UID:69eb91f5000b5
DTSTAMP:20260424T155325Z
SUMMARY:KONKURADO: Generalplanerleistungen - ambulatens Operationszentrum G
 rabengut\, Fragerunde\, einreichen bis 01.05.2026 - 01.05.2026
DESCRIPTION:Link zum Verfahren: https://konkurado.ch/it/generalplanerleistu
 ngen-ambulatens-operationszentrum-grabengut
X-MICROSOFT-CDO-ALLDAYEVENT:TRUE
DTSTART;TZID=Europe/Zurich;VALUE=DATE:20260501
END:VEVENT
BEGIN:VEVENT
UID:69eb91f500130
DTSTAMP:20260424T155325Z
SUMMARY:KONKURADO: Generalplanerleistungen - ambulatens Operationszentrum G
 rabengut\, Einreichen von Angeboten bis 01.06.2026 - 01.06.2026
DESCRIPTION:Link zum Verfahren: https://konkurado.ch/it/generalplanerleistu
 ngen-ambulatens-operationszentrum-grabengut
X-MICROSOFT-CDO-ALLDAYEVENT:TRUE
DTSTART;TZID=Europe/Zurich;VALUE=DATE:20260601
END:VEVENT
BEGIN:VEVENT
UID:69eb91f50015f
DTSTAMP:20260424T155325Z
SUMMARY:KONKURADO: Generalplanerleistungen - ambulatens Operationszentrum G
 rabengut\, Einreichen von Angeboten bis 01.06.2026 - 01.06.2026
DESCRIPTION:Link zum Verfahren: https://konkurado.ch/it/generalplanerleistu
 ngen-ambulatens-operationszentrum-grabengut
X-MICROSOFT-CDO-ALLDAYEVENT:TRUE
DTSTART;TZID=Europe/Zurich;VALUE=DATE:20260601
END:VEVENT
BEGIN:VEVENT
UID:69eb91f5001d5
DTSTAMP:20260424T155325Z
SUMMARY:KONKURADO: Generalplanerleistungen - ambulatens Operationszentrum G
 rabengut\, Interessensbekundung bis 01.06.2026 - 01.06.2026
DESCRIPTION:Link zum Verfahren: https://konkurado.ch/it/generalplanerleistu
 ngen-ambulatens-operationszentrum-grabengut
X-MICROSOFT-CDO-ALLDAYEVENT:TRUE
DTSTART;TZID=Europe/Zurich;VALUE=DATE:20260601
END:VEVENT
BEGIN:VEVENT
UID:69eb91f5001fc
DTSTAMP:20260424T155325Z
SUMMARY:KONKURADO: Generalplanerleistungen - ambulatens Operationszentrum G
 rabengut\, Interessensbekundung bis 01.06.2026 - 01.06.2026
DESCRIPTION:Link zum Verfahren: https://konkurado.ch/it/generalplanerleistu
 ngen-ambulatens-operationszentrum-grabengut
X-MICROSOFT-CDO-ALLDAYEVENT:TRUE
DTSTART;TZID=Europe/Zurich;VALUE=DATE:20260601
END:VEVENT
BEGIN:VEVENT
UID:69eb91f500252
DTSTAMP:20260424T155325Z
SUMMARY:KONKURADO: Generalplanerleistungen - ambulatens Operationszentrum G
 rabengut\, Verfügbarkeit der Ausschreibungsunterlagen 17.04.2026 - 01.06.
 2026
DESCRIPTION:Link zum Verfahren: https://konkurado.ch/it/generalplanerleistu
 ngen-ambulatens-operationszentrum-grabengut
X-MICROSOFT-CDO-ALLDAYEVENT:TRUE
DTSTART;TZID=Europe/Zurich;VALUE=DATE:20260417
END:VEVENT
BEGIN:VEVENT
UID:69eb91f500279
DTSTAMP:20260424T155325Z
SUMMARY:KONKURADO: Generalplanerleistungen - ambulatens Operationszentrum G
 rabengut\, Verfügbarkeit der Ausschreibungsunterlagen 17.04.2026 - 01.06.
 2026
DESCRIPTION:Link zum Verfahren: https://konkurado.ch/it/generalplanerleistu
 ngen-ambulatens-operationszentrum-grabengut
X-MICROSOFT-CDO-ALLDAYEVENT:TRUE
DTSTART;TZID=Europe/Zurich;VALUE=DATE:20260601
END:VEVENT
END:VCALENDAR