BEGIN:VCALENDAR
VERSION:2.0
PRODID:spatie/icalendar-generator
NAME:Gemeindeingenieur Glattfelden
X-WR-CALNAME:Gemeindeingenieur Glattfelden
BEGIN:VTIMEZONE
TZID:Europe/Zurich
BEGIN:STANDARD
DTSTART:20251026T030000
TZOFFSETFROM:+0200
TZOFFSETTO:+0100
END:STANDARD
BEGIN:DAYLIGHT
DTSTART:20260329T010000
TZOFFSETFROM:+0100
TZOFFSETTO:+0200
END:DAYLIGHT
BEGIN:STANDARD
DTSTART:20261025T030000
TZOFFSETFROM:+0200
TZOFFSETTO:+0100
END:STANDARD
END:VTIMEZONE
BEGIN:VTIMEZONE
TZID:UTC
BEGIN:STANDARD
DTSTART:20250728T154325
TZOFFSETFROM:+0000
TZOFFSETTO:+0000
END:STANDARD
END:VTIMEZONE
BEGIN:VEVENT
UID:69eb8f9d65a8e
DTSTAMP:20260424T154325Z
SUMMARY:KONKURADO: Gemeindeingenieur Glattfelden\, Fragerunde\, einreichen 
 bis 11.05.2026 - 11.05.2026
DESCRIPTION:Link zum Verfahren: https://konkurado.ch/it/gemeindeingenieur-g
 lattfelden
X-MICROSOFT-CDO-ALLDAYEVENT:TRUE
DTSTART;TZID=Europe/Zurich;VALUE=DATE:20260511
END:VEVENT
BEGIN:VEVENT
UID:69eb8f9d65b16
DTSTAMP:20260424T154325Z
SUMMARY:KONKURADO: Gemeindeingenieur Glattfelden\, Fragerunde\, einreichen 
 bis 11.05.2026 - 11.05.2026
DESCRIPTION:Link zum Verfahren: https://konkurado.ch/it/gemeindeingenieur-g
 lattfelden
X-MICROSOFT-CDO-ALLDAYEVENT:TRUE
DTSTART;TZID=Europe/Zurich;VALUE=DATE:20260511
END:VEVENT
BEGIN:VEVENT
UID:69eb8f9d65b8c
DTSTAMP:20260424T154325Z
SUMMARY:KONKURADO: Gemeindeingenieur Glattfelden\, Einreichen von Angeboten
  bis 01.06.2026 - 01.06.2026
DESCRIPTION:Link zum Verfahren: https://konkurado.ch/it/gemeindeingenieur-g
 lattfelden
X-MICROSOFT-CDO-ALLDAYEVENT:TRUE
DTSTART;TZID=Europe/Zurich;VALUE=DATE:20260601
END:VEVENT
BEGIN:VEVENT
UID:69eb8f9d65bb4
DTSTAMP:20260424T154325Z
SUMMARY:KONKURADO: Gemeindeingenieur Glattfelden\, Einreichen von Angeboten
  bis 01.06.2026 - 01.06.2026
DESCRIPTION:Link zum Verfahren: https://konkurado.ch/it/gemeindeingenieur-g
 lattfelden
X-MICROSOFT-CDO-ALLDAYEVENT:TRUE
DTSTART;TZID=Europe/Zurich;VALUE=DATE:20260601
END:VEVENT
BEGIN:VEVENT
UID:69eb8f9d65c0c
DTSTAMP:20260424T154325Z
SUMMARY:KONKURADO: Gemeindeingenieur Glattfelden\, Offertöffnung 02.06.202
 6 - 02.06.2026
DESCRIPTION:Link zum Verfahren: https://konkurado.ch/it/gemeindeingenieur-g
 lattfelden
X-MICROSOFT-CDO-ALLDAYEVENT:TRUE
DTSTART;TZID=Europe/Zurich;VALUE=DATE:20260602
END:VEVENT
BEGIN:VEVENT
UID:69eb8f9d65c33
DTSTAMP:20260424T154325Z
SUMMARY:KONKURADO: Gemeindeingenieur Glattfelden\, Offertöffnung 02.06.202
 6 - 02.06.2026
DESCRIPTION:Link zum Verfahren: https://konkurado.ch/it/gemeindeingenieur-g
 lattfelden
X-MICROSOFT-CDO-ALLDAYEVENT:TRUE
DTSTART;TZID=Europe/Zurich;VALUE=DATE:20260602
END:VEVENT
BEGIN:VEVENT
UID:69eb8f9d65c87
DTSTAMP:20260424T154325Z
SUMMARY:KONKURADO: Gemeindeingenieur Glattfelden\, Interessensbekundung bis
  01.06.2026 - 01.06.2026
DESCRIPTION:Link zum Verfahren: https://konkurado.ch/it/gemeindeingenieur-g
 lattfelden
X-MICROSOFT-CDO-ALLDAYEVENT:TRUE
DTSTART;TZID=Europe/Zurich;VALUE=DATE:20260601
END:VEVENT
BEGIN:VEVENT
UID:69eb8f9d65cad
DTSTAMP:20260424T154325Z
SUMMARY:KONKURADO: Gemeindeingenieur Glattfelden\, Interessensbekundung bis
  01.06.2026 - 01.06.2026
DESCRIPTION:Link zum Verfahren: https://konkurado.ch/it/gemeindeingenieur-g
 lattfelden
X-MICROSOFT-CDO-ALLDAYEVENT:TRUE
DTSTART;TZID=Europe/Zurich;VALUE=DATE:20260601
END:VEVENT
BEGIN:VEVENT
UID:69eb8f9d65d00
DTSTAMP:20260424T154325Z
SUMMARY:KONKURADO: Gemeindeingenieur Glattfelden\, Verfügbarkeit der Aussc
 hreibungsunterlagen 21.04.2026 - 01.06.2026
DESCRIPTION:Link zum Verfahren: https://konkurado.ch/it/gemeindeingenieur-g
 lattfelden
X-MICROSOFT-CDO-ALLDAYEVENT:TRUE
DTSTART;TZID=Europe/Zurich;VALUE=DATE:20260421
END:VEVENT
BEGIN:VEVENT
UID:69eb8f9d65d26
DTSTAMP:20260424T154325Z
SUMMARY:KONKURADO: Gemeindeingenieur Glattfelden\, Verfügbarkeit der Aussc
 hreibungsunterlagen 21.04.2026 - 01.06.2026
DESCRIPTION:Link zum Verfahren: https://konkurado.ch/it/gemeindeingenieur-g
 lattfelden
X-MICROSOFT-CDO-ALLDAYEVENT:TRUE
DTSTART;TZID=Europe/Zurich;VALUE=DATE:20260601
END:VEVENT
BEGIN:VEVENT
UID:69eb8f9d65d77
DTSTAMP:20260424T154325Z
SUMMARY:KONKURADO: Gemeindeingenieur Glattfelden\, Anbietergespräche (Anbi
 etergespräche finden mit den ca. 3 bestgeeigneten Anbietern statt) 16.06.
 2026 - 16.06.2026
DESCRIPTION:Link zum Verfahren: https://konkurado.ch/it/gemeindeingenieur-g
 lattfelden
X-MICROSOFT-CDO-ALLDAYEVENT:TRUE
DTSTART;TZID=Europe/Zurich;VALUE=DATE:20260616
END:VEVENT
BEGIN:VEVENT
UID:69eb8f9d65da1
DTSTAMP:20260424T154325Z
SUMMARY:KONKURADO: Gemeindeingenieur Glattfelden\, Anbietergespräche (Anbi
 etergespräche finden mit den ca. 3 bestgeeigneten Anbietern statt) 16.06.
 2026 - 16.06.2026
DESCRIPTION:Link zum Verfahren: https://konkurado.ch/it/gemeindeingenieur-g
 lattfelden
X-MICROSOFT-CDO-ALLDAYEVENT:TRUE
DTSTART;TZID=Europe/Zurich;VALUE=DATE:20260616
END:VEVENT
END:VCALENDAR