BEGIN:VCALENDAR
VERSION:2.0
PRODID:spatie/icalendar-generator
NAME:Externe Projektleitung\; Bodenkartierung Murgenthal - Brittnau (2026 -
  2028)
X-WR-CALNAME:Externe Projektleitung\; Bodenkartierung Murgenthal - Brittnau
  (2026 - 2028)
BEGIN:VTIMEZONE
TZID:Europe/Zurich
BEGIN:STANDARD
DTSTART:20251026T030000
TZOFFSETFROM:+0200
TZOFFSETTO:+0100
END:STANDARD
BEGIN:DAYLIGHT
DTSTART:20260329T010000
TZOFFSETFROM:+0100
TZOFFSETTO:+0200
END:DAYLIGHT
BEGIN:STANDARD
DTSTART:20261025T030000
TZOFFSETFROM:+0200
TZOFFSETTO:+0100
END:STANDARD
END:VTIMEZONE
BEGIN:VTIMEZONE
TZID:UTC
BEGIN:STANDARD
DTSTART:20250728T160032
TZOFFSETFROM:+0000
TZOFFSETTO:+0000
END:STANDARD
END:VTIMEZONE
BEGIN:VEVENT
UID:69eb93a0ead9b
DTSTAMP:20260424T160032Z
SUMMARY:KONKURADO: Externe Projektleitung\; Bodenkartierung Murgenthal - Br
 ittnau (2026 - 2028)\, Fragerunde\, einreichen bis 24.04.2026 - 24.04.2026
DESCRIPTION:Link zum Verfahren: https://konkurado.ch/it/externe-projektleit
 ung-bodenkartierung-murgenthal-brittnau-2026-2028
X-MICROSOFT-CDO-ALLDAYEVENT:TRUE
DTSTART;TZID=Europe/Zurich;VALUE=DATE:20260424
END:VEVENT
BEGIN:VEVENT
UID:69eb93a0eae2c
DTSTAMP:20260424T160032Z
SUMMARY:KONKURADO: Externe Projektleitung\; Bodenkartierung Murgenthal - Br
 ittnau (2026 - 2028)\, Fragerunde\, einreichen bis 24.04.2026 - 24.04.2026
DESCRIPTION:Link zum Verfahren: https://konkurado.ch/it/externe-projektleit
 ung-bodenkartierung-murgenthal-brittnau-2026-2028
X-MICROSOFT-CDO-ALLDAYEVENT:TRUE
DTSTART;TZID=Europe/Zurich;VALUE=DATE:20260424
END:VEVENT
BEGIN:VEVENT
UID:69eb93a0eaea4
DTSTAMP:20260424T160032Z
SUMMARY:KONKURADO: Externe Projektleitung\; Bodenkartierung Murgenthal - Br
 ittnau (2026 - 2028)\, Einreichen von Angeboten bis 22.05.2026 - 22.05.202
 6
DESCRIPTION:Link zum Verfahren: https://konkurado.ch/it/externe-projektleit
 ung-bodenkartierung-murgenthal-brittnau-2026-2028
X-MICROSOFT-CDO-ALLDAYEVENT:TRUE
DTSTART;TZID=Europe/Zurich;VALUE=DATE:20260522
END:VEVENT
BEGIN:VEVENT
UID:69eb93a0eaed0
DTSTAMP:20260424T160032Z
SUMMARY:KONKURADO: Externe Projektleitung\; Bodenkartierung Murgenthal - Br
 ittnau (2026 - 2028)\, Einreichen von Angeboten bis 22.05.2026 - 22.05.202
 6
DESCRIPTION:Link zum Verfahren: https://konkurado.ch/it/externe-projektleit
 ung-bodenkartierung-murgenthal-brittnau-2026-2028
X-MICROSOFT-CDO-ALLDAYEVENT:TRUE
DTSTART;TZID=Europe/Zurich;VALUE=DATE:20260522
END:VEVENT
BEGIN:VEVENT
UID:69eb93a0eaf2c
DTSTAMP:20260424T160032Z
SUMMARY:KONKURADO: Externe Projektleitung\; Bodenkartierung Murgenthal - Br
 ittnau (2026 - 2028)\, Verfügbarkeit der Ausschreibungsunterlagen 03.04.2
 026 - 22.05.2026
DESCRIPTION:Link zum Verfahren: https://konkurado.ch/it/externe-projektleit
 ung-bodenkartierung-murgenthal-brittnau-2026-2028
X-MICROSOFT-CDO-ALLDAYEVENT:TRUE
DTSTART;TZID=Europe/Zurich;VALUE=DATE:20260403
END:VEVENT
BEGIN:VEVENT
UID:69eb93a0eaf56
DTSTAMP:20260424T160032Z
SUMMARY:KONKURADO: Externe Projektleitung\; Bodenkartierung Murgenthal - Br
 ittnau (2026 - 2028)\, Verfügbarkeit der Ausschreibungsunterlagen 03.04.2
 026 - 22.05.2026
DESCRIPTION:Link zum Verfahren: https://konkurado.ch/it/externe-projektleit
 ung-bodenkartierung-murgenthal-brittnau-2026-2028
X-MICROSOFT-CDO-ALLDAYEVENT:TRUE
DTSTART;TZID=Europe/Zurich;VALUE=DATE:20260522
END:VEVENT
END:VCALENDAR