BEGIN:VCALENDAR
VERSION:2.0
PRODID:spatie/icalendar-generator
NAME:Erweiterung stationäre Behandlungsplätze\, Rheinau
X-WR-CALNAME:Erweiterung stationäre Behandlungsplätze\, Rheinau
BEGIN:VTIMEZONE
TZID:Europe/Zurich
BEGIN:STANDARD
DTSTART:20251026T030000
TZOFFSETFROM:+0200
TZOFFSETTO:+0100
END:STANDARD
BEGIN:DAYLIGHT
DTSTART:20260329T010000
TZOFFSETFROM:+0100
TZOFFSETTO:+0200
END:DAYLIGHT
BEGIN:STANDARD
DTSTART:20261025T030000
TZOFFSETFROM:+0200
TZOFFSETTO:+0100
END:STANDARD
END:VTIMEZONE
BEGIN:VTIMEZONE
TZID:UTC
BEGIN:STANDARD
DTSTART:20250728T155855
TZOFFSETFROM:+0000
TZOFFSETTO:+0000
END:STANDARD
END:VTIMEZONE
BEGIN:VEVENT
UID:69eb933fa4dbf
DTSTAMP:20260424T155855Z
SUMMARY:KONKURADO: Erweiterung stationäre Behandlungsplätze\, Rheinau\, E
 inreichung von Fragen bis 22.04.2026 - 22.04.2026
DESCRIPTION:Link zum Verfahren: https://konkurado.ch/it/erweiterung-station
 are-behandlungsplatze-rheinau
X-MICROSOFT-CDO-ALLDAYEVENT:TRUE
DTSTART;TZID=Europe/Zurich;VALUE=DATE:20260422
END:VEVENT
BEGIN:VEVENT
UID:69eb933fa4e48
DTSTAMP:20260424T155855Z
SUMMARY:KONKURADO: Erweiterung stationäre Behandlungsplätze\, Rheinau\, E
 inreichung von Fragen bis 22.04.2026 - 22.04.2026
DESCRIPTION:Link zum Verfahren: https://konkurado.ch/it/erweiterung-station
 are-behandlungsplatze-rheinau
X-MICROSOFT-CDO-ALLDAYEVENT:TRUE
DTSTART;TZID=Europe/Zurich;VALUE=DATE:20260422
END:VEVENT
BEGIN:VEVENT
UID:69eb933fa4ec3
DTSTAMP:20260424T155855Z
SUMMARY:KONKURADO: Erweiterung stationäre Behandlungsplätze\, Rheinau\, E
 inreichung von Angeboten bis 14.07.2026 - 14.07.2026
DESCRIPTION:Link zum Verfahren: https://konkurado.ch/it/erweiterung-station
 are-behandlungsplatze-rheinau
X-MICROSOFT-CDO-ALLDAYEVENT:TRUE
DTSTART;TZID=Europe/Zurich;VALUE=DATE:20260714
END:VEVENT
BEGIN:VEVENT
UID:69eb933fa4ef0
DTSTAMP:20260424T155855Z
SUMMARY:KONKURADO: Erweiterung stationäre Behandlungsplätze\, Rheinau\, E
 inreichung von Angeboten bis 14.07.2026 - 14.07.2026
DESCRIPTION:Link zum Verfahren: https://konkurado.ch/it/erweiterung-station
 are-behandlungsplatze-rheinau
X-MICROSOFT-CDO-ALLDAYEVENT:TRUE
DTSTART;TZID=Europe/Zurich;VALUE=DATE:20260714
END:VEVENT
BEGIN:VEVENT
UID:69eb933fa4f71
DTSTAMP:20260424T155855Z
SUMMARY:KONKURADO: Erweiterung stationäre Behandlungsplätze\, Rheinau\, O
 ffertöffnung 15.07.2026 - 15.07.2026
DESCRIPTION:Link zum Verfahren: https://konkurado.ch/it/erweiterung-station
 are-behandlungsplatze-rheinau
X-MICROSOFT-CDO-ALLDAYEVENT:TRUE
DTSTART;TZID=Europe/Zurich;VALUE=DATE:20260715
END:VEVENT
BEGIN:VEVENT
UID:69eb933fa4f9d
DTSTAMP:20260424T155855Z
SUMMARY:KONKURADO: Erweiterung stationäre Behandlungsplätze\, Rheinau\, O
 ffertöffnung 15.07.2026 - 15.07.2026
DESCRIPTION:Link zum Verfahren: https://konkurado.ch/it/erweiterung-station
 are-behandlungsplatze-rheinau
X-MICROSOFT-CDO-ALLDAYEVENT:TRUE
DTSTART;TZID=Europe/Zurich;VALUE=DATE:20260715
END:VEVENT
BEGIN:VEVENT
UID:69eb933fa4ff8
DTSTAMP:20260424T155855Z
SUMMARY:KONKURADO: Erweiterung stationäre Behandlungsplätze\, Rheinau\, V
 erfügbarkeit der Ausschreibungsunterlagen 07.04.2026 - 30.07.2026
DESCRIPTION:Link zum Verfahren: https://konkurado.ch/it/erweiterung-station
 are-behandlungsplatze-rheinau
X-MICROSOFT-CDO-ALLDAYEVENT:TRUE
DTSTART;TZID=Europe/Zurich;VALUE=DATE:20260407
END:VEVENT
BEGIN:VEVENT
UID:69eb933fa5038
DTSTAMP:20260424T155855Z
SUMMARY:KONKURADO: Erweiterung stationäre Behandlungsplätze\, Rheinau\, V
 erfügbarkeit der Ausschreibungsunterlagen 07.04.2026 - 30.07.2026
DESCRIPTION:Link zum Verfahren: https://konkurado.ch/it/erweiterung-station
 are-behandlungsplatze-rheinau
X-MICROSOFT-CDO-ALLDAYEVENT:TRUE
DTSTART;TZID=Europe/Zurich;VALUE=DATE:20260730
END:VEVENT
END:VCALENDAR