BEGIN:VCALENDAR
VERSION:2.0
PRODID:spatie/icalendar-generator
NAME:CONTRAT CADRE 2026-2031 _ Mandat d’Assistance à la maîtrise d’ou
 vrage (AMO) - Prestations de coordination et de planification des projets 
 d’infrastructure de grande envergure et/ou pluridisciplinaires
X-WR-CALNAME:CONTRAT CADRE 2026-2031 _ Mandat d’Assistance à la maîtris
 e d’ouvrage (AMO) - Prestations de coordination et de planification des 
 projets d’infrastructure de grande envergure et/ou pluridisciplinaires
BEGIN:VTIMEZONE
TZID:Europe/Zurich
BEGIN:STANDARD
DTSTART:20251026T030000
TZOFFSETFROM:+0200
TZOFFSETTO:+0100
END:STANDARD
BEGIN:DAYLIGHT
DTSTART:20260329T010000
TZOFFSETFROM:+0100
TZOFFSETTO:+0200
END:DAYLIGHT
BEGIN:STANDARD
DTSTART:20261025T030000
TZOFFSETFROM:+0200
TZOFFSETTO:+0100
END:STANDARD
END:VTIMEZONE
BEGIN:VTIMEZONE
TZID:UTC
BEGIN:STANDARD
DTSTART:20250728T155447
TZOFFSETFROM:+0000
TZOFFSETTO:+0000
END:STANDARD
END:VTIMEZONE
BEGIN:VEVENT
UID:69eb9247ee186
DTSTAMP:20260424T155447Z
SUMMARY:KONKURADO: CONTRAT CADRE 2026-2031 _ Mandat d’Assistance à la ma
 îtrise d’ouvrage (AMO) - Prestations de coordination et de planificatio
 n des projets d’infrastructure de grande envergure et/ou pluridisciplina
 ires\, Session de questions\, soumettre avant 08.05.2026 - 08.05.2026
DESCRIPTION:Link zum Verfahren: https://konkurado.ch/it/contrat-cadre-2026-
 2031-mandat-dassistance-a-la-maitrise-douvrage-amo-prestations-de-coordina
 tion-et-de-planification-des-projets-dinfrastructure-de-grande-envergure-e
 tou-pluridisciplinaires
X-MICROSOFT-CDO-ALLDAYEVENT:TRUE
DTSTART;TZID=Europe/Zurich;VALUE=DATE:20260508
END:VEVENT
BEGIN:VEVENT
UID:69eb9247ee208
DTSTAMP:20260424T155447Z
SUMMARY:KONKURADO: CONTRAT CADRE 2026-2031 _ Mandat d’Assistance à la ma
 îtrise d’ouvrage (AMO) - Prestations de coordination et de planificatio
 n des projets d’infrastructure de grande envergure et/ou pluridisciplina
 ires\, Session de questions\, soumettre avant 08.05.2026 - 08.05.2026
DESCRIPTION:Link zum Verfahren: https://konkurado.ch/it/contrat-cadre-2026-
 2031-mandat-dassistance-a-la-maitrise-douvrage-amo-prestations-de-coordina
 tion-et-de-planification-des-projets-dinfrastructure-de-grande-envergure-e
 tou-pluridisciplinaires
X-MICROSOFT-CDO-ALLDAYEVENT:TRUE
DTSTART;TZID=Europe/Zurich;VALUE=DATE:20260508
END:VEVENT
BEGIN:VEVENT
UID:69eb9247ee27b
DTSTAMP:20260424T155447Z
SUMMARY:KONKURADO: CONTRAT CADRE 2026-2031 _ Mandat d’Assistance à la ma
 îtrise d’ouvrage (AMO) - Prestations de coordination et de planificatio
 n des projets d’infrastructure de grande envergure et/ou pluridisciplina
 ires\, Soumission des offres 08.06.2026 - 08.06.2026
DESCRIPTION:Link zum Verfahren: https://konkurado.ch/it/contrat-cadre-2026-
 2031-mandat-dassistance-a-la-maitrise-douvrage-amo-prestations-de-coordina
 tion-et-de-planification-des-projets-dinfrastructure-de-grande-envergure-e
 tou-pluridisciplinaires
X-MICROSOFT-CDO-ALLDAYEVENT:TRUE
DTSTART;TZID=Europe/Zurich;VALUE=DATE:20260608
END:VEVENT
BEGIN:VEVENT
UID:69eb9247ee2af
DTSTAMP:20260424T155447Z
SUMMARY:KONKURADO: CONTRAT CADRE 2026-2031 _ Mandat d’Assistance à la ma
 îtrise d’ouvrage (AMO) - Prestations de coordination et de planificatio
 n des projets d’infrastructure de grande envergure et/ou pluridisciplina
 ires\, Soumission des offres 08.06.2026 - 08.06.2026
DESCRIPTION:Link zum Verfahren: https://konkurado.ch/it/contrat-cadre-2026-
 2031-mandat-dassistance-a-la-maitrise-douvrage-amo-prestations-de-coordina
 tion-et-de-planification-des-projets-dinfrastructure-de-grande-envergure-e
 tou-pluridisciplinaires
X-MICROSOFT-CDO-ALLDAYEVENT:TRUE
DTSTART;TZID=Europe/Zurich;VALUE=DATE:20260608
END:VEVENT
BEGIN:VEVENT
UID:69eb9247ee30c
DTSTAMP:20260424T155447Z
SUMMARY:KONKURADO: CONTRAT CADRE 2026-2031 _ Mandat d’Assistance à la ma
 îtrise d’ouvrage (AMO) - Prestations de coordination et de planificatio
 n des projets d’infrastructure de grande envergure et/ou pluridisciplina
 ires\, Ouverture des offres 11.06.2026 - 11.06.2026
DESCRIPTION:Link zum Verfahren: https://konkurado.ch/it/contrat-cadre-2026-
 2031-mandat-dassistance-a-la-maitrise-douvrage-amo-prestations-de-coordina
 tion-et-de-planification-des-projets-dinfrastructure-de-grande-envergure-e
 tou-pluridisciplinaires
X-MICROSOFT-CDO-ALLDAYEVENT:TRUE
DTSTART;TZID=Europe/Zurich;VALUE=DATE:20260611
END:VEVENT
BEGIN:VEVENT
UID:69eb9247ee333
DTSTAMP:20260424T155447Z
SUMMARY:KONKURADO: CONTRAT CADRE 2026-2031 _ Mandat d’Assistance à la ma
 îtrise d’ouvrage (AMO) - Prestations de coordination et de planificatio
 n des projets d’infrastructure de grande envergure et/ou pluridisciplina
 ires\, Ouverture des offres 11.06.2026 - 11.06.2026
DESCRIPTION:Link zum Verfahren: https://konkurado.ch/it/contrat-cadre-2026-
 2031-mandat-dassistance-a-la-maitrise-douvrage-amo-prestations-de-coordina
 tion-et-de-planification-des-projets-dinfrastructure-de-grande-envergure-e
 tou-pluridisciplinaires
X-MICROSOFT-CDO-ALLDAYEVENT:TRUE
DTSTART;TZID=Europe/Zurich;VALUE=DATE:20260611
END:VEVENT
BEGIN:VEVENT
UID:69eb9247ee387
DTSTAMP:20260424T155447Z
SUMMARY:KONKURADO: CONTRAT CADRE 2026-2031 _ Mandat d’Assistance à la ma
 îtrise d’ouvrage (AMO) - Prestations de coordination et de planificatio
 n des projets d’infrastructure de grande envergure et/ou pluridisciplina
 ires\, Manifestation d’intérêt jusqu’à 08.06.2026 - 08.06.2026
DESCRIPTION:Link zum Verfahren: https://konkurado.ch/it/contrat-cadre-2026-
 2031-mandat-dassistance-a-la-maitrise-douvrage-amo-prestations-de-coordina
 tion-et-de-planification-des-projets-dinfrastructure-de-grande-envergure-e
 tou-pluridisciplinaires
X-MICROSOFT-CDO-ALLDAYEVENT:TRUE
DTSTART;TZID=Europe/Zurich;VALUE=DATE:20260608
END:VEVENT
BEGIN:VEVENT
UID:69eb9247ee3ad
DTSTAMP:20260424T155447Z
SUMMARY:KONKURADO: CONTRAT CADRE 2026-2031 _ Mandat d’Assistance à la ma
 îtrise d’ouvrage (AMO) - Prestations de coordination et de planificatio
 n des projets d’infrastructure de grande envergure et/ou pluridisciplina
 ires\, Manifestation d’intérêt jusqu’à 08.06.2026 - 08.06.2026
DESCRIPTION:Link zum Verfahren: https://konkurado.ch/it/contrat-cadre-2026-
 2031-mandat-dassistance-a-la-maitrise-douvrage-amo-prestations-de-coordina
 tion-et-de-planification-des-projets-dinfrastructure-de-grande-envergure-e
 tou-pluridisciplinaires
X-MICROSOFT-CDO-ALLDAYEVENT:TRUE
DTSTART;TZID=Europe/Zurich;VALUE=DATE:20260608
END:VEVENT
BEGIN:VEVENT
UID:69eb9247ee3ff
DTSTAMP:20260424T155447Z
SUMMARY:KONKURADO: CONTRAT CADRE 2026-2031 _ Mandat d’Assistance à la ma
 îtrise d’ouvrage (AMO) - Prestations de coordination et de planificatio
 n des projets d’infrastructure de grande envergure et/ou pluridisciplina
 ires\, Disponibilité des documents d’appel d’offres 21.04.2026 - 08.0
 6.2026
DESCRIPTION:Link zum Verfahren: https://konkurado.ch/it/contrat-cadre-2026-
 2031-mandat-dassistance-a-la-maitrise-douvrage-amo-prestations-de-coordina
 tion-et-de-planification-des-projets-dinfrastructure-de-grande-envergure-e
 tou-pluridisciplinaires
X-MICROSOFT-CDO-ALLDAYEVENT:TRUE
DTSTART;TZID=Europe/Zurich;VALUE=DATE:20260421
END:VEVENT
BEGIN:VEVENT
UID:69eb9247ee43f
DTSTAMP:20260424T155447Z
SUMMARY:KONKURADO: CONTRAT CADRE 2026-2031 _ Mandat d’Assistance à la ma
 îtrise d’ouvrage (AMO) - Prestations de coordination et de planificatio
 n des projets d’infrastructure de grande envergure et/ou pluridisciplina
 ires\, Disponibilité des documents d’appel d’offres 21.04.2026 - 08.0
 6.2026
DESCRIPTION:Link zum Verfahren: https://konkurado.ch/it/contrat-cadre-2026-
 2031-mandat-dassistance-a-la-maitrise-douvrage-amo-prestations-de-coordina
 tion-et-de-planification-des-projets-dinfrastructure-de-grande-envergure-e
 tou-pluridisciplinaires
X-MICROSOFT-CDO-ALLDAYEVENT:TRUE
DTSTART;TZID=Europe/Zurich;VALUE=DATE:20260608
END:VEVENT
END:VCALENDAR