BEGIN:VCALENDAR
VERSION:2.0
PRODID:spatie/icalendar-generator
NAME:Closed Loop Medication Management (CLMM)\, Architekt mit Gesamtleitung
X-WR-CALNAME:Closed Loop Medication Management (CLMM)\, Architekt mit Gesam
 tleitung
BEGIN:VTIMEZONE
TZID:Europe/Zurich
BEGIN:STANDARD
DTSTART:20251026T030000
TZOFFSETFROM:+0200
TZOFFSETTO:+0100
END:STANDARD
BEGIN:DAYLIGHT
DTSTART:20260329T010000
TZOFFSETFROM:+0100
TZOFFSETTO:+0200
END:DAYLIGHT
BEGIN:STANDARD
DTSTART:20261025T030000
TZOFFSETFROM:+0200
TZOFFSETTO:+0100
END:STANDARD
END:VTIMEZONE
BEGIN:VTIMEZONE
TZID:UTC
BEGIN:STANDARD
DTSTART:20250728T154343
TZOFFSETFROM:+0000
TZOFFSETTO:+0000
END:STANDARD
END:VTIMEZONE
BEGIN:VEVENT
UID:69eb8faf567cd
DTSTAMP:20260424T154343Z
SUMMARY:KONKURADO: Closed Loop Medication Management (CLMM)\, Architekt mit
  Gesamtleitung\, Einreichung von Fragen bis 06.05.2026 - 06.05.2026
DESCRIPTION:Link zum Verfahren: https://konkurado.ch/it/closed-loop-medicat
 ion-management-clmm-architekt-mit-gesamtleitung
X-MICROSOFT-CDO-ALLDAYEVENT:TRUE
DTSTART;TZID=Europe/Zurich;VALUE=DATE:20260506
END:VEVENT
BEGIN:VEVENT
UID:69eb8faf56890
DTSTAMP:20260424T154343Z
SUMMARY:KONKURADO: Closed Loop Medication Management (CLMM)\, Architekt mit
  Gesamtleitung\, Einreichung von Fragen bis 06.05.2026 - 06.05.2026
DESCRIPTION:Link zum Verfahren: https://konkurado.ch/it/closed-loop-medicat
 ion-management-clmm-architekt-mit-gesamtleitung
X-MICROSOFT-CDO-ALLDAYEVENT:TRUE
DTSTART;TZID=Europe/Zurich;VALUE=DATE:20260506
END:VEVENT
BEGIN:VEVENT
UID:69eb8faf56952
DTSTAMP:20260424T154343Z
SUMMARY:KONKURADO: Closed Loop Medication Management (CLMM)\, Architekt mit
  Gesamtleitung\, Einreichung von Angeboten bis 28.05.2026 - 28.05.2026
DESCRIPTION:Link zum Verfahren: https://konkurado.ch/it/closed-loop-medicat
 ion-management-clmm-architekt-mit-gesamtleitung
X-MICROSOFT-CDO-ALLDAYEVENT:TRUE
DTSTART;TZID=Europe/Zurich;VALUE=DATE:20260528
END:VEVENT
BEGIN:VEVENT
UID:69eb8faf569a8
DTSTAMP:20260424T154343Z
SUMMARY:KONKURADO: Closed Loop Medication Management (CLMM)\, Architekt mit
  Gesamtleitung\, Einreichung von Angeboten bis 28.05.2026 - 28.05.2026
DESCRIPTION:Link zum Verfahren: https://konkurado.ch/it/closed-loop-medicat
 ion-management-clmm-architekt-mit-gesamtleitung
X-MICROSOFT-CDO-ALLDAYEVENT:TRUE
DTSTART;TZID=Europe/Zurich;VALUE=DATE:20260528
END:VEVENT
END:VCALENDAR