BEGIN:VCALENDAR
VERSION:2.0
PRODID:spatie/icalendar-generator
NAME:CJB - Gestion climats (M354bis) Mandat d'ingénieur électricien
X-WR-CALNAME:CJB - Gestion climats (M354bis) Mandat d'ingénieur électrici
 en
BEGIN:VTIMEZONE
TZID:Europe/Zurich
BEGIN:STANDARD
DTSTART:20251026T030000
TZOFFSETFROM:+0200
TZOFFSETTO:+0100
END:STANDARD
BEGIN:DAYLIGHT
DTSTART:20260329T010000
TZOFFSETFROM:+0100
TZOFFSETTO:+0200
END:DAYLIGHT
BEGIN:STANDARD
DTSTART:20261025T030000
TZOFFSETFROM:+0200
TZOFFSETTO:+0100
END:STANDARD
END:VTIMEZONE
BEGIN:VTIMEZONE
TZID:UTC
BEGIN:STANDARD
DTSTART:20250728T155443
TZOFFSETFROM:+0000
TZOFFSETTO:+0000
END:STANDARD
END:VTIMEZONE
BEGIN:VEVENT
UID:69eb924312fad
DTSTAMP:20260424T155443Z
SUMMARY:KONKURADO: CJB - Gestion climats (M354bis) Mandat d'ingénieur éle
 ctricien\, Soumission de questions jusqu’au 30.04.2026 - 30.04.2026
DESCRIPTION:Link zum Verfahren: https://konkurado.ch/it/cjb-gestion-climats
 -m354bis-mandat-dingenieur-electricien
X-MICROSOFT-CDO-ALLDAYEVENT:TRUE
DTSTART;TZID=Europe/Zurich;VALUE=DATE:20260430
END:VEVENT
BEGIN:VEVENT
UID:69eb92431303a
DTSTAMP:20260424T155443Z
SUMMARY:KONKURADO: CJB - Gestion climats (M354bis) Mandat d'ingénieur éle
 ctricien\, Soumission de questions jusqu’au 30.04.2026 - 30.04.2026
DESCRIPTION:Link zum Verfahren: https://konkurado.ch/it/cjb-gestion-climats
 -m354bis-mandat-dingenieur-electricien
X-MICROSOFT-CDO-ALLDAYEVENT:TRUE
DTSTART;TZID=Europe/Zurich;VALUE=DATE:20260430
END:VEVENT
BEGIN:VEVENT
UID:69eb9243130b0
DTSTAMP:20260424T155443Z
SUMMARY:KONKURADO: CJB - Gestion climats (M354bis) Mandat d'ingénieur éle
 ctricien\, Soumission des offres jusqu’au 13.05.2026 - 13.05.2026
DESCRIPTION:Link zum Verfahren: https://konkurado.ch/it/cjb-gestion-climats
 -m354bis-mandat-dingenieur-electricien
X-MICROSOFT-CDO-ALLDAYEVENT:TRUE
DTSTART;TZID=Europe/Zurich;VALUE=DATE:20260513
END:VEVENT
BEGIN:VEVENT
UID:69eb9243130dc
DTSTAMP:20260424T155443Z
SUMMARY:KONKURADO: CJB - Gestion climats (M354bis) Mandat d'ingénieur éle
 ctricien\, Soumission des offres jusqu’au 13.05.2026 - 13.05.2026
DESCRIPTION:Link zum Verfahren: https://konkurado.ch/it/cjb-gestion-climats
 -m354bis-mandat-dingenieur-electricien
X-MICROSOFT-CDO-ALLDAYEVENT:TRUE
DTSTART;TZID=Europe/Zurich;VALUE=DATE:20260513
END:VEVENT
BEGIN:VEVENT
UID:69eb924313137
DTSTAMP:20260424T155443Z
SUMMARY:KONKURADO: CJB - Gestion climats (M354bis) Mandat d'ingénieur éle
 ctricien\, Ouverture des offres 19.05.2026 - 19.05.2026
DESCRIPTION:Link zum Verfahren: https://konkurado.ch/it/cjb-gestion-climats
 -m354bis-mandat-dingenieur-electricien
X-MICROSOFT-CDO-ALLDAYEVENT:TRUE
DTSTART;TZID=Europe/Zurich;VALUE=DATE:20260519
END:VEVENT
BEGIN:VEVENT
UID:69eb92431315e
DTSTAMP:20260424T155443Z
SUMMARY:KONKURADO: CJB - Gestion climats (M354bis) Mandat d'ingénieur éle
 ctricien\, Ouverture des offres 19.05.2026 - 19.05.2026
DESCRIPTION:Link zum Verfahren: https://konkurado.ch/it/cjb-gestion-climats
 -m354bis-mandat-dingenieur-electricien
X-MICROSOFT-CDO-ALLDAYEVENT:TRUE
DTSTART;TZID=Europe/Zurich;VALUE=DATE:20260519
END:VEVENT
END:VCALENDAR