BEGIN:VCALENDAR
VERSION:2.0
PRODID:spatie/icalendar-generator
NAME:B.10520 USZ Heizung Ertüchtigung  I BKP 294 HLK Ingenieur | OV 
X-WR-CALNAME:B.10520 USZ Heizung Ertüchtigung  I BKP 294 HLK Ingenieur | O
 V 
BEGIN:VTIMEZONE
TZID:Europe/Zurich
BEGIN:STANDARD
DTSTART:20251026T030000
TZOFFSETFROM:+0200
TZOFFSETTO:+0100
END:STANDARD
BEGIN:DAYLIGHT
DTSTART:20260329T010000
TZOFFSETFROM:+0100
TZOFFSETTO:+0200
END:DAYLIGHT
BEGIN:STANDARD
DTSTART:20261025T030000
TZOFFSETFROM:+0200
TZOFFSETTO:+0100
END:STANDARD
END:VTIMEZONE
BEGIN:VTIMEZONE
TZID:UTC
BEGIN:STANDARD
DTSTART:20250728T155028
TZOFFSETFROM:+0000
TZOFFSETTO:+0000
END:STANDARD
END:VTIMEZONE
BEGIN:VEVENT
UID:69eb9144a6f3c
DTSTAMP:20260424T155028Z
SUMMARY:KONKURADO: B.10520 USZ Heizung Ertüchtigung  I BKP 294 HLK Ingenie
 ur | OV \, Einreichung von Fragen bis 11.05.2026 - 11.05.2026
DESCRIPTION:Link zum Verfahren: https://konkurado.ch/it/b10520-usz-heizung-
 ertuchtigung-i-bkp-294-hlk-ingenieur-ov
X-MICROSOFT-CDO-ALLDAYEVENT:TRUE
DTSTART;TZID=Europe/Zurich;VALUE=DATE:20260511
END:VEVENT
BEGIN:VEVENT
UID:69eb9144a6fd8
DTSTAMP:20260424T155028Z
SUMMARY:KONKURADO: B.10520 USZ Heizung Ertüchtigung  I BKP 294 HLK Ingenie
 ur | OV \, Einreichung von Fragen bis 11.05.2026 - 11.05.2026
DESCRIPTION:Link zum Verfahren: https://konkurado.ch/it/b10520-usz-heizung-
 ertuchtigung-i-bkp-294-hlk-ingenieur-ov
X-MICROSOFT-CDO-ALLDAYEVENT:TRUE
DTSTART;TZID=Europe/Zurich;VALUE=DATE:20260511
END:VEVENT
BEGIN:VEVENT
UID:69eb9144a704d
DTSTAMP:20260424T155028Z
SUMMARY:KONKURADO: B.10520 USZ Heizung Ertüchtigung  I BKP 294 HLK Ingenie
 ur | OV \, Einreichung von Angeboten bis 01.06.2026 - 01.06.2026
DESCRIPTION:Link zum Verfahren: https://konkurado.ch/it/b10520-usz-heizung-
 ertuchtigung-i-bkp-294-hlk-ingenieur-ov
X-MICROSOFT-CDO-ALLDAYEVENT:TRUE
DTSTART;TZID=Europe/Zurich;VALUE=DATE:20260601
END:VEVENT
BEGIN:VEVENT
UID:69eb9144a7080
DTSTAMP:20260424T155028Z
SUMMARY:KONKURADO: B.10520 USZ Heizung Ertüchtigung  I BKP 294 HLK Ingenie
 ur | OV \, Einreichung von Angeboten bis 01.06.2026 - 01.06.2026
DESCRIPTION:Link zum Verfahren: https://konkurado.ch/it/b10520-usz-heizung-
 ertuchtigung-i-bkp-294-hlk-ingenieur-ov
X-MICROSOFT-CDO-ALLDAYEVENT:TRUE
DTSTART;TZID=Europe/Zurich;VALUE=DATE:20260601
END:VEVENT
BEGIN:VEVENT
UID:69eb9144a70db
DTSTAMP:20260424T155028Z
SUMMARY:KONKURADO: B.10520 USZ Heizung Ertüchtigung  I BKP 294 HLK Ingenie
 ur | OV \, Offertöffnung 02.06.2026 - 02.06.2026
DESCRIPTION:Link zum Verfahren: https://konkurado.ch/it/b10520-usz-heizung-
 ertuchtigung-i-bkp-294-hlk-ingenieur-ov
X-MICROSOFT-CDO-ALLDAYEVENT:TRUE
DTSTART;TZID=Europe/Zurich;VALUE=DATE:20260602
END:VEVENT
BEGIN:VEVENT
UID:69eb9144a7101
DTSTAMP:20260424T155028Z
SUMMARY:KONKURADO: B.10520 USZ Heizung Ertüchtigung  I BKP 294 HLK Ingenie
 ur | OV \, Offertöffnung 02.06.2026 - 02.06.2026
DESCRIPTION:Link zum Verfahren: https://konkurado.ch/it/b10520-usz-heizung-
 ertuchtigung-i-bkp-294-hlk-ingenieur-ov
X-MICROSOFT-CDO-ALLDAYEVENT:TRUE
DTSTART;TZID=Europe/Zurich;VALUE=DATE:20260602
END:VEVENT
END:VCALENDAR