BEGIN:VCALENDAR
VERSION:2.0
PRODID:spatie/icalendar-generator
NAME:Assainissement Centre Lüsc - INSCRIPTION
X-WR-CALNAME:Assainissement Centre Lüsc - INSCRIPTION
BEGIN:VTIMEZONE
TZID:Europe/Zurich
BEGIN:STANDARD
DTSTART:20251026T030000
TZOFFSETFROM:+0200
TZOFFSETTO:+0100
END:STANDARD
BEGIN:DAYLIGHT
DTSTART:20260329T010000
TZOFFSETFROM:+0100
TZOFFSETTO:+0200
END:DAYLIGHT
BEGIN:STANDARD
DTSTART:20261025T030000
TZOFFSETFROM:+0200
TZOFFSETTO:+0100
END:STANDARD
END:VTIMEZONE
BEGIN:VTIMEZONE
TZID:UTC
BEGIN:STANDARD
DTSTART:20250728T142914
TZOFFSETFROM:+0000
TZOFFSETTO:+0000
END:STANDARD
END:VTIMEZONE
BEGIN:VEVENT
UID:69eb7e3a69509
DTSTAMP:20260424T142914Z
SUMMARY:KONKURADO: Assainissement Centre Lüsc - INSCRIPTION\, Presentazion
 e della proposta di progetto entro il 29.04.2026 - 29.04.2026
DESCRIPTION:Link zum Verfahren: https://konkurado.ch/it/assainissement-cent
 re-lusc-inscription
X-MICROSOFT-CDO-ALLDAYEVENT:TRUE
DTSTART;TZID=Europe/Zurich;VALUE=DATE:20260429
END:VEVENT
BEGIN:VEVENT
UID:69eb7e3a6958e
DTSTAMP:20260424T142914Z
SUMMARY:KONKURADO: Assainissement Centre Lüsc - INSCRIPTION\, Presentazion
 e della proposta di progetto entro il 29.04.2026 - 29.04.2026
DESCRIPTION:Link zum Verfahren: https://konkurado.ch/it/assainissement-cent
 re-lusc-inscription
X-MICROSOFT-CDO-ALLDAYEVENT:TRUE
DTSTART;TZID=Europe/Zurich;VALUE=DATE:20260429
END:VEVENT
END:VCALENDAR