BEGIN:VCALENDAR
VERSION:2.0
PRODID:spatie/icalendar-generator
NAME:Arealentwicklung Im Bödeli - Baurechtausschreibung für gemeinnütz
 iges Wohnen
X-WR-CALNAME:Arealentwicklung Im Bödeli - Baurechtausschreibung für geme
 innütziges Wohnen
BEGIN:VTIMEZONE
TZID:Europe/Zurich
BEGIN:STANDARD
DTSTART:20251026T030000
TZOFFSETFROM:+0200
TZOFFSETTO:+0100
END:STANDARD
BEGIN:DAYLIGHT
DTSTART:20260329T010000
TZOFFSETFROM:+0100
TZOFFSETTO:+0200
END:DAYLIGHT
BEGIN:STANDARD
DTSTART:20261025T030000
TZOFFSETFROM:+0200
TZOFFSETTO:+0100
END:STANDARD
BEGIN:DAYLIGHT
DTSTART:20270328T010000
TZOFFSETFROM:+0100
TZOFFSETTO:+0200
END:DAYLIGHT
BEGIN:STANDARD
DTSTART:20271031T030000
TZOFFSETFROM:+0200
TZOFFSETTO:+0100
END:STANDARD
BEGIN:DAYLIGHT
DTSTART:20280326T010000
TZOFFSETFROM:+0100
TZOFFSETTO:+0200
END:DAYLIGHT
END:VTIMEZONE
BEGIN:VTIMEZONE
TZID:UTC
BEGIN:STANDARD
DTSTART:20250728T142908
TZOFFSETFROM:+0000
TZOFFSETTO:+0000
END:STANDARD
END:VTIMEZONE
BEGIN:VEVENT
UID:69eb7e34b4f97
DTSTAMP:20260424T142908Z
SUMMARY:KONKURADO: Arealentwicklung Im Bödeli - Baurechtausschreibung fü
 r gemeinnütziges Wohnen\, Publikation der Unterlagen 15.04.2026 - 31.12.
 2026
DESCRIPTION:Link zum Verfahren: https://konkurado.ch/it/arealentwicklung-im
 -boedeli
X-MICROSOFT-CDO-ALLDAYEVENT:TRUE
DTSTART;TZID=Europe/Zurich;VALUE=DATE:20260415
END:VEVENT
BEGIN:VEVENT
UID:69eb7e34b5025
DTSTAMP:20260424T142908Z
SUMMARY:KONKURADO: Arealentwicklung Im Bödeli - Baurechtausschreibung fü
 r gemeinnütziges Wohnen\, Publikation der Unterlagen 15.04.2026 - 31.12.
 2026
DESCRIPTION:Link zum Verfahren: https://konkurado.ch/it/arealentwicklung-im
 -boedeli
X-MICROSOFT-CDO-ALLDAYEVENT:TRUE
DTSTART;TZID=Europe/Zurich;VALUE=DATE:20261231
END:VEVENT
BEGIN:VEVENT
UID:69eb7e34b50b3
DTSTAMP:20260424T142908Z
SUMMARY:KONKURADO: Arealentwicklung Im Bödeli - Baurechtausschreibung fü
 r gemeinnütziges Wohnen\, Fakultative Begehung Areal und Gebäude 20.05.
 2026 - 20.05.2026
DESCRIPTION:Link zum Verfahren: https://konkurado.ch/it/arealentwicklung-im
 -boedeli
X-MICROSOFT-CDO-ALLDAYEVENT:TRUE
DTSTART;TZID=Europe/Zurich;VALUE=DATE:20260520
END:VEVENT
BEGIN:VEVENT
UID:69eb7e34b50e0
DTSTAMP:20260424T142908Z
SUMMARY:KONKURADO: Arealentwicklung Im Bödeli - Baurechtausschreibung fü
 r gemeinnütziges Wohnen\, Fakultative Begehung Areal und Gebäude 20.05.
 2026 - 20.05.2026
DESCRIPTION:Link zum Verfahren: https://konkurado.ch/it/arealentwicklung-im
 -boedeli
X-MICROSOFT-CDO-ALLDAYEVENT:TRUE
DTSTART;TZID=Europe/Zurich;VALUE=DATE:20260520
END:VEVENT
BEGIN:VEVENT
UID:69eb7e34b513b
DTSTAMP:20260424T142908Z
SUMMARY:KONKURADO: Arealentwicklung Im Bödeli - Baurechtausschreibung fü
 r gemeinnütziges Wohnen\, 1. Fragerunde 15.04.2026 - 30.06.2026
DESCRIPTION:Link zum Verfahren: https://konkurado.ch/it/arealentwicklung-im
 -boedeli
X-MICROSOFT-CDO-ALLDAYEVENT:TRUE
DTSTART;TZID=Europe/Zurich;VALUE=DATE:20260415
END:VEVENT
BEGIN:VEVENT
UID:69eb7e34b5162
DTSTAMP:20260424T142908Z
SUMMARY:KONKURADO: Arealentwicklung Im Bödeli - Baurechtausschreibung fü
 r gemeinnütziges Wohnen\, 1. Fragerunde 15.04.2026 - 30.06.2026
DESCRIPTION:Link zum Verfahren: https://konkurado.ch/it/arealentwicklung-im
 -boedeli
X-MICROSOFT-CDO-ALLDAYEVENT:TRUE
DTSTART;TZID=Europe/Zurich;VALUE=DATE:20260630
END:VEVENT
BEGIN:VEVENT
UID:69eb7e34b51b6
DTSTAMP:20260424T142908Z
SUMMARY:KONKURADO: Arealentwicklung Im Bödeli - Baurechtausschreibung fü
 r gemeinnütziges Wohnen\, 2. Fragerunde 01.09.2026 - 16.10.2026
DESCRIPTION:Link zum Verfahren: https://konkurado.ch/it/arealentwicklung-im
 -boedeli
X-MICROSOFT-CDO-ALLDAYEVENT:TRUE
DTSTART;TZID=Europe/Zurich;VALUE=DATE:20260901
END:VEVENT
BEGIN:VEVENT
UID:69eb7e34b51dc
DTSTAMP:20260424T142908Z
SUMMARY:KONKURADO: Arealentwicklung Im Bödeli - Baurechtausschreibung fü
 r gemeinnütziges Wohnen\, 2. Fragerunde 01.09.2026 - 16.10.2026
DESCRIPTION:Link zum Verfahren: https://konkurado.ch/it/arealentwicklung-im
 -boedeli
X-MICROSOFT-CDO-ALLDAYEVENT:TRUE
DTSTART;TZID=Europe/Zurich;VALUE=DATE:20261016
END:VEVENT
BEGIN:VEVENT
UID:69eb7e34b522e
DTSTAMP:20260424T142908Z
SUMMARY:KONKURADO: Arealentwicklung Im Bödeli - Baurechtausschreibung fü
 r gemeinnütziges Wohnen\, Beantwortung 1. Fragerunde 17.07.2026 - 17.07.
 2026
DESCRIPTION:Link zum Verfahren: https://konkurado.ch/it/arealentwicklung-im
 -boedeli
X-MICROSOFT-CDO-ALLDAYEVENT:TRUE
DTSTART;TZID=Europe/Zurich;VALUE=DATE:20260717
END:VEVENT
BEGIN:VEVENT
UID:69eb7e34b5254
DTSTAMP:20260424T142908Z
SUMMARY:KONKURADO: Arealentwicklung Im Bödeli - Baurechtausschreibung fü
 r gemeinnütziges Wohnen\, Beantwortung 1. Fragerunde 17.07.2026 - 17.07.
 2026
DESCRIPTION:Link zum Verfahren: https://konkurado.ch/it/arealentwicklung-im
 -boedeli
X-MICROSOFT-CDO-ALLDAYEVENT:TRUE
DTSTART;TZID=Europe/Zurich;VALUE=DATE:20260717
END:VEVENT
BEGIN:VEVENT
UID:69eb7e34b52cd
DTSTAMP:20260424T142908Z
SUMMARY:KONKURADO: Arealentwicklung Im Bödeli - Baurechtausschreibung fü
 r gemeinnütziges Wohnen\, Beantwortung 2. Fragerunde 16.10.2026 - 31.10.
 2026
DESCRIPTION:Link zum Verfahren: https://konkurado.ch/it/arealentwicklung-im
 -boedeli
X-MICROSOFT-CDO-ALLDAYEVENT:TRUE
DTSTART;TZID=Europe/Zurich;VALUE=DATE:20261016
END:VEVENT
BEGIN:VEVENT
UID:69eb7e34b530c
DTSTAMP:20260424T142908Z
SUMMARY:KONKURADO: Arealentwicklung Im Bödeli - Baurechtausschreibung fü
 r gemeinnütziges Wohnen\, Beantwortung 2. Fragerunde 16.10.2026 - 31.10.
 2026
DESCRIPTION:Link zum Verfahren: https://konkurado.ch/it/arealentwicklung-im
 -boedeli
X-MICROSOFT-CDO-ALLDAYEVENT:TRUE
DTSTART;TZID=Europe/Zurich;VALUE=DATE:20261031
END:VEVENT
BEGIN:VEVENT
UID:69eb7e34b53a4
DTSTAMP:20260424T142908Z
SUMMARY:KONKURADO: Arealentwicklung Im Bödeli - Baurechtausschreibung fü
 r gemeinnütziges Wohnen\, Abgabe Präqualifikation 29.01.2027 - 29.01.20
 27
DESCRIPTION:Link zum Verfahren: https://konkurado.ch/it/arealentwicklung-im
 -boedeli
X-MICROSOFT-CDO-ALLDAYEVENT:TRUE
DTSTART;TZID=Europe/Zurich;VALUE=DATE:20270129
END:VEVENT
BEGIN:VEVENT
UID:69eb7e34b53dd
DTSTAMP:20260424T142908Z
SUMMARY:KONKURADO: Arealentwicklung Im Bödeli - Baurechtausschreibung fü
 r gemeinnütziges Wohnen\, Abgabe Präqualifikation 29.01.2027 - 29.01.20
 27
DESCRIPTION:Link zum Verfahren: https://konkurado.ch/it/arealentwicklung-im
 -boedeli
X-MICROSOFT-CDO-ALLDAYEVENT:TRUE
DTSTART;TZID=Europe/Zurich;VALUE=DATE:20270129
END:VEVENT
BEGIN:VEVENT
UID:69eb7e34b543e
DTSTAMP:20260424T142908Z
SUMMARY:KONKURADO: Arealentwicklung Im Bödeli - Baurechtausschreibung fü
 r gemeinnütziges Wohnen\, Vorprüfung & Beurteilung Präqualifikation 30
 .01.2027 - 12.03.2027
DESCRIPTION:Link zum Verfahren: https://konkurado.ch/it/arealentwicklung-im
 -boedeli
X-MICROSOFT-CDO-ALLDAYEVENT:TRUE
DTSTART;TZID=Europe/Zurich;VALUE=DATE:20270130
END:VEVENT
BEGIN:VEVENT
UID:69eb7e34b5465
DTSTAMP:20260424T142908Z
SUMMARY:KONKURADO: Arealentwicklung Im Bödeli - Baurechtausschreibung fü
 r gemeinnütziges Wohnen\, Vorprüfung & Beurteilung Präqualifikation 30
 .01.2027 - 12.03.2027
DESCRIPTION:Link zum Verfahren: https://konkurado.ch/it/arealentwicklung-im
 -boedeli
X-MICROSOFT-CDO-ALLDAYEVENT:TRUE
DTSTART;TZID=Europe/Zurich;VALUE=DATE:20270312
END:VEVENT
BEGIN:VEVENT
UID:69eb7e34b54ba
DTSTAMP:20260424T142908Z
SUMMARY:KONKURADO: Arealentwicklung Im Bödeli - Baurechtausschreibung fü
 r gemeinnütziges Wohnen\, Entscheid Evaluationsgremium 15.03.2027 - 15.0
 3.2027
DESCRIPTION:Link zum Verfahren: https://konkurado.ch/it/arealentwicklung-im
 -boedeli
X-MICROSOFT-CDO-ALLDAYEVENT:TRUE
DTSTART;TZID=Europe/Zurich;VALUE=DATE:20270315
END:VEVENT
BEGIN:VEVENT
UID:69eb7e34b54df
DTSTAMP:20260424T142908Z
SUMMARY:KONKURADO: Arealentwicklung Im Bödeli - Baurechtausschreibung fü
 r gemeinnütziges Wohnen\, Entscheid Evaluationsgremium 15.03.2027 - 15.0
 3.2027
DESCRIPTION:Link zum Verfahren: https://konkurado.ch/it/arealentwicklung-im
 -boedeli
X-MICROSOFT-CDO-ALLDAYEVENT:TRUE
DTSTART;TZID=Europe/Zurich;VALUE=DATE:20270315
END:VEVENT
BEGIN:VEVENT
UID:69eb7e34b5530
DTSTAMP:20260424T142908Z
SUMMARY:KONKURADO: Arealentwicklung Im Bödeli - Baurechtausschreibung fü
 r gemeinnütziges Wohnen\, Versand Unterlagen 2. Phase 31.03.2027 - 31.03
 .2027
DESCRIPTION:Link zum Verfahren: https://konkurado.ch/it/arealentwicklung-im
 -boedeli
X-MICROSOFT-CDO-ALLDAYEVENT:TRUE
DTSTART;TZID=Europe/Zurich;VALUE=DATE:20270331
END:VEVENT
BEGIN:VEVENT
UID:69eb7e34b5556
DTSTAMP:20260424T142908Z
SUMMARY:KONKURADO: Arealentwicklung Im Bödeli - Baurechtausschreibung fü
 r gemeinnütziges Wohnen\, Versand Unterlagen 2. Phase 31.03.2027 - 31.03
 .2027
DESCRIPTION:Link zum Verfahren: https://konkurado.ch/it/arealentwicklung-im
 -boedeli
X-MICROSOFT-CDO-ALLDAYEVENT:TRUE
DTSTART;TZID=Europe/Zurich;VALUE=DATE:20270331
END:VEVENT
BEGIN:VEVENT
UID:69eb7e34b55a6
DTSTAMP:20260424T142908Z
SUMMARY:KONKURADO: Arealentwicklung Im Bödeli - Baurechtausschreibung fü
 r gemeinnütziges Wohnen\, Obligatorische Begehung 14.04.2027 - 14.04.202
 7
DESCRIPTION:Link zum Verfahren: https://konkurado.ch/it/arealentwicklung-im
 -boedeli
X-MICROSOFT-CDO-ALLDAYEVENT:TRUE
DTSTART;TZID=Europe/Zurich;VALUE=DATE:20270414
END:VEVENT
BEGIN:VEVENT
UID:69eb7e34b55cf
DTSTAMP:20260424T142908Z
SUMMARY:KONKURADO: Arealentwicklung Im Bödeli - Baurechtausschreibung fü
 r gemeinnütziges Wohnen\, Obligatorische Begehung 14.04.2027 - 14.04.202
 7
DESCRIPTION:Link zum Verfahren: https://konkurado.ch/it/arealentwicklung-im
 -boedeli
X-MICROSOFT-CDO-ALLDAYEVENT:TRUE
DTSTART;TZID=Europe/Zurich;VALUE=DATE:20270414
END:VEVENT
BEGIN:VEVENT
UID:69eb7e34b5621
DTSTAMP:20260424T142908Z
SUMMARY:KONKURADO: Arealentwicklung Im Bödeli - Baurechtausschreibung fü
 r gemeinnütziges Wohnen\, 3. Fragerunde 14.04.2027 - 21.04.2027
DESCRIPTION:Link zum Verfahren: https://konkurado.ch/it/arealentwicklung-im
 -boedeli
X-MICROSOFT-CDO-ALLDAYEVENT:TRUE
DTSTART;TZID=Europe/Zurich;VALUE=DATE:20270414
END:VEVENT
BEGIN:VEVENT
UID:69eb7e34b5647
DTSTAMP:20260424T142908Z
SUMMARY:KONKURADO: Arealentwicklung Im Bödeli - Baurechtausschreibung fü
 r gemeinnütziges Wohnen\, 3. Fragerunde 14.04.2027 - 21.04.2027
DESCRIPTION:Link zum Verfahren: https://konkurado.ch/it/arealentwicklung-im
 -boedeli
X-MICROSOFT-CDO-ALLDAYEVENT:TRUE
DTSTART;TZID=Europe/Zurich;VALUE=DATE:20270421
END:VEVENT
BEGIN:VEVENT
UID:69eb7e34b5695
DTSTAMP:20260424T142908Z
SUMMARY:KONKURADO: Arealentwicklung Im Bödeli - Baurechtausschreibung fü
 r gemeinnütziges Wohnen\, Beantwortung 3. Fragerunde 19.04.2027 - 30.04.
 2027
DESCRIPTION:Link zum Verfahren: https://konkurado.ch/it/arealentwicklung-im
 -boedeli
X-MICROSOFT-CDO-ALLDAYEVENT:TRUE
DTSTART;TZID=Europe/Zurich;VALUE=DATE:20270419
END:VEVENT
BEGIN:VEVENT
UID:69eb7e34b56ba
DTSTAMP:20260424T142908Z
SUMMARY:KONKURADO: Arealentwicklung Im Bödeli - Baurechtausschreibung fü
 r gemeinnütziges Wohnen\, Beantwortung 3. Fragerunde 19.04.2027 - 30.04.
 2027
DESCRIPTION:Link zum Verfahren: https://konkurado.ch/it/arealentwicklung-im
 -boedeli
X-MICROSOFT-CDO-ALLDAYEVENT:TRUE
DTSTART;TZID=Europe/Zurich;VALUE=DATE:20270430
END:VEVENT
BEGIN:VEVENT
UID:69eb7e34b5709
DTSTAMP:20260424T142908Z
SUMMARY:KONKURADO: Arealentwicklung Im Bödeli - Baurechtausschreibung fü
 r gemeinnütziges Wohnen\, Abgabe 02.07.2027 - 02.07.2027
DESCRIPTION:Link zum Verfahren: https://konkurado.ch/it/arealentwicklung-im
 -boedeli
X-MICROSOFT-CDO-ALLDAYEVENT:TRUE
DTSTART;TZID=Europe/Zurich;VALUE=DATE:20270702
END:VEVENT
BEGIN:VEVENT
UID:69eb7e34b572f
DTSTAMP:20260424T142908Z
SUMMARY:KONKURADO: Arealentwicklung Im Bödeli - Baurechtausschreibung fü
 r gemeinnütziges Wohnen\, Abgabe 02.07.2027 - 02.07.2027
DESCRIPTION:Link zum Verfahren: https://konkurado.ch/it/arealentwicklung-im
 -boedeli
X-MICROSOFT-CDO-ALLDAYEVENT:TRUE
DTSTART;TZID=Europe/Zurich;VALUE=DATE:20270702
END:VEVENT
BEGIN:VEVENT
UID:69eb7e34b577d
DTSTAMP:20260424T142908Z
SUMMARY:KONKURADO: Arealentwicklung Im Bödeli - Baurechtausschreibung fü
 r gemeinnütziges Wohnen\, Präsentationen der Teams 16.08.2027 - 31.08.2
 027
DESCRIPTION:Link zum Verfahren: https://konkurado.ch/it/arealentwicklung-im
 -boedeli
X-MICROSOFT-CDO-ALLDAYEVENT:TRUE
DTSTART;TZID=Europe/Zurich;VALUE=DATE:20270816
END:VEVENT
BEGIN:VEVENT
UID:69eb7e34b57a3
DTSTAMP:20260424T142908Z
SUMMARY:KONKURADO: Arealentwicklung Im Bödeli - Baurechtausschreibung fü
 r gemeinnütziges Wohnen\, Präsentationen der Teams 16.08.2027 - 31.08.2
 027
DESCRIPTION:Link zum Verfahren: https://konkurado.ch/it/arealentwicklung-im
 -boedeli
X-MICROSOFT-CDO-ALLDAYEVENT:TRUE
DTSTART;TZID=Europe/Zurich;VALUE=DATE:20270831
END:VEVENT
BEGIN:VEVENT
UID:69eb7e34b57f2
DTSTAMP:20260424T142908Z
SUMMARY:KONKURADO: Arealentwicklung Im Bödeli - Baurechtausschreibung fü
 r gemeinnütziges Wohnen\, Vorprüfung und Beurteilung Baurechtsvergabe 0
 1.09.2027 - 30.09.2027
DESCRIPTION:Link zum Verfahren: https://konkurado.ch/it/arealentwicklung-im
 -boedeli
X-MICROSOFT-CDO-ALLDAYEVENT:TRUE
DTSTART;TZID=Europe/Zurich;VALUE=DATE:20270901
END:VEVENT
BEGIN:VEVENT
UID:69eb7e34b5817
DTSTAMP:20260424T142908Z
SUMMARY:KONKURADO: Arealentwicklung Im Bödeli - Baurechtausschreibung fü
 r gemeinnütziges Wohnen\, Vorprüfung und Beurteilung Baurechtsvergabe 0
 1.09.2027 - 30.09.2027
DESCRIPTION:Link zum Verfahren: https://konkurado.ch/it/arealentwicklung-im
 -boedeli
X-MICROSOFT-CDO-ALLDAYEVENT:TRUE
DTSTART;TZID=Europe/Zurich;VALUE=DATE:20270930
END:VEVENT
BEGIN:VEVENT
UID:69eb7e34b5866
DTSTAMP:20260424T142908Z
SUMMARY:KONKURADO: Arealentwicklung Im Bödeli - Baurechtausschreibung fü
 r gemeinnütziges Wohnen\, Entscheid 30.11.2027 - 30.11.2027
DESCRIPTION:Link zum Verfahren: https://konkurado.ch/it/arealentwicklung-im
 -boedeli
X-MICROSOFT-CDO-ALLDAYEVENT:TRUE
DTSTART;TZID=Europe/Zurich;VALUE=DATE:20271130
END:VEVENT
BEGIN:VEVENT
UID:69eb7e34b588b
DTSTAMP:20260424T142908Z
SUMMARY:KONKURADO: Arealentwicklung Im Bödeli - Baurechtausschreibung fü
 r gemeinnütziges Wohnen\, Entscheid 30.11.2027 - 30.11.2027
DESCRIPTION:Link zum Verfahren: https://konkurado.ch/it/arealentwicklung-im
 -boedeli
X-MICROSOFT-CDO-ALLDAYEVENT:TRUE
DTSTART;TZID=Europe/Zurich;VALUE=DATE:20271130
END:VEVENT
END:VCALENDAR