BEGIN:VCALENDAR
VERSION:2.0
PRODID:spatie/icalendar-generator
NAME:ARA Hallau - Erweiterung ARA mit EMV-Stufe
X-WR-CALNAME:ARA Hallau - Erweiterung ARA mit EMV-Stufe
BEGIN:VTIMEZONE
TZID:Europe/Zurich
BEGIN:STANDARD
DTSTART:20251026T030000
TZOFFSETFROM:+0200
TZOFFSETTO:+0100
END:STANDARD
BEGIN:DAYLIGHT
DTSTART:20260329T010000
TZOFFSETFROM:+0100
TZOFFSETTO:+0200
END:DAYLIGHT
BEGIN:STANDARD
DTSTART:20261025T030000
TZOFFSETFROM:+0200
TZOFFSETTO:+0100
END:STANDARD
END:VTIMEZONE
BEGIN:VTIMEZONE
TZID:UTC
BEGIN:STANDARD
DTSTART:20250728T155234
TZOFFSETFROM:+0000
TZOFFSETTO:+0000
END:STANDARD
END:VTIMEZONE
BEGIN:VEVENT
UID:69eb91c2bc45b
DTSTAMP:20260424T155234Z
SUMMARY:KONKURADO: ARA Hallau - Erweiterung ARA mit EMV-Stufe\, Fragerunde\
 , einreichen bis 22.05.2026 - 22.05.2026
DESCRIPTION:Link zum Verfahren: https://konkurado.ch/it/ara-hallau-erweiter
 ung-ara-mit-emv-stufe
X-MICROSOFT-CDO-ALLDAYEVENT:TRUE
DTSTART;TZID=Europe/Zurich;VALUE=DATE:20260522
END:VEVENT
BEGIN:VEVENT
UID:69eb91c2bc4e0
DTSTAMP:20260424T155234Z
SUMMARY:KONKURADO: ARA Hallau - Erweiterung ARA mit EMV-Stufe\, Fragerunde\
 , einreichen bis 22.05.2026 - 22.05.2026
DESCRIPTION:Link zum Verfahren: https://konkurado.ch/it/ara-hallau-erweiter
 ung-ara-mit-emv-stufe
X-MICROSOFT-CDO-ALLDAYEVENT:TRUE
DTSTART;TZID=Europe/Zurich;VALUE=DATE:20260522
END:VEVENT
BEGIN:VEVENT
UID:69eb91c2bc558
DTSTAMP:20260424T155234Z
SUMMARY:KONKURADO: ARA Hallau - Erweiterung ARA mit EMV-Stufe\, Einreichen 
 von Angeboten bis 26.06.2026 - 26.06.2026
DESCRIPTION:Link zum Verfahren: https://konkurado.ch/it/ara-hallau-erweiter
 ung-ara-mit-emv-stufe
X-MICROSOFT-CDO-ALLDAYEVENT:TRUE
DTSTART;TZID=Europe/Zurich;VALUE=DATE:20260626
END:VEVENT
BEGIN:VEVENT
UID:69eb91c2bc580
DTSTAMP:20260424T155234Z
SUMMARY:KONKURADO: ARA Hallau - Erweiterung ARA mit EMV-Stufe\, Einreichen 
 von Angeboten bis 26.06.2026 - 26.06.2026
DESCRIPTION:Link zum Verfahren: https://konkurado.ch/it/ara-hallau-erweiter
 ung-ara-mit-emv-stufe
X-MICROSOFT-CDO-ALLDAYEVENT:TRUE
DTSTART;TZID=Europe/Zurich;VALUE=DATE:20260626
END:VEVENT
BEGIN:VEVENT
UID:69eb91c2bc5d8
DTSTAMP:20260424T155234Z
SUMMARY:KONKURADO: ARA Hallau - Erweiterung ARA mit EMV-Stufe\, Verfügbark
 eit der Ausschreibungsunterlagen 14.04.2026 - 26.06.2026
DESCRIPTION:Link zum Verfahren: https://konkurado.ch/it/ara-hallau-erweiter
 ung-ara-mit-emv-stufe
X-MICROSOFT-CDO-ALLDAYEVENT:TRUE
DTSTART;TZID=Europe/Zurich;VALUE=DATE:20260414
END:VEVENT
BEGIN:VEVENT
UID:69eb91c2bc5fe
DTSTAMP:20260424T155234Z
SUMMARY:KONKURADO: ARA Hallau - Erweiterung ARA mit EMV-Stufe\, Verfügbark
 eit der Ausschreibungsunterlagen 14.04.2026 - 26.06.2026
DESCRIPTION:Link zum Verfahren: https://konkurado.ch/it/ara-hallau-erweiter
 ung-ara-mit-emv-stufe
X-MICROSOFT-CDO-ALLDAYEVENT:TRUE
DTSTART;TZID=Europe/Zurich;VALUE=DATE:20260626
END:VEVENT
END:VCALENDAR