BEGIN:VCALENDAR
VERSION:2.0
PRODID:spatie/icalendar-generator
NAME:Ideen für die Zukunft des Wettbewerbs
X-WR-CALNAME:Ideen für die Zukunft des Wettbewerbs
BEGIN:VTIMEZONE
TZID:Europe/Zurich
BEGIN:STANDARD
DTSTART:20251026T030000
TZOFFSETFROM:+0200
TZOFFSETTO:+0100
END:STANDARD
BEGIN:DAYLIGHT
DTSTART:20260329T010000
TZOFFSETFROM:+0100
TZOFFSETTO:+0200
END:DAYLIGHT
BEGIN:STANDARD
DTSTART:20261025T030000
TZOFFSETFROM:+0200
TZOFFSETTO:+0100
END:STANDARD
END:VTIMEZONE
BEGIN:VTIMEZONE
TZID:UTC
BEGIN:STANDARD
DTSTART:20250727T090538
TZOFFSETFROM:+0000
TZOFFSETTO:+0000
END:STANDARD
END:VTIMEZONE
BEGIN:VEVENT
UID:69e9e0e2f2ad2
DTSTAMP:20260423T090538Z
SUMMARY:KONKURADO: Ideen für die Zukunft des Wettbewerbs\, Publikation der
  Unterlagen 09.03.2026 - 11.05.2026
DESCRIPTION:Link zum Verfahren: https://konkurado.ch/en/zukunft-wettbewerb
X-MICROSOFT-CDO-ALLDAYEVENT:TRUE
DTSTART;TZID=Europe/Zurich;VALUE=DATE:20260309
END:VEVENT
BEGIN:VEVENT
UID:69e9e0e2f2b97
DTSTAMP:20260423T090538Z
SUMMARY:KONKURADO: Ideen für die Zukunft des Wettbewerbs\, Publikation der
  Unterlagen 09.03.2026 - 11.05.2026
DESCRIPTION:Link zum Verfahren: https://konkurado.ch/en/zukunft-wettbewerb
X-MICROSOFT-CDO-ALLDAYEVENT:TRUE
DTSTART;TZID=Europe/Zurich;VALUE=DATE:20260511
END:VEVENT
BEGIN:VEVENT
UID:69e9e0e2f2bf3
DTSTAMP:20260423T090538Z
SUMMARY:KONKURADO: Ideen für die Zukunft des Wettbewerbs\, Fragerunde 10.0
 3.2026 - 02.04.2026
DESCRIPTION:Link zum Verfahren: https://konkurado.ch/en/zukunft-wettbewerb
X-MICROSOFT-CDO-ALLDAYEVENT:TRUE
DTSTART;TZID=Europe/Zurich;VALUE=DATE:20260310
END:VEVENT
BEGIN:VEVENT
UID:69e9e0e2f2c26
DTSTAMP:20260423T090538Z
SUMMARY:KONKURADO: Ideen für die Zukunft des Wettbewerbs\, Fragerunde 10.0
 3.2026 - 02.04.2026
DESCRIPTION:Link zum Verfahren: https://konkurado.ch/en/zukunft-wettbewerb
X-MICROSOFT-CDO-ALLDAYEVENT:TRUE
DTSTART;TZID=Europe/Zurich;VALUE=DATE:20260402
END:VEVENT
BEGIN:VEVENT
UID:69e9e0e2f2c5d
DTSTAMP:20260423T090538Z
SUMMARY:KONKURADO: Ideen für die Zukunft des Wettbewerbs\, Wettbewerbsabga
 be 18.05.2026 - 18.05.2026
DESCRIPTION:Link zum Verfahren: https://konkurado.ch/en/zukunft-wettbewerb
X-MICROSOFT-CDO-ALLDAYEVENT:TRUE
DTSTART;TZID=Europe/Zurich;VALUE=DATE:20260518
END:VEVENT
BEGIN:VEVENT
UID:69e9e0e2f2c87
DTSTAMP:20260423T090538Z
SUMMARY:KONKURADO: Ideen für die Zukunft des Wettbewerbs\, Wettbewerbsabga
 be 18.05.2026 - 18.05.2026
DESCRIPTION:Link zum Verfahren: https://konkurado.ch/en/zukunft-wettbewerb
X-MICROSOFT-CDO-ALLDAYEVENT:TRUE
DTSTART;TZID=Europe/Zurich;VALUE=DATE:20260518
END:VEVENT
BEGIN:VEVENT
UID:69e9e0e2f2ccc
DTSTAMP:20260423T090538Z
SUMMARY:KONKURADO: Ideen für die Zukunft des Wettbewerbs\, Jurierung 09.06
 .2026 - 09.06.2026
DESCRIPTION:Link zum Verfahren: https://konkurado.ch/en/zukunft-wettbewerb
X-MICROSOFT-CDO-ALLDAYEVENT:TRUE
DTSTART;TZID=Europe/Zurich;VALUE=DATE:20260609
END:VEVENT
BEGIN:VEVENT
UID:69e9e0e2f2cf2
DTSTAMP:20260423T090538Z
SUMMARY:KONKURADO: Ideen für die Zukunft des Wettbewerbs\, Jurierung 09.06
 .2026 - 09.06.2026
DESCRIPTION:Link zum Verfahren: https://konkurado.ch/en/zukunft-wettbewerb
X-MICROSOFT-CDO-ALLDAYEVENT:TRUE
DTSTART;TZID=Europe/Zurich;VALUE=DATE:20260609
END:VEVENT
BEGIN:VEVENT
UID:69e9e0e2f2d6f
DTSTAMP:20260423T090538Z
SUMMARY:KONKURADO: Ideen für die Zukunft des Wettbewerbs\, Vorankündigung
  16.02.2026 - 08.03.2026
DESCRIPTION:Link zum Verfahren: https://konkurado.ch/en/zukunft-wettbewerb
X-MICROSOFT-CDO-ALLDAYEVENT:TRUE
DTSTART;TZID=Europe/Zurich;VALUE=DATE:20260216
END:VEVENT
BEGIN:VEVENT
UID:69e9e0e2f2d96
DTSTAMP:20260423T090538Z
SUMMARY:KONKURADO: Ideen für die Zukunft des Wettbewerbs\, Vorankündigung
  16.02.2026 - 08.03.2026
DESCRIPTION:Link zum Verfahren: https://konkurado.ch/en/zukunft-wettbewerb
X-MICROSOFT-CDO-ALLDAYEVENT:TRUE
DTSTART;TZID=Europe/Zurich;VALUE=DATE:20260308
END:VEVENT
BEGIN:VEVENT
UID:69e9e0e2f2dcb
DTSTAMP:20260423T090538Z
SUMMARY:KONKURADO: Ideen für die Zukunft des Wettbewerbs\, Interessensbeku
 ndung 09.03.2026 - 18.05.2026
DESCRIPTION:Link zum Verfahren: https://konkurado.ch/en/zukunft-wettbewerb
X-MICROSOFT-CDO-ALLDAYEVENT:TRUE
DTSTART;TZID=Europe/Zurich;VALUE=DATE:20260309
END:VEVENT
BEGIN:VEVENT
UID:69e9e0e2f2df1
DTSTAMP:20260423T090538Z
SUMMARY:KONKURADO: Ideen für die Zukunft des Wettbewerbs\, Interessensbeku
 ndung 09.03.2026 - 18.05.2026
DESCRIPTION:Link zum Verfahren: https://konkurado.ch/en/zukunft-wettbewerb
X-MICROSOFT-CDO-ALLDAYEVENT:TRUE
DTSTART;TZID=Europe/Zurich;VALUE=DATE:20260518
END:VEVENT
END:VCALENDAR