BEGIN:VCALENDAR
VERSION:2.0
PRODID:spatie/icalendar-generator
NAME:Wohnsiedlung Herbstweg
X-WR-CALNAME:Wohnsiedlung Herbstweg
BEGIN:VTIMEZONE
TZID:Europe/Zurich
BEGIN:STANDARD
DTSTART:20251026T030000
TZOFFSETFROM:+0200
TZOFFSETTO:+0100
END:STANDARD
BEGIN:DAYLIGHT
DTSTART:20260329T010000
TZOFFSETFROM:+0100
TZOFFSETTO:+0200
END:DAYLIGHT
BEGIN:STANDARD
DTSTART:20261025T030000
TZOFFSETFROM:+0200
TZOFFSETTO:+0100
END:STANDARD
BEGIN:DAYLIGHT
DTSTART:20270328T010000
TZOFFSETFROM:+0100
TZOFFSETTO:+0200
END:DAYLIGHT
END:VTIMEZONE
BEGIN:VTIMEZONE
TZID:UTC
BEGIN:STANDARD
DTSTART:20250727T084701
TZOFFSETFROM:+0000
TZOFFSETTO:+0000
END:STANDARD
END:VTIMEZONE
BEGIN:VEVENT
UID:69e9dc8541d36
DTSTAMP:20260423T084701Z
SUMMARY:KONKURADO: Wohnsiedlung Herbstweg\, Fragestellung bis 10.04.2026 - 
 27.05.2026
DESCRIPTION:Link zum Verfahren: https://konkurado.ch/en/ws-herbstweg
X-MICROSOFT-CDO-ALLDAYEVENT:TRUE
DTSTART;TZID=Europe/Zurich;VALUE=DATE:20260410
END:VEVENT
BEGIN:VEVENT
UID:69e9dc8541e01
DTSTAMP:20260423T084701Z
SUMMARY:KONKURADO: Wohnsiedlung Herbstweg\, Fragestellung bis 10.04.2026 - 
 27.05.2026
DESCRIPTION:Link zum Verfahren: https://konkurado.ch/en/ws-herbstweg
X-MICROSOFT-CDO-ALLDAYEVENT:TRUE
DTSTART;TZID=Europe/Zurich;VALUE=DATE:20260527
END:VEVENT
BEGIN:VEVENT
UID:69e9dc8541e6c
DTSTAMP:20260423T084701Z
SUMMARY:KONKURADO: Wohnsiedlung Herbstweg\, Upload Unterlagen (digital) ink
 l. Verfasserdaten 10.04.2026 - 27.08.2026
DESCRIPTION:Link zum Verfahren: https://konkurado.ch/en/ws-herbstweg
X-MICROSOFT-CDO-ALLDAYEVENT:TRUE
DTSTART;TZID=Europe/Zurich;VALUE=DATE:20260410
END:VEVENT
BEGIN:VEVENT
UID:69e9dc8541ebb
DTSTAMP:20260423T084701Z
SUMMARY:KONKURADO: Wohnsiedlung Herbstweg\, Upload Unterlagen (digital) ink
 l. Verfasserdaten 10.04.2026 - 27.08.2026
DESCRIPTION:Link zum Verfahren: https://konkurado.ch/en/ws-herbstweg
X-MICROSOFT-CDO-ALLDAYEVENT:TRUE
DTSTART;TZID=Europe/Zurich;VALUE=DATE:20260827
END:VEVENT
BEGIN:VEVENT
UID:69e9dc8541f4b
DTSTAMP:20260423T084701Z
SUMMARY:KONKURADO: Wohnsiedlung Herbstweg\, Jurierung 14.09.2026 - 18.12.20
 26
DESCRIPTION:Link zum Verfahren: https://konkurado.ch/en/ws-herbstweg
X-MICROSOFT-CDO-ALLDAYEVENT:TRUE
DTSTART;TZID=Europe/Zurich;VALUE=DATE:20260914
END:VEVENT
BEGIN:VEVENT
UID:69e9dc8541f97
DTSTAMP:20260423T084701Z
SUMMARY:KONKURADO: Wohnsiedlung Herbstweg\, Jurierung 14.09.2026 - 18.12.20
 26
DESCRIPTION:Link zum Verfahren: https://konkurado.ch/en/ws-herbstweg
X-MICROSOFT-CDO-ALLDAYEVENT:TRUE
DTSTART;TZID=Europe/Zurich;VALUE=DATE:20261218
END:VEVENT
BEGIN:VEVENT
UID:69e9dc854220d
DTSTAMP:20260423T084701Z
SUMMARY:KONKURADO: Wohnsiedlung Herbstweg\, Fragebeantwortung bis 28.05.202
 6 - 16.06.2026
DESCRIPTION:Link zum Verfahren: https://konkurado.ch/en/ws-herbstweg
X-MICROSOFT-CDO-ALLDAYEVENT:TRUE
DTSTART;TZID=Europe/Zurich;VALUE=DATE:20260528
END:VEVENT
BEGIN:VEVENT
UID:69e9dc8542259
DTSTAMP:20260423T084701Z
SUMMARY:KONKURADO: Wohnsiedlung Herbstweg\, Fragebeantwortung bis 28.05.202
 6 - 16.06.2026
DESCRIPTION:Link zum Verfahren: https://konkurado.ch/en/ws-herbstweg
X-MICROSOFT-CDO-ALLDAYEVENT:TRUE
DTSTART;TZID=Europe/Zurich;VALUE=DATE:20260616
END:VEVENT
BEGIN:VEVENT
UID:69e9dc854230f
DTSTAMP:20260423T084701Z
SUMMARY:KONKURADO: Wohnsiedlung Herbstweg\, Abgabe Unterlagen (Papierform) 
 10.04.2026 - 28.08.2026
DESCRIPTION:Link zum Verfahren: https://konkurado.ch/en/ws-herbstweg
X-MICROSOFT-CDO-ALLDAYEVENT:TRUE
DTSTART;TZID=Europe/Zurich;VALUE=DATE:20260410
END:VEVENT
BEGIN:VEVENT
UID:69e9dc854235e
DTSTAMP:20260423T084701Z
SUMMARY:KONKURADO: Wohnsiedlung Herbstweg\, Abgabe Unterlagen (Papierform) 
 10.04.2026 - 28.08.2026
DESCRIPTION:Link zum Verfahren: https://konkurado.ch/en/ws-herbstweg
X-MICROSOFT-CDO-ALLDAYEVENT:TRUE
DTSTART;TZID=Europe/Zurich;VALUE=DATE:20260828
END:VEVENT
BEGIN:VEVENT
UID:69e9dc8542411
DTSTAMP:20260423T084701Z
SUMMARY:KONKURADO: Wohnsiedlung Herbstweg\, Abgabe Modell 08.05.2026 - 10.0
 9.2026
DESCRIPTION:Link zum Verfahren: https://konkurado.ch/en/ws-herbstweg
X-MICROSOFT-CDO-ALLDAYEVENT:TRUE
DTSTART;TZID=Europe/Zurich;VALUE=DATE:20260508
END:VEVENT
BEGIN:VEVENT
UID:69e9dc8542460
DTSTAMP:20260423T084701Z
SUMMARY:KONKURADO: Wohnsiedlung Herbstweg\, Abgabe Modell 08.05.2026 - 10.0
 9.2026
DESCRIPTION:Link zum Verfahren: https://konkurado.ch/en/ws-herbstweg
X-MICROSOFT-CDO-ALLDAYEVENT:TRUE
DTSTART;TZID=Europe/Zurich;VALUE=DATE:20260910
END:VEVENT
BEGIN:VEVENT
UID:69e9dc854250e
DTSTAMP:20260423T084701Z
SUMMARY:KONKURADO: Wohnsiedlung Herbstweg\, Publikation der Unterlagen 10.0
 4.2026 - 10.04.2026
DESCRIPTION:Link zum Verfahren: https://konkurado.ch/en/ws-herbstweg
X-MICROSOFT-CDO-ALLDAYEVENT:TRUE
DTSTART;TZID=Europe/Zurich;VALUE=DATE:20260410
END:VEVENT
BEGIN:VEVENT
UID:69e9dc8542558
DTSTAMP:20260423T084701Z
SUMMARY:KONKURADO: Wohnsiedlung Herbstweg\, Publikation der Unterlagen 10.0
 4.2026 - 10.04.2026
DESCRIPTION:Link zum Verfahren: https://konkurado.ch/en/ws-herbstweg
X-MICROSOFT-CDO-ALLDAYEVENT:TRUE
DTSTART;TZID=Europe/Zurich;VALUE=DATE:20260410
END:VEVENT
BEGIN:VEVENT
UID:69e9dc85425c2
DTSTAMP:20260423T084701Z
SUMMARY:KONKURADO: Wohnsiedlung Herbstweg\, Anmeldung für ordentlichen Mod
 ellbezug 10.04.2026 - 23.04.2026
DESCRIPTION:Link zum Verfahren: https://konkurado.ch/en/ws-herbstweg
X-MICROSOFT-CDO-ALLDAYEVENT:TRUE
DTSTART;TZID=Europe/Zurich;VALUE=DATE:20260410
END:VEVENT
BEGIN:VEVENT
UID:69e9dc8542608
DTSTAMP:20260423T084701Z
SUMMARY:KONKURADO: Wohnsiedlung Herbstweg\, Anmeldung für ordentlichen Mod
 ellbezug 10.04.2026 - 23.04.2026
DESCRIPTION:Link zum Verfahren: https://konkurado.ch/en/ws-herbstweg
X-MICROSOFT-CDO-ALLDAYEVENT:TRUE
DTSTART;TZID=Europe/Zurich;VALUE=DATE:20260423
END:VEVENT
BEGIN:VEVENT
UID:69e9dc85426a7
DTSTAMP:20260423T084701Z
SUMMARY:KONKURADO: Wohnsiedlung Herbstweg\, Ordentliche Modellausgabe 10.04
 .2026 - 13.05.2026
DESCRIPTION:Link zum Verfahren: https://konkurado.ch/en/ws-herbstweg
X-MICROSOFT-CDO-ALLDAYEVENT:TRUE
DTSTART;TZID=Europe/Zurich;VALUE=DATE:20260410
END:VEVENT
BEGIN:VEVENT
UID:69e9dc85426ec
DTSTAMP:20260423T084701Z
SUMMARY:KONKURADO: Wohnsiedlung Herbstweg\, Ordentliche Modellausgabe 10.04
 .2026 - 13.05.2026
DESCRIPTION:Link zum Verfahren: https://konkurado.ch/en/ws-herbstweg
X-MICROSOFT-CDO-ALLDAYEVENT:TRUE
DTSTART;TZID=Europe/Zurich;VALUE=DATE:20260513
END:VEVENT
BEGIN:VEVENT
UID:69e9dc854274c
DTSTAMP:20260423T084701Z
SUMMARY:KONKURADO: Wohnsiedlung Herbstweg\, Anmeldung für nachträglichen 
 Modellbezug 24.04.2026 - 20.08.2026
DESCRIPTION:Link zum Verfahren: https://konkurado.ch/en/ws-herbstweg
X-MICROSOFT-CDO-ALLDAYEVENT:TRUE
DTSTART;TZID=Europe/Zurich;VALUE=DATE:20260424
END:VEVENT
BEGIN:VEVENT
UID:69e9dc8542799
DTSTAMP:20260423T084701Z
SUMMARY:KONKURADO: Wohnsiedlung Herbstweg\, Anmeldung für nachträglichen 
 Modellbezug 24.04.2026 - 20.08.2026
DESCRIPTION:Link zum Verfahren: https://konkurado.ch/en/ws-herbstweg
X-MICROSOFT-CDO-ALLDAYEVENT:TRUE
DTSTART;TZID=Europe/Zurich;VALUE=DATE:20260820
END:VEVENT
BEGIN:VEVENT
UID:69e9dc8542883
DTSTAMP:20260423T084701Z
SUMMARY:KONKURADO: Wohnsiedlung Herbstweg\, Nachträgliche Modellausgabe ab
  24.04.2026 - 03.09.2026
DESCRIPTION:Link zum Verfahren: https://konkurado.ch/en/ws-herbstweg
X-MICROSOFT-CDO-ALLDAYEVENT:TRUE
DTSTART;TZID=Europe/Zurich;VALUE=DATE:20260424
END:VEVENT
BEGIN:VEVENT
UID:69e9dc85428d6
DTSTAMP:20260423T084701Z
SUMMARY:KONKURADO: Wohnsiedlung Herbstweg\, Nachträgliche Modellausgabe ab
  24.04.2026 - 03.09.2026
DESCRIPTION:Link zum Verfahren: https://konkurado.ch/en/ws-herbstweg
X-MICROSOFT-CDO-ALLDAYEVENT:TRUE
DTSTART;TZID=Europe/Zurich;VALUE=DATE:20260903
END:VEVENT
END:VCALENDAR