BEGIN:VCALENDAR
VERSION:2.0
PRODID:spatie/icalendar-generator
NAME:Areal Wolf – Basel | Zirkulärer Wohnungsneubau mit Bauteilwiederver
 wendung - MF05
X-WR-CALNAME:Areal Wolf – Basel | Zirkulärer Wohnungsneubau mit Bauteilw
 iederverwendung - MF05
BEGIN:VTIMEZONE
TZID:Europe/Zurich
BEGIN:DAYLIGHT
DTSTART:20240331T010000
TZOFFSETFROM:+0100
TZOFFSETTO:+0200
END:DAYLIGHT
BEGIN:STANDARD
DTSTART:20241027T030000
TZOFFSETFROM:+0200
TZOFFSETTO:+0100
END:STANDARD
BEGIN:DAYLIGHT
DTSTART:20250330T010000
TZOFFSETFROM:+0100
TZOFFSETTO:+0200
END:DAYLIGHT
END:VTIMEZONE
BEGIN:VTIMEZONE
TZID:UTC
BEGIN:STANDARD
DTSTART:20250727T115146
TZOFFSETFROM:+0000
TZOFFSETTO:+0000
END:STANDARD
END:VTIMEZONE
BEGIN:VEVENT
UID:69ea07d2436d7
DTSTAMP:20260423T115146Z
SUMMARY:KONKURADO: Areal Wolf – Basel | Zirkulärer Wohnungsneubau mit Ba
 uteilwiederverwendung - MF05\, Anmeldung zur Begehung 12.11.2024 - 27.11.2
 024
DESCRIPTION:Link zum Verfahren: https://konkurado.ch/en/wolf-basel-MF05
X-MICROSOFT-CDO-ALLDAYEVENT:TRUE
DTSTART;TZID=Europe/Zurich;VALUE=DATE:20241112
END:VEVENT
BEGIN:VEVENT
UID:69ea07d243793
DTSTAMP:20260423T115146Z
SUMMARY:KONKURADO: Areal Wolf – Basel | Zirkulärer Wohnungsneubau mit Ba
 uteilwiederverwendung - MF05\, Anmeldung zur Begehung 12.11.2024 - 27.11.2
 024
DESCRIPTION:Link zum Verfahren: https://konkurado.ch/en/wolf-basel-MF05
X-MICROSOFT-CDO-ALLDAYEVENT:TRUE
DTSTART;TZID=Europe/Zurich;VALUE=DATE:20241127
END:VEVENT
BEGIN:VEVENT
UID:69ea07d2437f3
DTSTAMP:20260423T115146Z
SUMMARY:KONKURADO: Areal Wolf – Basel | Zirkulärer Wohnungsneubau mit Ba
 uteilwiederverwendung - MF05\, Abgabe Stufe 1 - Ideenskizze 12.11.2024 - 2
 4.01.2025
DESCRIPTION:Link zum Verfahren: https://konkurado.ch/en/wolf-basel-MF05
X-MICROSOFT-CDO-ALLDAYEVENT:TRUE
DTSTART;TZID=Europe/Zurich;VALUE=DATE:20241112
END:VEVENT
BEGIN:VEVENT
UID:69ea07d24383b
DTSTAMP:20260423T115146Z
SUMMARY:KONKURADO: Areal Wolf – Basel | Zirkulärer Wohnungsneubau mit Ba
 uteilwiederverwendung - MF05\, Abgabe Stufe 1 - Ideenskizze 12.11.2024 - 2
 4.01.2025
DESCRIPTION:Link zum Verfahren: https://konkurado.ch/en/wolf-basel-MF05
X-MICROSOFT-CDO-ALLDAYEVENT:TRUE
DTSTART;TZID=Europe/Zurich;VALUE=DATE:20250124
END:VEVENT
BEGIN:VEVENT
UID:69ea07d2438af
DTSTAMP:20260423T115146Z
SUMMARY:KONKURADO: Areal Wolf – Basel | Zirkulärer Wohnungsneubau mit Ba
 uteilwiederverwendung - MF05\, Jurierung Stufe 1 04.02.2025 - 04.02.2025
DESCRIPTION:Link zum Verfahren: https://konkurado.ch/en/wolf-basel-MF05
X-MICROSOFT-CDO-ALLDAYEVENT:TRUE
DTSTART;TZID=Europe/Zurich;VALUE=DATE:20250204
END:VEVENT
BEGIN:VEVENT
UID:69ea07d2438fa
DTSTAMP:20260423T115146Z
SUMMARY:KONKURADO: Areal Wolf – Basel | Zirkulärer Wohnungsneubau mit Ba
 uteilwiederverwendung - MF05\, Jurierung Stufe 1 04.02.2025 - 04.02.2025
DESCRIPTION:Link zum Verfahren: https://konkurado.ch/en/wolf-basel-MF05
X-MICROSOFT-CDO-ALLDAYEVENT:TRUE
DTSTART;TZID=Europe/Zurich;VALUE=DATE:20250204
END:VEVENT
BEGIN:VEVENT
UID:69ea07d243a9a
DTSTAMP:20260423T115146Z
SUMMARY:KONKURADO: Areal Wolf – Basel | Zirkulärer Wohnungsneubau mit Ba
 uteilwiederverwendung - MF05\, Obligatorische Begehung 12.11.2024 - 28.11.
 2024
DESCRIPTION:Link zum Verfahren: https://konkurado.ch/en/wolf-basel-MF05
X-MICROSOFT-CDO-ALLDAYEVENT:TRUE
DTSTART;TZID=Europe/Zurich;VALUE=DATE:20241112
END:VEVENT
BEGIN:VEVENT
UID:69ea07d243aec
DTSTAMP:20260423T115146Z
SUMMARY:KONKURADO: Areal Wolf – Basel | Zirkulärer Wohnungsneubau mit Ba
 uteilwiederverwendung - MF05\, Obligatorische Begehung 12.11.2024 - 28.11.
 2024
DESCRIPTION:Link zum Verfahren: https://konkurado.ch/en/wolf-basel-MF05
X-MICROSOFT-CDO-ALLDAYEVENT:TRUE
DTSTART;TZID=Europe/Zurich;VALUE=DATE:20241128
END:VEVENT
BEGIN:VEVENT
UID:69ea07d243b4c
DTSTAMP:20260423T115146Z
SUMMARY:KONKURADO: Areal Wolf – Basel | Zirkulärer Wohnungsneubau mit Ba
 uteilwiederverwendung - MF05\, Fragen 12.11.2024 - 02.12.2024
DESCRIPTION:Link zum Verfahren: https://konkurado.ch/en/wolf-basel-MF05
X-MICROSOFT-CDO-ALLDAYEVENT:TRUE
DTSTART;TZID=Europe/Zurich;VALUE=DATE:20241112
END:VEVENT
BEGIN:VEVENT
UID:69ea07d243b8e
DTSTAMP:20260423T115146Z
SUMMARY:KONKURADO: Areal Wolf – Basel | Zirkulärer Wohnungsneubau mit Ba
 uteilwiederverwendung - MF05\, Fragen 12.11.2024 - 02.12.2024
DESCRIPTION:Link zum Verfahren: https://konkurado.ch/en/wolf-basel-MF05
X-MICROSOFT-CDO-ALLDAYEVENT:TRUE
DTSTART;TZID=Europe/Zurich;VALUE=DATE:20241202
END:VEVENT
BEGIN:VEVENT
UID:69ea07d243c27
DTSTAMP:20260423T115146Z
SUMMARY:KONKURADO: Areal Wolf – Basel | Zirkulärer Wohnungsneubau mit Ba
 uteilwiederverwendung - MF05\, Fragen und Antworten 06.12.2024 - 24.01.202
 5
DESCRIPTION:Link zum Verfahren: https://konkurado.ch/en/wolf-basel-MF05
X-MICROSOFT-CDO-ALLDAYEVENT:TRUE
DTSTART;TZID=Europe/Zurich;VALUE=DATE:20241206
END:VEVENT
BEGIN:VEVENT
UID:69ea07d243c6e
DTSTAMP:20260423T115146Z
SUMMARY:KONKURADO: Areal Wolf – Basel | Zirkulärer Wohnungsneubau mit Ba
 uteilwiederverwendung - MF05\, Fragen und Antworten 06.12.2024 - 24.01.202
 5
DESCRIPTION:Link zum Verfahren: https://konkurado.ch/en/wolf-basel-MF05
X-MICROSOFT-CDO-ALLDAYEVENT:TRUE
DTSTART;TZID=Europe/Zurich;VALUE=DATE:20250124
END:VEVENT
END:VCALENDAR