BEGIN:VCALENDAR
VERSION:2.0
PRODID:spatie/icalendar-generator
NAME:Wohnsiedlung Chasern
X-WR-CALNAME:Wohnsiedlung Chasern
BEGIN:VTIMEZONE
TZID:Europe/Zurich
BEGIN:STANDARD
DTSTART:20241027T030000
TZOFFSETFROM:+0200
TZOFFSETTO:+0100
END:STANDARD
BEGIN:DAYLIGHT
DTSTART:20250330T010000
TZOFFSETFROM:+0100
TZOFFSETTO:+0200
END:DAYLIGHT
BEGIN:STANDARD
DTSTART:20251026T030000
TZOFFSETFROM:+0200
TZOFFSETTO:+0100
END:STANDARD
BEGIN:DAYLIGHT
DTSTART:20260329T010000
TZOFFSETFROM:+0100
TZOFFSETTO:+0200
END:DAYLIGHT
BEGIN:STANDARD
DTSTART:20261025T030000
TZOFFSETFROM:+0200
TZOFFSETTO:+0100
END:STANDARD
END:VTIMEZONE
BEGIN:VTIMEZONE
TZID:UTC
BEGIN:STANDARD
DTSTART:20250727T154500
TZOFFSETFROM:+0000
TZOFFSETTO:+0000
END:STANDARD
END:VTIMEZONE
BEGIN:VEVENT
UID:69ea3e7c4de72
DTSTAMP:20260423T154500Z
SUMMARY:KONKURADO: Wohnsiedlung Chasern\, Einreichung Bewerbungen 07.05.202
 5 - 12.06.2025
DESCRIPTION:Link zum Verfahren: https://konkurado.ch/en/wohnsiedlung-chaser
 n
X-MICROSOFT-CDO-ALLDAYEVENT:TRUE
DTSTART;TZID=Europe/Zurich;VALUE=DATE:20250507
END:VEVENT
BEGIN:VEVENT
UID:69ea3e7c4df13
DTSTAMP:20260423T154500Z
SUMMARY:KONKURADO: Wohnsiedlung Chasern\, Einreichung Bewerbungen 07.05.202
 5 - 12.06.2025
DESCRIPTION:Link zum Verfahren: https://konkurado.ch/en/wohnsiedlung-chaser
 n
X-MICROSOFT-CDO-ALLDAYEVENT:TRUE
DTSTART;TZID=Europe/Zurich;VALUE=DATE:20250612
END:VEVENT
BEGIN:VEVENT
UID:69ea3e7c4df52
DTSTAMP:20260423T154500Z
SUMMARY:KONKURADO: Wohnsiedlung Chasern\, Einreichung Pläne 13.11.2025 - 1
 3.11.2025
DESCRIPTION:Link zum Verfahren: https://konkurado.ch/en/wohnsiedlung-chaser
 n
X-MICROSOFT-CDO-ALLDAYEVENT:TRUE
DTSTART;TZID=Europe/Zurich;VALUE=DATE:20251113
END:VEVENT
BEGIN:VEVENT
UID:69ea3e7c4df79
DTSTAMP:20260423T154500Z
SUMMARY:KONKURADO: Wohnsiedlung Chasern\, Einreichung Pläne 13.11.2025 - 1
 3.11.2025
DESCRIPTION:Link zum Verfahren: https://konkurado.ch/en/wohnsiedlung-chaser
 n
X-MICROSOFT-CDO-ALLDAYEVENT:TRUE
DTSTART;TZID=Europe/Zurich;VALUE=DATE:20251113
END:VEVENT
BEGIN:VEVENT
UID:69ea3e7c4dfc1
DTSTAMP:20260423T154500Z
SUMMARY:KONKURADO: Wohnsiedlung Chasern\, Beurteilung 1. Stufe 01.12.2025 -
  01.12.2025
DESCRIPTION:Link zum Verfahren: https://konkurado.ch/en/wohnsiedlung-chaser
 n
X-MICROSOFT-CDO-ALLDAYEVENT:TRUE
DTSTART;TZID=Europe/Zurich;VALUE=DATE:20251201
END:VEVENT
BEGIN:VEVENT
UID:69ea3e7c4dfe7
DTSTAMP:20260423T154500Z
SUMMARY:KONKURADO: Wohnsiedlung Chasern\, Beurteilung 1. Stufe 01.12.2025 -
  01.12.2025
DESCRIPTION:Link zum Verfahren: https://konkurado.ch/en/wohnsiedlung-chaser
 n
X-MICROSOFT-CDO-ALLDAYEVENT:TRUE
DTSTART;TZID=Europe/Zurich;VALUE=DATE:20251201
END:VEVENT
BEGIN:VEVENT
UID:69ea3e7c4e16e
DTSTAMP:20260423T154500Z
SUMMARY:KONKURADO: Wohnsiedlung Chasern\, Präqualifikation 23.06.2025 - 23
 .06.2025
DESCRIPTION:Link zum Verfahren: https://konkurado.ch/en/wohnsiedlung-chaser
 n
X-MICROSOFT-CDO-ALLDAYEVENT:TRUE
DTSTART;TZID=Europe/Zurich;VALUE=DATE:20250623
END:VEVENT
BEGIN:VEVENT
UID:69ea3e7c4e199
DTSTAMP:20260423T154500Z
SUMMARY:KONKURADO: Wohnsiedlung Chasern\, Präqualifikation 23.06.2025 - 23
 .06.2025
DESCRIPTION:Link zum Verfahren: https://konkurado.ch/en/wohnsiedlung-chaser
 n
X-MICROSOFT-CDO-ALLDAYEVENT:TRUE
DTSTART;TZID=Europe/Zurich;VALUE=DATE:20250623
END:VEVENT
BEGIN:VEVENT
UID:69ea3e7c4e1fb
DTSTAMP:20260423T154500Z
SUMMARY:KONKURADO: Wohnsiedlung Chasern\, Startveranstaltung 19.08.2025 - 1
 9.08.2025
DESCRIPTION:Link zum Verfahren: https://konkurado.ch/en/wohnsiedlung-chaser
 n
X-MICROSOFT-CDO-ALLDAYEVENT:TRUE
DTSTART;TZID=Europe/Zurich;VALUE=DATE:20250819
END:VEVENT
BEGIN:VEVENT
UID:69ea3e7c4e221
DTSTAMP:20260423T154500Z
SUMMARY:KONKURADO: Wohnsiedlung Chasern\, Startveranstaltung 19.08.2025 - 1
 9.08.2025
DESCRIPTION:Link zum Verfahren: https://konkurado.ch/en/wohnsiedlung-chaser
 n
X-MICROSOFT-CDO-ALLDAYEVENT:TRUE
DTSTART;TZID=Europe/Zurich;VALUE=DATE:20250819
END:VEVENT
BEGIN:VEVENT
UID:69ea3e7c4e277
DTSTAMP:20260423T154500Z
SUMMARY:KONKURADO: Wohnsiedlung Chasern\, Fragenbeantwortung bis 10.09.2025
  - 10.09.2025
DESCRIPTION:Link zum Verfahren: https://konkurado.ch/en/wohnsiedlung-chaser
 n
X-MICROSOFT-CDO-ALLDAYEVENT:TRUE
DTSTART;TZID=Europe/Zurich;VALUE=DATE:20250910
END:VEVENT
BEGIN:VEVENT
UID:69ea3e7c4e29d
DTSTAMP:20260423T154500Z
SUMMARY:KONKURADO: Wohnsiedlung Chasern\, Fragenbeantwortung bis 10.09.2025
  - 10.09.2025
DESCRIPTION:Link zum Verfahren: https://konkurado.ch/en/wohnsiedlung-chaser
 n
X-MICROSOFT-CDO-ALLDAYEVENT:TRUE
DTSTART;TZID=Europe/Zurich;VALUE=DATE:20250910
END:VEVENT
BEGIN:VEVENT
UID:69ea3e7c4e2f0
DTSTAMP:20260423T154500Z
SUMMARY:KONKURADO: Wohnsiedlung Chasern\, Zwischenbesprechung 25.09.2025 - 
 25.09.2025
DESCRIPTION:Link zum Verfahren: https://konkurado.ch/en/wohnsiedlung-chaser
 n
X-MICROSOFT-CDO-ALLDAYEVENT:TRUE
DTSTART;TZID=Europe/Zurich;VALUE=DATE:20250925
END:VEVENT
BEGIN:VEVENT
UID:69ea3e7c4e316
DTSTAMP:20260423T154500Z
SUMMARY:KONKURADO: Wohnsiedlung Chasern\, Zwischenbesprechung 25.09.2025 - 
 25.09.2025
DESCRIPTION:Link zum Verfahren: https://konkurado.ch/en/wohnsiedlung-chaser
 n
X-MICROSOFT-CDO-ALLDAYEVENT:TRUE
DTSTART;TZID=Europe/Zurich;VALUE=DATE:20250925
END:VEVENT
BEGIN:VEVENT
UID:69ea3e7c4e375
DTSTAMP:20260423T154500Z
SUMMARY:KONKURADO: Wohnsiedlung Chasern\, Rückmeldung ZB bis 02.10.2025 - 
 02.10.2025
DESCRIPTION:Link zum Verfahren: https://konkurado.ch/en/wohnsiedlung-chaser
 n
X-MICROSOFT-CDO-ALLDAYEVENT:TRUE
DTSTART;TZID=Europe/Zurich;VALUE=DATE:20251002
END:VEVENT
BEGIN:VEVENT
UID:69ea3e7c4e39c
DTSTAMP:20260423T154500Z
SUMMARY:KONKURADO: Wohnsiedlung Chasern\, Rückmeldung ZB bis 02.10.2025 - 
 02.10.2025
DESCRIPTION:Link zum Verfahren: https://konkurado.ch/en/wohnsiedlung-chaser
 n
X-MICROSOFT-CDO-ALLDAYEVENT:TRUE
DTSTART;TZID=Europe/Zurich;VALUE=DATE:20251002
END:VEVENT
BEGIN:VEVENT
UID:69ea3e7c4e3ef
DTSTAMP:20260423T154500Z
SUMMARY:KONKURADO: Wohnsiedlung Chasern\, Einreichung Modell 25.11.2025 - 2
 5.11.2025
DESCRIPTION:Link zum Verfahren: https://konkurado.ch/en/wohnsiedlung-chaser
 n
X-MICROSOFT-CDO-ALLDAYEVENT:TRUE
DTSTART;TZID=Europe/Zurich;VALUE=DATE:20251125
END:VEVENT
BEGIN:VEVENT
UID:69ea3e7c4e415
DTSTAMP:20260423T154500Z
SUMMARY:KONKURADO: Wohnsiedlung Chasern\, Einreichung Modell 25.11.2025 - 2
 5.11.2025
DESCRIPTION:Link zum Verfahren: https://konkurado.ch/en/wohnsiedlung-chaser
 n
X-MICROSOFT-CDO-ALLDAYEVENT:TRUE
DTSTART;TZID=Europe/Zurich;VALUE=DATE:20251125
END:VEVENT
BEGIN:VEVENT
UID:69ea3e7c4e466
DTSTAMP:20260423T154500Z
SUMMARY:KONKURADO: Wohnsiedlung Chasern\, Ausgabe Unterlagen 2. Stufe 20.01
 .2026 - 20.01.2026
DESCRIPTION:Link zum Verfahren: https://konkurado.ch/en/wohnsiedlung-chaser
 n
X-MICROSOFT-CDO-ALLDAYEVENT:TRUE
DTSTART;TZID=Europe/Zurich;VALUE=DATE:20260120
END:VEVENT
BEGIN:VEVENT
UID:69ea3e7c4e48c
DTSTAMP:20260423T154500Z
SUMMARY:KONKURADO: Wohnsiedlung Chasern\, Ausgabe Unterlagen 2. Stufe 20.01
 .2026 - 20.01.2026
DESCRIPTION:Link zum Verfahren: https://konkurado.ch/en/wohnsiedlung-chaser
 n
X-MICROSOFT-CDO-ALLDAYEVENT:TRUE
DTSTART;TZID=Europe/Zurich;VALUE=DATE:20260120
END:VEVENT
BEGIN:VEVENT
UID:69ea3e7c4e4dc
DTSTAMP:20260423T154500Z
SUMMARY:KONKURADO: Wohnsiedlung Chasern\, Ausgabe Unterlagen: Fragenbeantwo
 rtung bis 06.02.2026 - 06.02.2026
DESCRIPTION:Link zum Verfahren: https://konkurado.ch/en/wohnsiedlung-chaser
 n
X-MICROSOFT-CDO-ALLDAYEVENT:TRUE
DTSTART;TZID=Europe/Zurich;VALUE=DATE:20260206
END:VEVENT
BEGIN:VEVENT
UID:69ea3e7c4e502
DTSTAMP:20260423T154500Z
SUMMARY:KONKURADO: Wohnsiedlung Chasern\, Ausgabe Unterlagen: Fragenbeantwo
 rtung bis 06.02.2026 - 06.02.2026
DESCRIPTION:Link zum Verfahren: https://konkurado.ch/en/wohnsiedlung-chaser
 n
X-MICROSOFT-CDO-ALLDAYEVENT:TRUE
DTSTART;TZID=Europe/Zurich;VALUE=DATE:20260206
END:VEVENT
BEGIN:VEVENT
UID:69ea3e7c4e553
DTSTAMP:20260423T154500Z
SUMMARY:KONKURADO: Wohnsiedlung Chasern\, Abgabe für ZB 10.03.2026 - 10.03
 .2026
DESCRIPTION:Link zum Verfahren: https://konkurado.ch/en/wohnsiedlung-chaser
 n
X-MICROSOFT-CDO-ALLDAYEVENT:TRUE
DTSTART;TZID=Europe/Zurich;VALUE=DATE:20260310
END:VEVENT
BEGIN:VEVENT
UID:69ea3e7c4e579
DTSTAMP:20260423T154500Z
SUMMARY:KONKURADO: Wohnsiedlung Chasern\, Abgabe für ZB 10.03.2026 - 10.03
 .2026
DESCRIPTION:Link zum Verfahren: https://konkurado.ch/en/wohnsiedlung-chaser
 n
X-MICROSOFT-CDO-ALLDAYEVENT:TRUE
DTSTART;TZID=Europe/Zurich;VALUE=DATE:20260310
END:VEVENT
BEGIN:VEVENT
UID:69ea3e7c4e5c9
DTSTAMP:20260423T154500Z
SUMMARY:KONKURADO: Wohnsiedlung Chasern\, Zwischenbesprechung 17.03.2026 - 
 17.03.2026
DESCRIPTION:Link zum Verfahren: https://konkurado.ch/en/wohnsiedlung-chaser
 n
X-MICROSOFT-CDO-ALLDAYEVENT:TRUE
DTSTART;TZID=Europe/Zurich;VALUE=DATE:20260317
END:VEVENT
BEGIN:VEVENT
UID:69ea3e7c4e5ef
DTSTAMP:20260423T154500Z
SUMMARY:KONKURADO: Wohnsiedlung Chasern\, Zwischenbesprechung 17.03.2026 - 
 17.03.2026
DESCRIPTION:Link zum Verfahren: https://konkurado.ch/en/wohnsiedlung-chaser
 n
X-MICROSOFT-CDO-ALLDAYEVENT:TRUE
DTSTART;TZID=Europe/Zurich;VALUE=DATE:20260317
END:VEVENT
BEGIN:VEVENT
UID:69ea3e7c4e640
DTSTAMP:20260423T154500Z
SUMMARY:KONKURADO: Wohnsiedlung Chasern\, Rückmeldung ZB 23.03.2026 - 23.0
 3.2026
DESCRIPTION:Link zum Verfahren: https://konkurado.ch/en/wohnsiedlung-chaser
 n
X-MICROSOFT-CDO-ALLDAYEVENT:TRUE
DTSTART;TZID=Europe/Zurich;VALUE=DATE:20260323
END:VEVENT
BEGIN:VEVENT
UID:69ea3e7c4e667
DTSTAMP:20260423T154500Z
SUMMARY:KONKURADO: Wohnsiedlung Chasern\, Rückmeldung ZB 23.03.2026 - 23.0
 3.2026
DESCRIPTION:Link zum Verfahren: https://konkurado.ch/en/wohnsiedlung-chaser
 n
X-MICROSOFT-CDO-ALLDAYEVENT:TRUE
DTSTART;TZID=Europe/Zurich;VALUE=DATE:20260323
END:VEVENT
BEGIN:VEVENT
UID:69ea3e7c4e697
DTSTAMP:20260423T154500Z
SUMMARY:KONKURADO: Wohnsiedlung Chasern\, Einreichung Pläne 24.04.2026 - 2
 4.04.2026
DESCRIPTION:Link zum Verfahren: https://konkurado.ch/en/wohnsiedlung-chaser
 n
X-MICROSOFT-CDO-ALLDAYEVENT:TRUE
DTSTART;TZID=Europe/Zurich;VALUE=DATE:20260424
END:VEVENT
BEGIN:VEVENT
UID:69ea3e7c4e6bb
DTSTAMP:20260423T154500Z
SUMMARY:KONKURADO: Wohnsiedlung Chasern\, Einreichung Pläne 24.04.2026 - 2
 4.04.2026
DESCRIPTION:Link zum Verfahren: https://konkurado.ch/en/wohnsiedlung-chaser
 n
X-MICROSOFT-CDO-ALLDAYEVENT:TRUE
DTSTART;TZID=Europe/Zurich;VALUE=DATE:20260424
END:VEVENT
BEGIN:VEVENT
UID:69ea3e7c4e70a
DTSTAMP:20260423T154500Z
SUMMARY:KONKURADO: Wohnsiedlung Chasern\, Einreichung Modell 08.05.2026 - 0
 8.05.2026
DESCRIPTION:Link zum Verfahren: https://konkurado.ch/en/wohnsiedlung-chaser
 n
X-MICROSOFT-CDO-ALLDAYEVENT:TRUE
DTSTART;TZID=Europe/Zurich;VALUE=DATE:20260508
END:VEVENT
BEGIN:VEVENT
UID:69ea3e7c4e730
DTSTAMP:20260423T154500Z
SUMMARY:KONKURADO: Wohnsiedlung Chasern\, Einreichung Modell 08.05.2026 - 0
 8.05.2026
DESCRIPTION:Link zum Verfahren: https://konkurado.ch/en/wohnsiedlung-chaser
 n
X-MICROSOFT-CDO-ALLDAYEVENT:TRUE
DTSTART;TZID=Europe/Zurich;VALUE=DATE:20260508
END:VEVENT
BEGIN:VEVENT
UID:69ea3e7c4e768
DTSTAMP:20260423T154500Z
SUMMARY:KONKURADO: Wohnsiedlung Chasern\, Beurteilung 2. Stufe 18.05.2026 -
  18.05.2026
DESCRIPTION:Link zum Verfahren: https://konkurado.ch/en/wohnsiedlung-chaser
 n
X-MICROSOFT-CDO-ALLDAYEVENT:TRUE
DTSTART;TZID=Europe/Zurich;VALUE=DATE:20260518
END:VEVENT
BEGIN:VEVENT
UID:69ea3e7c4e78c
DTSTAMP:20260423T154500Z
SUMMARY:KONKURADO: Wohnsiedlung Chasern\, Beurteilung 2. Stufe 18.05.2026 -
  18.05.2026
DESCRIPTION:Link zum Verfahren: https://konkurado.ch/en/wohnsiedlung-chaser
 n
X-MICROSOFT-CDO-ALLDAYEVENT:TRUE
DTSTART;TZID=Europe/Zurich;VALUE=DATE:20260518
END:VEVENT
END:VCALENDAR