BEGIN:VCALENDAR
VERSION:2.0
PRODID:spatie/icalendar-generator
NAME:Wohnen im Schöngrund – Olten
X-WR-CALNAME:Wohnen im Schöngrund – Olten
BEGIN:VTIMEZONE
TZID:Europe/Zurich
BEGIN:STANDARD
DTSTART:20251026T030000
TZOFFSETFROM:+0200
TZOFFSETTO:+0100
END:STANDARD
BEGIN:DAYLIGHT
DTSTART:20260329T010000
TZOFFSETFROM:+0100
TZOFFSETTO:+0200
END:DAYLIGHT
END:VTIMEZONE
BEGIN:VTIMEZONE
TZID:UTC
BEGIN:STANDARD
DTSTART:20250727T085011
TZOFFSETFROM:+0000
TZOFFSETTO:+0000
END:STANDARD
END:VTIMEZONE
BEGIN:VEVENT
UID:69e9dd430614a
DTSTAMP:20260423T085011Z
SUMMARY:KONKURADO: Wohnen im Schöngrund – Olten\, Eingabe Bewerbungsunte
 rlagen 04.03.2026 - 17.04.2026
DESCRIPTION:Link zum Verfahren: https://konkurado.ch/en/wohnen-im-schoengru
 nd-olten
X-MICROSOFT-CDO-ALLDAYEVENT:TRUE
DTSTART;TZID=Europe/Zurich;VALUE=DATE:20260304
END:VEVENT
BEGIN:VEVENT
UID:69e9dd43061f2
DTSTAMP:20260423T085011Z
SUMMARY:KONKURADO: Wohnen im Schöngrund – Olten\, Eingabe Bewerbungsunte
 rlagen 04.03.2026 - 17.04.2026
DESCRIPTION:Link zum Verfahren: https://konkurado.ch/en/wohnen-im-schoengru
 nd-olten
X-MICROSOFT-CDO-ALLDAYEVENT:TRUE
DTSTART;TZID=Europe/Zurich;VALUE=DATE:20260417
END:VEVENT
BEGIN:VEVENT
UID:69e9dd430637d
DTSTAMP:20260423T085011Z
SUMMARY:KONKURADO: Wohnen im Schöngrund – Olten\, Ausgabe Präqualifikat
 ionsunterlagen 04.03.2026 - 03.03.2026
DESCRIPTION:Link zum Verfahren: https://konkurado.ch/en/wohnen-im-schoengru
 nd-olten
X-MICROSOFT-CDO-ALLDAYEVENT:TRUE
DTSTART;TZID=Europe/Zurich;VALUE=DATE:20260304
END:VEVENT
BEGIN:VEVENT
UID:69e9dd43063aa
DTSTAMP:20260423T085011Z
SUMMARY:KONKURADO: Wohnen im Schöngrund – Olten\, Ausgabe Präqualifikat
 ionsunterlagen 04.03.2026 - 03.03.2026
DESCRIPTION:Link zum Verfahren: https://konkurado.ch/en/wohnen-im-schoengru
 nd-olten
X-MICROSOFT-CDO-ALLDAYEVENT:TRUE
DTSTART;TZID=Europe/Zurich;VALUE=DATE:20260303
END:VEVENT
END:VCALENDAR