BEGIN:VCALENDAR
VERSION:2.0
PRODID:spatie/icalendar-generator
NAME:Werkhof Gassa da Cuoz 1\, Disentis/Mustér
X-WR-CALNAME:Werkhof Gassa da Cuoz 1\, Disentis/Mustér
BEGIN:VTIMEZONE
TZID:Europe/Zurich
BEGIN:STANDARD
DTSTART:20241027T030000
TZOFFSETFROM:+0200
TZOFFSETTO:+0100
END:STANDARD
BEGIN:DAYLIGHT
DTSTART:20250330T010000
TZOFFSETFROM:+0100
TZOFFSETTO:+0200
END:DAYLIGHT
BEGIN:STANDARD
DTSTART:20251026T030000
TZOFFSETFROM:+0200
TZOFFSETTO:+0100
END:STANDARD
END:VTIMEZONE
BEGIN:VTIMEZONE
TZID:UTC
BEGIN:STANDARD
DTSTART:20250727T115541
TZOFFSETFROM:+0000
TZOFFSETTO:+0000
END:STANDARD
END:VTIMEZONE
BEGIN:VEVENT
UID:69ea08bd71f23
DTSTAMP:20260423T115541Z
SUMMARY:KONKURADO: Werkhof Gassa da Cuoz 1\, Disentis/Mustér\, Fragestellu
 ng bis 30.05.2025 - 05.06.2025
DESCRIPTION:Link zum Verfahren: https://konkurado.ch/en/werkhof-gassa-da-cu
 oz-1-disentismuster
X-MICROSOFT-CDO-ALLDAYEVENT:TRUE
DTSTART;TZID=Europe/Zurich;VALUE=DATE:20250530
END:VEVENT
BEGIN:VEVENT
UID:69ea08bd71fae
DTSTAMP:20260423T115541Z
SUMMARY:KONKURADO: Werkhof Gassa da Cuoz 1\, Disentis/Mustér\, Fragestellu
 ng bis 30.05.2025 - 05.06.2025
DESCRIPTION:Link zum Verfahren: https://konkurado.ch/en/werkhof-gassa-da-cu
 oz-1-disentismuster
X-MICROSOFT-CDO-ALLDAYEVENT:TRUE
DTSTART;TZID=Europe/Zurich;VALUE=DATE:20250605
END:VEVENT
BEGIN:VEVENT
UID:69ea08bd71ffd
DTSTAMP:20260423T115541Z
SUMMARY:KONKURADO: Werkhof Gassa da Cuoz 1\, Disentis/Mustér\, Einreichung
  Angebotsunterlagen 30.05.2025 - 25.06.2025
DESCRIPTION:Link zum Verfahren: https://konkurado.ch/en/werkhof-gassa-da-cu
 oz-1-disentismuster
X-MICROSOFT-CDO-ALLDAYEVENT:TRUE
DTSTART;TZID=Europe/Zurich;VALUE=DATE:20250530
END:VEVENT
BEGIN:VEVENT
UID:69ea08bd72024
DTSTAMP:20260423T115541Z
SUMMARY:KONKURADO: Werkhof Gassa da Cuoz 1\, Disentis/Mustér\, Einreichung
  Angebotsunterlagen 30.05.2025 - 25.06.2025
DESCRIPTION:Link zum Verfahren: https://konkurado.ch/en/werkhof-gassa-da-cu
 oz-1-disentismuster
X-MICROSOFT-CDO-ALLDAYEVENT:TRUE
DTSTART;TZID=Europe/Zurich;VALUE=DATE:20250625
END:VEVENT
BEGIN:VEVENT
UID:69ea08bd7215b
DTSTAMP:20260423T115541Z
SUMMARY:KONKURADO: Werkhof Gassa da Cuoz 1\, Disentis/Mustér\, Fragenbeant
 wortung ab 11.06.2025 - 25.06.2025
DESCRIPTION:Link zum Verfahren: https://konkurado.ch/en/werkhof-gassa-da-cu
 oz-1-disentismuster
X-MICROSOFT-CDO-ALLDAYEVENT:TRUE
DTSTART;TZID=Europe/Zurich;VALUE=DATE:20250611
END:VEVENT
BEGIN:VEVENT
UID:69ea08bd72184
DTSTAMP:20260423T115541Z
SUMMARY:KONKURADO: Werkhof Gassa da Cuoz 1\, Disentis/Mustér\, Fragenbeant
 wortung ab 11.06.2025 - 25.06.2025
DESCRIPTION:Link zum Verfahren: https://konkurado.ch/en/werkhof-gassa-da-cu
 oz-1-disentismuster
X-MICROSOFT-CDO-ALLDAYEVENT:TRUE
DTSTART;TZID=Europe/Zurich;VALUE=DATE:20250625
END:VEVENT
BEGIN:VEVENT
UID:69ea08bd721e1
DTSTAMP:20260423T115541Z
SUMMARY:KONKURADO: Werkhof Gassa da Cuoz 1\, Disentis/Mustér\, Offertöffn
 ung 26.06.2025 - 27.06.2025
DESCRIPTION:Link zum Verfahren: https://konkurado.ch/en/werkhof-gassa-da-cu
 oz-1-disentismuster
X-MICROSOFT-CDO-ALLDAYEVENT:TRUE
DTSTART;TZID=Europe/Zurich;VALUE=DATE:20250626
END:VEVENT
BEGIN:VEVENT
UID:69ea08bd72206
DTSTAMP:20260423T115541Z
SUMMARY:KONKURADO: Werkhof Gassa da Cuoz 1\, Disentis/Mustér\, Offertöffn
 ung 26.06.2025 - 27.06.2025
DESCRIPTION:Link zum Verfahren: https://konkurado.ch/en/werkhof-gassa-da-cu
 oz-1-disentismuster
X-MICROSOFT-CDO-ALLDAYEVENT:TRUE
DTSTART;TZID=Europe/Zurich;VALUE=DATE:20250627
END:VEVENT
END:VCALENDAR