BEGIN:VCALENDAR
VERSION:2.0
PRODID:spatie/icalendar-generator
NAME:Weiterbauen Sportanlage Moos\, Rüschlikon
X-WR-CALNAME:Weiterbauen Sportanlage Moos\, Rüschlikon
BEGIN:VTIMEZONE
TZID:Europe/Zurich
BEGIN:STANDARD
DTSTART:20241027T030000
TZOFFSETFROM:+0200
TZOFFSETTO:+0100
END:STANDARD
BEGIN:DAYLIGHT
DTSTART:20250330T010000
TZOFFSETFROM:+0100
TZOFFSETTO:+0200
END:DAYLIGHT
BEGIN:STANDARD
DTSTART:20251026T030000
TZOFFSETFROM:+0200
TZOFFSETTO:+0100
END:STANDARD
BEGIN:DAYLIGHT
DTSTART:20260329T010000
TZOFFSETFROM:+0100
TZOFFSETTO:+0200
END:DAYLIGHT
END:VTIMEZONE
BEGIN:VTIMEZONE
TZID:UTC
BEGIN:STANDARD
DTSTART:20250727T120322
TZOFFSETFROM:+0000
TZOFFSETTO:+0000
END:STANDARD
END:VTIMEZONE
BEGIN:VEVENT
UID:69ea0a8a08da1
DTSTAMP:20260423T120322Z
SUMMARY:KONKURADO: Weiterbauen Sportanlage Moos\, Rüschlikon\, Publikation
  PQ-Unterlagen 01.05.2025 - 03.06.2025
DESCRIPTION:Link zum Verfahren: https://konkurado.ch/en/weiterbauen-sportan
 lage-moos-ruschlikon
X-MICROSOFT-CDO-ALLDAYEVENT:TRUE
DTSTART;TZID=Europe/Zurich;VALUE=DATE:20250501
END:VEVENT
BEGIN:VEVENT
UID:69ea0a8a08e4d
DTSTAMP:20260423T120322Z
SUMMARY:KONKURADO: Weiterbauen Sportanlage Moos\, Rüschlikon\, Publikation
  PQ-Unterlagen 01.05.2025 - 03.06.2025
DESCRIPTION:Link zum Verfahren: https://konkurado.ch/en/weiterbauen-sportan
 lage-moos-ruschlikon
X-MICROSOFT-CDO-ALLDAYEVENT:TRUE
DTSTART;TZID=Europe/Zurich;VALUE=DATE:20250603
END:VEVENT
BEGIN:VEVENT
UID:69ea0a8a08e8f
DTSTAMP:20260423T120322Z
SUMMARY:KONKURADO: Weiterbauen Sportanlage Moos\, Rüschlikon\, Abgabe Plä
 ne und Dokumente 09.07.2025 - 23.10.2025
DESCRIPTION:Link zum Verfahren: https://konkurado.ch/en/weiterbauen-sportan
 lage-moos-ruschlikon
X-MICROSOFT-CDO-ALLDAYEVENT:TRUE
DTSTART;TZID=Europe/Zurich;VALUE=DATE:20250709
END:VEVENT
BEGIN:VEVENT
UID:69ea0a8a08ec7
DTSTAMP:20260423T120322Z
SUMMARY:KONKURADO: Weiterbauen Sportanlage Moos\, Rüschlikon\, Abgabe Plä
 ne und Dokumente 09.07.2025 - 23.10.2025
DESCRIPTION:Link zum Verfahren: https://konkurado.ch/en/weiterbauen-sportan
 lage-moos-ruschlikon
X-MICROSOFT-CDO-ALLDAYEVENT:TRUE
DTSTART;TZID=Europe/Zurich;VALUE=DATE:20251023
END:VEVENT
BEGIN:VEVENT
UID:69ea0a8a08f19
DTSTAMP:20260423T120322Z
SUMMARY:KONKURADO: Weiterbauen Sportanlage Moos\, Rüschlikon\, Abgabe Bewe
 rbungsunterlagen PQ 01.05.2025 - 03.06.2025
DESCRIPTION:Link zum Verfahren: https://konkurado.ch/en/weiterbauen-sportan
 lage-moos-ruschlikon
X-MICROSOFT-CDO-ALLDAYEVENT:TRUE
DTSTART;TZID=Europe/Zurich;VALUE=DATE:20250501
END:VEVENT
BEGIN:VEVENT
UID:69ea0a8a08f42
DTSTAMP:20260423T120322Z
SUMMARY:KONKURADO: Weiterbauen Sportanlage Moos\, Rüschlikon\, Abgabe Bewe
 rbungsunterlagen PQ 01.05.2025 - 03.06.2025
DESCRIPTION:Link zum Verfahren: https://konkurado.ch/en/weiterbauen-sportan
 lage-moos-ruschlikon
X-MICROSOFT-CDO-ALLDAYEVENT:TRUE
DTSTART;TZID=Europe/Zurich;VALUE=DATE:20250603
END:VEVENT
BEGIN:VEVENT
UID:69ea0a8a08fb5
DTSTAMP:20260423T120322Z
SUMMARY:KONKURADO: Weiterbauen Sportanlage Moos\, Rüschlikon\, Kick-Off mi
 t Rundgang 09.07.2025 - 09.07.2025
DESCRIPTION:Link zum Verfahren: https://konkurado.ch/en/weiterbauen-sportan
 lage-moos-ruschlikon
X-MICROSOFT-CDO-ALLDAYEVENT:TRUE
DTSTART;TZID=Europe/Zurich;VALUE=DATE:20250709
END:VEVENT
BEGIN:VEVENT
UID:69ea0a8a08fdb
DTSTAMP:20260423T120322Z
SUMMARY:KONKURADO: Weiterbauen Sportanlage Moos\, Rüschlikon\, Kick-Off mi
 t Rundgang 09.07.2025 - 09.07.2025
DESCRIPTION:Link zum Verfahren: https://konkurado.ch/en/weiterbauen-sportan
 lage-moos-ruschlikon
X-MICROSOFT-CDO-ALLDAYEVENT:TRUE
DTSTART;TZID=Europe/Zurich;VALUE=DATE:20250709
END:VEVENT
BEGIN:VEVENT
UID:69ea0a8a0900f
DTSTAMP:20260423T120322Z
SUMMARY:KONKURADO: Weiterbauen Sportanlage Moos\, Rüschlikon\, Fragestellu
 ng 09.07.2025 - 05.08.2025
DESCRIPTION:Link zum Verfahren: https://konkurado.ch/en/weiterbauen-sportan
 lage-moos-ruschlikon
X-MICROSOFT-CDO-ALLDAYEVENT:TRUE
DTSTART;TZID=Europe/Zurich;VALUE=DATE:20250709
END:VEVENT
BEGIN:VEVENT
UID:69ea0a8a09034
DTSTAMP:20260423T120322Z
SUMMARY:KONKURADO: Weiterbauen Sportanlage Moos\, Rüschlikon\, Fragestellu
 ng 09.07.2025 - 05.08.2025
DESCRIPTION:Link zum Verfahren: https://konkurado.ch/en/weiterbauen-sportan
 lage-moos-ruschlikon
X-MICROSOFT-CDO-ALLDAYEVENT:TRUE
DTSTART;TZID=Europe/Zurich;VALUE=DATE:20250805
END:VEVENT
BEGIN:VEVENT
UID:69ea0a8a0908d
DTSTAMP:20260423T120322Z
SUMMARY:KONKURADO: Weiterbauen Sportanlage Moos\, Rüschlikon\, Abgabe Mode
 ll 09.07.2025 - 06.11.2025
DESCRIPTION:Link zum Verfahren: https://konkurado.ch/en/weiterbauen-sportan
 lage-moos-ruschlikon
X-MICROSOFT-CDO-ALLDAYEVENT:TRUE
DTSTART;TZID=Europe/Zurich;VALUE=DATE:20250709
END:VEVENT
BEGIN:VEVENT
UID:69ea0a8a090b4
DTSTAMP:20260423T120322Z
SUMMARY:KONKURADO: Weiterbauen Sportanlage Moos\, Rüschlikon\, Abgabe Mode
 ll 09.07.2025 - 06.11.2025
DESCRIPTION:Link zum Verfahren: https://konkurado.ch/en/weiterbauen-sportan
 lage-moos-ruschlikon
X-MICROSOFT-CDO-ALLDAYEVENT:TRUE
DTSTART;TZID=Europe/Zurich;VALUE=DATE:20251106
END:VEVENT
END:VCALENDAR