BEGIN:VCALENDAR
VERSION:2.0
PRODID:spatie/icalendar-generator
NAME:Wärmeverbund Kriens\, Rohrbauplanung Los 1
X-WR-CALNAME:Wärmeverbund Kriens\, Rohrbauplanung Los 1
BEGIN:VTIMEZONE
TZID:Europe/Zurich
BEGIN:STANDARD
DTSTART:20251026T030000
TZOFFSETFROM:+0200
TZOFFSETTO:+0100
END:STANDARD
BEGIN:DAYLIGHT
DTSTART:20260329T010000
TZOFFSETFROM:+0100
TZOFFSETTO:+0200
END:DAYLIGHT
BEGIN:STANDARD
DTSTART:20261025T030000
TZOFFSETFROM:+0200
TZOFFSETTO:+0100
END:STANDARD
END:VTIMEZONE
BEGIN:VTIMEZONE
TZID:UTC
BEGIN:STANDARD
DTSTART:20250727T101633
TZOFFSETFROM:+0000
TZOFFSETTO:+0000
END:STANDARD
END:VTIMEZONE
BEGIN:VEVENT
UID:69e9f181c7ede
DTSTAMP:20260423T101633Z
SUMMARY:KONKURADO: Wärmeverbund Kriens\, Rohrbauplanung Los 1\, Fragerunde
 \, einreichen bis 01.05.2026 - 01.05.2026
DESCRIPTION:Link zum Verfahren: https://konkurado.ch/en/warmeverbund-kriens
 -rohrbauplanung-los-1
X-MICROSOFT-CDO-ALLDAYEVENT:TRUE
DTSTART;TZID=Europe/Zurich;VALUE=DATE:20260501
END:VEVENT
BEGIN:VEVENT
UID:69e9f181c7f88
DTSTAMP:20260423T101633Z
SUMMARY:KONKURADO: Wärmeverbund Kriens\, Rohrbauplanung Los 1\, Fragerunde
 \, einreichen bis 01.05.2026 - 01.05.2026
DESCRIPTION:Link zum Verfahren: https://konkurado.ch/en/warmeverbund-kriens
 -rohrbauplanung-los-1
X-MICROSOFT-CDO-ALLDAYEVENT:TRUE
DTSTART;TZID=Europe/Zurich;VALUE=DATE:20260501
END:VEVENT
BEGIN:VEVENT
UID:69e9f181c803d
DTSTAMP:20260423T101633Z
SUMMARY:KONKURADO: Wärmeverbund Kriens\, Rohrbauplanung Los 1\, Einreichen
  von Angeboten bis 20.05.2026 - 20.05.2026
DESCRIPTION:Link zum Verfahren: https://konkurado.ch/en/warmeverbund-kriens
 -rohrbauplanung-los-1
X-MICROSOFT-CDO-ALLDAYEVENT:TRUE
DTSTART;TZID=Europe/Zurich;VALUE=DATE:20260520
END:VEVENT
BEGIN:VEVENT
UID:69e9f181c807f
DTSTAMP:20260423T101633Z
SUMMARY:KONKURADO: Wärmeverbund Kriens\, Rohrbauplanung Los 1\, Einreichen
  von Angeboten bis 20.05.2026 - 20.05.2026
DESCRIPTION:Link zum Verfahren: https://konkurado.ch/en/warmeverbund-kriens
 -rohrbauplanung-los-1
X-MICROSOFT-CDO-ALLDAYEVENT:TRUE
DTSTART;TZID=Europe/Zurich;VALUE=DATE:20260520
END:VEVENT
BEGIN:VEVENT
UID:69e9f181c8118
DTSTAMP:20260423T101633Z
SUMMARY:KONKURADO: Wärmeverbund Kriens\, Rohrbauplanung Los 1\, Offertöff
 nung 20.05.2026 - 20.05.2026
DESCRIPTION:Link zum Verfahren: https://konkurado.ch/en/warmeverbund-kriens
 -rohrbauplanung-los-1
X-MICROSOFT-CDO-ALLDAYEVENT:TRUE
DTSTART;TZID=Europe/Zurich;VALUE=DATE:20260520
END:VEVENT
BEGIN:VEVENT
UID:69e9f181c8159
DTSTAMP:20260423T101633Z
SUMMARY:KONKURADO: Wärmeverbund Kriens\, Rohrbauplanung Los 1\, Offertöff
 nung 20.05.2026 - 20.05.2026
DESCRIPTION:Link zum Verfahren: https://konkurado.ch/en/warmeverbund-kriens
 -rohrbauplanung-los-1
X-MICROSOFT-CDO-ALLDAYEVENT:TRUE
DTSTART;TZID=Europe/Zurich;VALUE=DATE:20260520
END:VEVENT
BEGIN:VEVENT
UID:69e9f181c81f5
DTSTAMP:20260423T101633Z
SUMMARY:KONKURADO: Wärmeverbund Kriens\, Rohrbauplanung Los 1\, Verfügbar
 keit der Ausschreibungsunterlagen 03.04.2026 - 20.05.2026
DESCRIPTION:Link zum Verfahren: https://konkurado.ch/en/warmeverbund-kriens
 -rohrbauplanung-los-1
X-MICROSOFT-CDO-ALLDAYEVENT:TRUE
DTSTART;TZID=Europe/Zurich;VALUE=DATE:20260403
END:VEVENT
BEGIN:VEVENT
UID:69e9f181c8238
DTSTAMP:20260423T101633Z
SUMMARY:KONKURADO: Wärmeverbund Kriens\, Rohrbauplanung Los 1\, Verfügbar
 keit der Ausschreibungsunterlagen 03.04.2026 - 20.05.2026
DESCRIPTION:Link zum Verfahren: https://konkurado.ch/en/warmeverbund-kriens
 -rohrbauplanung-los-1
X-MICROSOFT-CDO-ALLDAYEVENT:TRUE
DTSTART;TZID=Europe/Zurich;VALUE=DATE:20260520
END:VEVENT
END:VCALENDAR