BEGIN:VCALENDAR
VERSION:2.0
PRODID:spatie/icalendar-generator
NAME:Viaduc du Cudrex - Assainissement et renforcement
X-WR-CALNAME:Viaduc du Cudrex - Assainissement et renforcement
BEGIN:VTIMEZONE
TZID:Europe/Zurich
BEGIN:DAYLIGHT
DTSTART:20240331T010000
TZOFFSETFROM:+0100
TZOFFSETTO:+0200
END:DAYLIGHT
BEGIN:STANDARD
DTSTART:20241027T030000
TZOFFSETFROM:+0200
TZOFFSETTO:+0100
END:STANDARD
BEGIN:DAYLIGHT
DTSTART:20250330T010000
TZOFFSETFROM:+0100
TZOFFSETTO:+0200
END:DAYLIGHT
END:VTIMEZONE
BEGIN:VTIMEZONE
TZID:UTC
BEGIN:STANDARD
DTSTART:20250727T115447
TZOFFSETFROM:+0000
TZOFFSETTO:+0000
END:STANDARD
END:VTIMEZONE
BEGIN:VEVENT
UID:69ea088785cc3
DTSTAMP:20260423T115447Z
SUMMARY:KONKURADO: Viaduc du Cudrex - Assainissement et renforcement\, Prä
 qualifikation 05.11.2024 - 11.12.2024
DESCRIPTION:Link zum Verfahren: https://konkurado.ch/en/viaduc-du-cudrex-as
 sainissement-et-renforcement
X-MICROSOFT-CDO-ALLDAYEVENT:TRUE
DTSTART;TZID=Europe/Zurich;VALUE=DATE:20241105
END:VEVENT
BEGIN:VEVENT
UID:69ea088785d4d
DTSTAMP:20260423T115447Z
SUMMARY:KONKURADO: Viaduc du Cudrex - Assainissement et renforcement\, Prä
 qualifikation 05.11.2024 - 11.12.2024
DESCRIPTION:Link zum Verfahren: https://konkurado.ch/en/viaduc-du-cudrex-as
 sainissement-et-renforcement
X-MICROSOFT-CDO-ALLDAYEVENT:TRUE
DTSTART;TZID=Europe/Zurich;VALUE=DATE:20241211
END:VEVENT
BEGIN:VEVENT
UID:69ea088785d8a
DTSTAMP:20260423T115447Z
SUMMARY:KONKURADO: Viaduc du Cudrex - Assainissement et renforcement\, Frag
 erunde 05.11.2024 - 20.11.2024
DESCRIPTION:Link zum Verfahren: https://konkurado.ch/en/viaduc-du-cudrex-as
 sainissement-et-renforcement
X-MICROSOFT-CDO-ALLDAYEVENT:TRUE
DTSTART;TZID=Europe/Zurich;VALUE=DATE:20241105
END:VEVENT
BEGIN:VEVENT
UID:69ea088785db1
DTSTAMP:20260423T115447Z
SUMMARY:KONKURADO: Viaduc du Cudrex - Assainissement et renforcement\, Frag
 erunde 05.11.2024 - 20.11.2024
DESCRIPTION:Link zum Verfahren: https://konkurado.ch/en/viaduc-du-cudrex-as
 sainissement-et-renforcement
X-MICROSOFT-CDO-ALLDAYEVENT:TRUE
DTSTART;TZID=Europe/Zurich;VALUE=DATE:20241120
END:VEVENT
BEGIN:VEVENT
UID:69ea088785eee
DTSTAMP:20260423T115447Z
SUMMARY:KONKURADO: Viaduc du Cudrex - Assainissement et renforcement\, Publ
 ikation Fragen & Anworten 27.11.2024 - 27.11.2024
DESCRIPTION:Link zum Verfahren: https://konkurado.ch/en/viaduc-du-cudrex-as
 sainissement-et-renforcement
X-MICROSOFT-CDO-ALLDAYEVENT:TRUE
DTSTART;TZID=Europe/Zurich;VALUE=DATE:20241127
END:VEVENT
BEGIN:VEVENT
UID:69ea088785f19
DTSTAMP:20260423T115447Z
SUMMARY:KONKURADO: Viaduc du Cudrex - Assainissement et renforcement\, Publ
 ikation Fragen & Anworten 27.11.2024 - 27.11.2024
DESCRIPTION:Link zum Verfahren: https://konkurado.ch/en/viaduc-du-cudrex-as
 sainissement-et-renforcement
X-MICROSOFT-CDO-ALLDAYEVENT:TRUE
DTSTART;TZID=Europe/Zurich;VALUE=DATE:20241127
END:VEVENT
END:VCALENDAR