BEGIN:VCALENDAR
VERSION:2.0
PRODID:spatie/icalendar-generator
NAME:Transformation de l'EMS Les Châteaux à Echallens
X-WR-CALNAME:Transformation de l'EMS Les Châteaux à Echallens
BEGIN:VTIMEZONE
TZID:Europe/Zurich
BEGIN:STANDARD
DTSTART:20241027T030000
TZOFFSETFROM:+0200
TZOFFSETTO:+0100
END:STANDARD
BEGIN:DAYLIGHT
DTSTART:20250330T010000
TZOFFSETFROM:+0100
TZOFFSETTO:+0200
END:DAYLIGHT
BEGIN:STANDARD
DTSTART:20251026T030000
TZOFFSETFROM:+0200
TZOFFSETTO:+0100
END:STANDARD
BEGIN:DAYLIGHT
DTSTART:20260329T010000
TZOFFSETFROM:+0100
TZOFFSETTO:+0200
END:DAYLIGHT
END:VTIMEZONE
BEGIN:VTIMEZONE
TZID:UTC
BEGIN:STANDARD
DTSTART:20250727T115330
TZOFFSETFROM:+0000
TZOFFSETTO:+0000
END:STANDARD
END:VTIMEZONE
BEGIN:VEVENT
UID:69ea083ad408e
DTSTAMP:20260423T115330Z
SUMMARY:KONKURADO: Transformation de l'EMS Les Châteaux à Echallens\, Ein
 reichen des Teilnahmeantrags bis 17.01.2025 - 26.02.2025
DESCRIPTION:Link zum Verfahren: https://konkurado.ch/en/transformation-de-l
 ems-les-chateaux-a-echallens
X-MICROSOFT-CDO-ALLDAYEVENT:TRUE
DTSTART;TZID=Europe/Zurich;VALUE=DATE:20250117
END:VEVENT
BEGIN:VEVENT
UID:69ea083ad410d
DTSTAMP:20260423T115330Z
SUMMARY:KONKURADO: Transformation de l'EMS Les Châteaux à Echallens\, Ein
 reichen des Teilnahmeantrags bis 17.01.2025 - 26.02.2025
DESCRIPTION:Link zum Verfahren: https://konkurado.ch/en/transformation-de-l
 ems-les-chateaux-a-echallens
X-MICROSOFT-CDO-ALLDAYEVENT:TRUE
DTSTART;TZID=Europe/Zurich;VALUE=DATE:20250226
END:VEVENT
BEGIN:VEVENT
UID:69ea083ad423e
DTSTAMP:20260423T115330Z
SUMMARY:KONKURADO: Transformation de l'EMS Les Châteaux à Echallens\, Aus
 gabe Unterlagen 09.04.2025 - 09.04.2025
DESCRIPTION:Link zum Verfahren: https://konkurado.ch/en/transformation-de-l
 ems-les-chateaux-a-echallens
X-MICROSOFT-CDO-ALLDAYEVENT:TRUE
DTSTART;TZID=Europe/Zurich;VALUE=DATE:20250409
END:VEVENT
BEGIN:VEVENT
UID:69ea083ad4269
DTSTAMP:20260423T115330Z
SUMMARY:KONKURADO: Transformation de l'EMS Les Châteaux à Echallens\, Aus
 gabe Unterlagen 09.04.2025 - 09.04.2025
DESCRIPTION:Link zum Verfahren: https://konkurado.ch/en/transformation-de-l
 ems-les-chateaux-a-echallens
X-MICROSOFT-CDO-ALLDAYEVENT:TRUE
DTSTART;TZID=Europe/Zurich;VALUE=DATE:20250409
END:VEVENT
BEGIN:VEVENT
UID:69ea083ad429f
DTSTAMP:20260423T115330Z
SUMMARY:KONKURADO: Transformation de l'EMS Les Châteaux à Echallens\, Ein
 reichung von Fragen bis 17.01.2025 - 05.02.2025
DESCRIPTION:Link zum Verfahren: https://konkurado.ch/en/transformation-de-l
 ems-les-chateaux-a-echallens
X-MICROSOFT-CDO-ALLDAYEVENT:TRUE
DTSTART;TZID=Europe/Zurich;VALUE=DATE:20250117
END:VEVENT
BEGIN:VEVENT
UID:69ea083ad42c5
DTSTAMP:20260423T115330Z
SUMMARY:KONKURADO: Transformation de l'EMS Les Châteaux à Echallens\, Ein
 reichung von Fragen bis 17.01.2025 - 05.02.2025
DESCRIPTION:Link zum Verfahren: https://konkurado.ch/en/transformation-de-l
 ems-les-chateaux-a-echallens
X-MICROSOFT-CDO-ALLDAYEVENT:TRUE
DTSTART;TZID=Europe/Zurich;VALUE=DATE:20250205
END:VEVENT
BEGIN:VEVENT
UID:69ea083ad42f6
DTSTAMP:20260423T115330Z
SUMMARY:KONKURADO: Transformation de l'EMS Les Châteaux à Echallens\, Abg
 abe Dossier für Zwischenbesprechung 09.04.2025 - 04.07.2025
DESCRIPTION:Link zum Verfahren: https://konkurado.ch/en/transformation-de-l
 ems-les-chateaux-a-echallens
X-MICROSOFT-CDO-ALLDAYEVENT:TRUE
DTSTART;TZID=Europe/Zurich;VALUE=DATE:20250409
END:VEVENT
BEGIN:VEVENT
UID:69ea083ad431a
DTSTAMP:20260423T115330Z
SUMMARY:KONKURADO: Transformation de l'EMS Les Châteaux à Echallens\, Abg
 abe Dossier für Zwischenbesprechung 09.04.2025 - 04.07.2025
DESCRIPTION:Link zum Verfahren: https://konkurado.ch/en/transformation-de-l
 ems-les-chateaux-a-echallens
X-MICROSOFT-CDO-ALLDAYEVENT:TRUE
DTSTART;TZID=Europe/Zurich;VALUE=DATE:20250704
END:VEVENT
BEGIN:VEVENT
UID:69ea083ad4356
DTSTAMP:20260423T115330Z
SUMMARY:KONKURADO: Transformation de l'EMS Les Châteaux à Echallens\, Sch
 lussbesprechung / Präsentation 18.11.2025 - 19.11.2025
DESCRIPTION:Link zum Verfahren: https://konkurado.ch/en/transformation-de-l
 ems-les-chateaux-a-echallens
X-MICROSOFT-CDO-ALLDAYEVENT:TRUE
DTSTART;TZID=Europe/Zurich;VALUE=DATE:20251118
END:VEVENT
BEGIN:VEVENT
UID:69ea083ad437b
DTSTAMP:20260423T115330Z
SUMMARY:KONKURADO: Transformation de l'EMS Les Châteaux à Echallens\, Sch
 lussbesprechung / Präsentation 18.11.2025 - 19.11.2025
DESCRIPTION:Link zum Verfahren: https://konkurado.ch/en/transformation-de-l
 ems-les-chateaux-a-echallens
X-MICROSOFT-CDO-ALLDAYEVENT:TRUE
DTSTART;TZID=Europe/Zurich;VALUE=DATE:20251119
END:VEVENT
BEGIN:VEVENT
UID:69ea083ad43d8
DTSTAMP:20260423T115330Z
SUMMARY:KONKURADO: Transformation de l'EMS Les Châteaux à Echallens\, Fra
 genbeantwortung ab 14.02.2025 - 14.02.2025
DESCRIPTION:Link zum Verfahren: https://konkurado.ch/en/transformation-de-l
 ems-les-chateaux-a-echallens
X-MICROSOFT-CDO-ALLDAYEVENT:TRUE
DTSTART;TZID=Europe/Zurich;VALUE=DATE:20250214
END:VEVENT
BEGIN:VEVENT
UID:69ea083ad4406
DTSTAMP:20260423T115330Z
SUMMARY:KONKURADO: Transformation de l'EMS Les Châteaux à Echallens\, Fra
 genbeantwortung ab 14.02.2025 - 14.02.2025
DESCRIPTION:Link zum Verfahren: https://konkurado.ch/en/transformation-de-l
 ems-les-chateaux-a-echallens
X-MICROSOFT-CDO-ALLDAYEVENT:TRUE
DTSTART;TZID=Europe/Zurich;VALUE=DATE:20250214
END:VEVENT
BEGIN:VEVENT
UID:69ea083ad445a
DTSTAMP:20260423T115330Z
SUMMARY:KONKURADO: Transformation de l'EMS Les Châteaux à Echallens\, Bek
 anntgabe Entscheid Präqualifikation 17.03.2025 - 17.03.2025
DESCRIPTION:Link zum Verfahren: https://konkurado.ch/en/transformation-de-l
 ems-les-chateaux-a-echallens
X-MICROSOFT-CDO-ALLDAYEVENT:TRUE
DTSTART;TZID=Europe/Zurich;VALUE=DATE:20250317
END:VEVENT
BEGIN:VEVENT
UID:69ea083ad4481
DTSTAMP:20260423T115330Z
SUMMARY:KONKURADO: Transformation de l'EMS Les Châteaux à Echallens\, Bek
 anntgabe Entscheid Präqualifikation 17.03.2025 - 17.03.2025
DESCRIPTION:Link zum Verfahren: https://konkurado.ch/en/transformation-de-l
 ems-les-chateaux-a-echallens
X-MICROSOFT-CDO-ALLDAYEVENT:TRUE
DTSTART;TZID=Europe/Zurich;VALUE=DATE:20250317
END:VEVENT
BEGIN:VEVENT
UID:69ea083ad44d6
DTSTAMP:20260423T115330Z
SUMMARY:KONKURADO: Transformation de l'EMS Les Châteaux à Echallens\, Beg
 ehung 16.04.2025 - 16.04.2025
DESCRIPTION:Link zum Verfahren: https://konkurado.ch/en/transformation-de-l
 ems-les-chateaux-a-echallens
X-MICROSOFT-CDO-ALLDAYEVENT:TRUE
DTSTART;TZID=Europe/Zurich;VALUE=DATE:20250416
END:VEVENT
BEGIN:VEVENT
UID:69ea083ad450e
DTSTAMP:20260423T115330Z
SUMMARY:KONKURADO: Transformation de l'EMS Les Châteaux à Echallens\, Beg
 ehung 16.04.2025 - 16.04.2025
DESCRIPTION:Link zum Verfahren: https://konkurado.ch/en/transformation-de-l
 ems-les-chateaux-a-echallens
X-MICROSOFT-CDO-ALLDAYEVENT:TRUE
DTSTART;TZID=Europe/Zurich;VALUE=DATE:20250416
END:VEVENT
BEGIN:VEVENT
UID:69ea083ad4546
DTSTAMP:20260423T115330Z
SUMMARY:KONKURADO: Transformation de l'EMS Les Châteaux à Echallens\, Ein
 reichung von Fragen bis 09.04.2025 - 25.04.2025
DESCRIPTION:Link zum Verfahren: https://konkurado.ch/en/transformation-de-l
 ems-les-chateaux-a-echallens
X-MICROSOFT-CDO-ALLDAYEVENT:TRUE
DTSTART;TZID=Europe/Zurich;VALUE=DATE:20250409
END:VEVENT
BEGIN:VEVENT
UID:69ea083ad456a
DTSTAMP:20260423T115330Z
SUMMARY:KONKURADO: Transformation de l'EMS Les Châteaux à Echallens\, Ein
 reichung von Fragen bis 09.04.2025 - 25.04.2025
DESCRIPTION:Link zum Verfahren: https://konkurado.ch/en/transformation-de-l
 ems-les-chateaux-a-echallens
X-MICROSOFT-CDO-ALLDAYEVENT:TRUE
DTSTART;TZID=Europe/Zurich;VALUE=DATE:20250425
END:VEVENT
BEGIN:VEVENT
UID:69ea083ad45c1
DTSTAMP:20260423T115330Z
SUMMARY:KONKURADO: Transformation de l'EMS Les Châteaux à Echallens\, Fra
 genbeantwortung ab 09.05.2025 - 09.05.2025
DESCRIPTION:Link zum Verfahren: https://konkurado.ch/en/transformation-de-l
 ems-les-chateaux-a-echallens
X-MICROSOFT-CDO-ALLDAYEVENT:TRUE
DTSTART;TZID=Europe/Zurich;VALUE=DATE:20250509
END:VEVENT
BEGIN:VEVENT
UID:69ea083ad45ef
DTSTAMP:20260423T115330Z
SUMMARY:KONKURADO: Transformation de l'EMS Les Châteaux à Echallens\, Fra
 genbeantwortung ab 09.05.2025 - 09.05.2025
DESCRIPTION:Link zum Verfahren: https://konkurado.ch/en/transformation-de-l
 ems-les-chateaux-a-echallens
X-MICROSOFT-CDO-ALLDAYEVENT:TRUE
DTSTART;TZID=Europe/Zurich;VALUE=DATE:20250509
END:VEVENT
BEGIN:VEVENT
UID:69ea083ad465a
DTSTAMP:20260423T115330Z
SUMMARY:KONKURADO: Transformation de l'EMS Les Châteaux à Echallens\, Zwi
 schenbesprechung 16.07.2025 - 17.07.2025
DESCRIPTION:Link zum Verfahren: https://konkurado.ch/en/transformation-de-l
 ems-les-chateaux-a-echallens
X-MICROSOFT-CDO-ALLDAYEVENT:TRUE
DTSTART;TZID=Europe/Zurich;VALUE=DATE:20250716
END:VEVENT
BEGIN:VEVENT
UID:69ea083ad4681
DTSTAMP:20260423T115330Z
SUMMARY:KONKURADO: Transformation de l'EMS Les Châteaux à Echallens\, Zwi
 schenbesprechung 16.07.2025 - 17.07.2025
DESCRIPTION:Link zum Verfahren: https://konkurado.ch/en/transformation-de-l
 ems-les-chateaux-a-echallens
X-MICROSOFT-CDO-ALLDAYEVENT:TRUE
DTSTART;TZID=Europe/Zurich;VALUE=DATE:20250717
END:VEVENT
BEGIN:VEVENT
UID:69ea083ad46d4
DTSTAMP:20260423T115330Z
SUMMARY:KONKURADO: Transformation de l'EMS Les Châteaux à Echallens\, Ver
 sand Bewertungen und Empfehlungen 22.08.2025 - 22.08.2025
DESCRIPTION:Link zum Verfahren: https://konkurado.ch/en/transformation-de-l
 ems-les-chateaux-a-echallens
X-MICROSOFT-CDO-ALLDAYEVENT:TRUE
DTSTART;TZID=Europe/Zurich;VALUE=DATE:20250822
END:VEVENT
BEGIN:VEVENT
UID:69ea083ad46fa
DTSTAMP:20260423T115330Z
SUMMARY:KONKURADO: Transformation de l'EMS Les Châteaux à Echallens\, Ver
 sand Bewertungen und Empfehlungen 22.08.2025 - 22.08.2025
DESCRIPTION:Link zum Verfahren: https://konkurado.ch/en/transformation-de-l
 ems-les-chateaux-a-echallens
X-MICROSOFT-CDO-ALLDAYEVENT:TRUE
DTSTART;TZID=Europe/Zurich;VALUE=DATE:20250822
END:VEVENT
BEGIN:VEVENT
UID:69ea083ad4727
DTSTAMP:20260423T115330Z
SUMMARY:KONKURADO: Transformation de l'EMS Les Châteaux à Echallens\, Ein
 reichung von Fragen bis 22.08.2025 - 29.08.2025
DESCRIPTION:Link zum Verfahren: https://konkurado.ch/en/transformation-de-l
 ems-les-chateaux-a-echallens
X-MICROSOFT-CDO-ALLDAYEVENT:TRUE
DTSTART;TZID=Europe/Zurich;VALUE=DATE:20250822
END:VEVENT
BEGIN:VEVENT
UID:69ea083ad474b
DTSTAMP:20260423T115330Z
SUMMARY:KONKURADO: Transformation de l'EMS Les Châteaux à Echallens\, Ein
 reichung von Fragen bis 22.08.2025 - 29.08.2025
DESCRIPTION:Link zum Verfahren: https://konkurado.ch/en/transformation-de-l
 ems-les-chateaux-a-echallens
X-MICROSOFT-CDO-ALLDAYEVENT:TRUE
DTSTART;TZID=Europe/Zurich;VALUE=DATE:20250829
END:VEVENT
BEGIN:VEVENT
UID:69ea083ad479d
DTSTAMP:20260423T115330Z
SUMMARY:KONKURADO: Transformation de l'EMS Les Châteaux à Echallens\, Fra
 genbeantwortung ab 10.09.2025 - 10.09.2025
DESCRIPTION:Link zum Verfahren: https://konkurado.ch/en/transformation-de-l
 ems-les-chateaux-a-echallens
X-MICROSOFT-CDO-ALLDAYEVENT:TRUE
DTSTART;TZID=Europe/Zurich;VALUE=DATE:20250910
END:VEVENT
BEGIN:VEVENT
UID:69ea083ad47c3
DTSTAMP:20260423T115330Z
SUMMARY:KONKURADO: Transformation de l'EMS Les Châteaux à Echallens\, Fra
 genbeantwortung ab 10.09.2025 - 10.09.2025
DESCRIPTION:Link zum Verfahren: https://konkurado.ch/en/transformation-de-l
 ems-les-chateaux-a-echallens
X-MICROSOFT-CDO-ALLDAYEVENT:TRUE
DTSTART;TZID=Europe/Zurich;VALUE=DATE:20250910
END:VEVENT
BEGIN:VEVENT
UID:69ea083ad47f3
DTSTAMP:20260423T115330Z
SUMMARY:KONKURADO: Transformation de l'EMS Les Châteaux à Echallens\, Abg
 abe Dossier für Schlussbesprechung 22.08.2025 - 07.11.2025
DESCRIPTION:Link zum Verfahren: https://konkurado.ch/en/transformation-de-l
 ems-les-chateaux-a-echallens
X-MICROSOFT-CDO-ALLDAYEVENT:TRUE
DTSTART;TZID=Europe/Zurich;VALUE=DATE:20250822
END:VEVENT
BEGIN:VEVENT
UID:69ea083ad4817
DTSTAMP:20260423T115330Z
SUMMARY:KONKURADO: Transformation de l'EMS Les Châteaux à Echallens\, Abg
 abe Dossier für Schlussbesprechung 22.08.2025 - 07.11.2025
DESCRIPTION:Link zum Verfahren: https://konkurado.ch/en/transformation-de-l
 ems-les-chateaux-a-echallens
X-MICROSOFT-CDO-ALLDAYEVENT:TRUE
DTSTART;TZID=Europe/Zurich;VALUE=DATE:20251107
END:VEVENT
END:VCALENDAR