BEGIN:VCALENDAR
VERSION:2.0
PRODID:spatie/icalendar-generator
NAME:Neubauten Wohnhäuser mit Gewerbe Thurgauerstrasse Teilgebiet C - Baub
 ereiche C2-C4
X-WR-CALNAME:Neubauten Wohnhäuser mit Gewerbe Thurgauerstrasse Teilgebiet 
 C - Baubereiche C2-C4
BEGIN:VTIMEZONE
TZID:Europe/Zurich
BEGIN:STANDARD
DTSTART:20241027T030000
TZOFFSETFROM:+0200
TZOFFSETTO:+0100
END:STANDARD
BEGIN:DAYLIGHT
DTSTART:20250330T010000
TZOFFSETFROM:+0100
TZOFFSETTO:+0200
END:DAYLIGHT
BEGIN:STANDARD
DTSTART:20251026T030000
TZOFFSETFROM:+0200
TZOFFSETTO:+0100
END:STANDARD
BEGIN:DAYLIGHT
DTSTART:20260329T010000
TZOFFSETFROM:+0100
TZOFFSETTO:+0200
END:DAYLIGHT
END:VTIMEZONE
BEGIN:VTIMEZONE
TZID:UTC
BEGIN:STANDARD
DTSTART:20250727T115312
TZOFFSETFROM:+0000
TZOFFSETTO:+0000
END:STANDARD
END:VTIMEZONE
BEGIN:VEVENT
UID:69ea082884c6c
DTSTAMP:20260423T115312Z
SUMMARY:KONKURADO: Neubauten Wohnhäuser mit Gewerbe Thurgauerstrasse Teilg
 ebiet C - Baubereiche C2-C4\, Wettbewerbsausgabe - Stufe 1 06.06.2025 - 09
 .09.2025
DESCRIPTION:Link zum Verfahren: https://konkurado.ch/en/thurgauerstrasse-te
 ilgebiet-c-c2-c4
X-MICROSOFT-CDO-ALLDAYEVENT:TRUE
DTSTART;TZID=Europe/Zurich;VALUE=DATE:20250606
END:VEVENT
BEGIN:VEVENT
UID:69ea082884d34
DTSTAMP:20260423T115312Z
SUMMARY:KONKURADO: Neubauten Wohnhäuser mit Gewerbe Thurgauerstrasse Teilg
 ebiet C - Baubereiche C2-C4\, Wettbewerbsausgabe - Stufe 1 06.06.2025 - 09
 .09.2025
DESCRIPTION:Link zum Verfahren: https://konkurado.ch/en/thurgauerstrasse-te
 ilgebiet-c-c2-c4
X-MICROSOFT-CDO-ALLDAYEVENT:TRUE
DTSTART;TZID=Europe/Zurich;VALUE=DATE:20250909
END:VEVENT
BEGIN:VEVENT
UID:69ea082884d77
DTSTAMP:20260423T115312Z
SUMMARY:KONKURADO: Neubauten Wohnhäuser mit Gewerbe Thurgauerstrasse Teilg
 ebiet C - Baubereiche C2-C4\, Fragestellung (Stufe 1) bis 06.06.2025 - 24.
 06.2025
DESCRIPTION:Link zum Verfahren: https://konkurado.ch/en/thurgauerstrasse-te
 ilgebiet-c-c2-c4
X-MICROSOFT-CDO-ALLDAYEVENT:TRUE
DTSTART;TZID=Europe/Zurich;VALUE=DATE:20250606
END:VEVENT
BEGIN:VEVENT
UID:69ea082884da2
DTSTAMP:20260423T115312Z
SUMMARY:KONKURADO: Neubauten Wohnhäuser mit Gewerbe Thurgauerstrasse Teilg
 ebiet C - Baubereiche C2-C4\, Fragestellung (Stufe 1) bis 06.06.2025 - 24.
 06.2025
DESCRIPTION:Link zum Verfahren: https://konkurado.ch/en/thurgauerstrasse-te
 ilgebiet-c-c2-c4
X-MICROSOFT-CDO-ALLDAYEVENT:TRUE
DTSTART;TZID=Europe/Zurich;VALUE=DATE:20250624
END:VEVENT
BEGIN:VEVENT
UID:69ea082884dd8
DTSTAMP:20260423T115312Z
SUMMARY:KONKURADO: Neubauten Wohnhäuser mit Gewerbe Thurgauerstrasse Teilg
 ebiet C - Baubereiche C2-C4\, Plan- und Unterlagenabgabe (inkl. Verfasserd
 aten)  - Stufe 1 01.09.2025 - 09.09.2025
DESCRIPTION:Link zum Verfahren: https://konkurado.ch/en/thurgauerstrasse-te
 ilgebiet-c-c2-c4
X-MICROSOFT-CDO-ALLDAYEVENT:TRUE
DTSTART;TZID=Europe/Zurich;VALUE=DATE:20250901
END:VEVENT
BEGIN:VEVENT
UID:69ea082884e02
DTSTAMP:20260423T115312Z
SUMMARY:KONKURADO: Neubauten Wohnhäuser mit Gewerbe Thurgauerstrasse Teilg
 ebiet C - Baubereiche C2-C4\, Plan- und Unterlagenabgabe (inkl. Verfasserd
 aten)  - Stufe 1 01.09.2025 - 09.09.2025
DESCRIPTION:Link zum Verfahren: https://konkurado.ch/en/thurgauerstrasse-te
 ilgebiet-c-c2-c4
X-MICROSOFT-CDO-ALLDAYEVENT:TRUE
DTSTART;TZID=Europe/Zurich;VALUE=DATE:20250909
END:VEVENT
BEGIN:VEVENT
UID:69ea082884e46
DTSTAMP:20260423T115312Z
SUMMARY:KONKURADO: Neubauten Wohnhäuser mit Gewerbe Thurgauerstrasse Teilg
 ebiet C - Baubereiche C2-C4\, Jurierung - Stufe 1 27.10.2025 - 05.12.2025
DESCRIPTION:Link zum Verfahren: https://konkurado.ch/en/thurgauerstrasse-te
 ilgebiet-c-c2-c4
X-MICROSOFT-CDO-ALLDAYEVENT:TRUE
DTSTART;TZID=Europe/Zurich;VALUE=DATE:20251027
END:VEVENT
BEGIN:VEVENT
UID:69ea082884e96
DTSTAMP:20260423T115312Z
SUMMARY:KONKURADO: Neubauten Wohnhäuser mit Gewerbe Thurgauerstrasse Teilg
 ebiet C - Baubereiche C2-C4\, Jurierung - Stufe 1 27.10.2025 - 05.12.2025
DESCRIPTION:Link zum Verfahren: https://konkurado.ch/en/thurgauerstrasse-te
 ilgebiet-c-c2-c4
X-MICROSOFT-CDO-ALLDAYEVENT:TRUE
DTSTART;TZID=Europe/Zurich;VALUE=DATE:20251205
END:VEVENT
BEGIN:VEVENT
UID:69ea082884f0e
DTSTAMP:20260423T115312Z
SUMMARY:KONKURADO: Neubauten Wohnhäuser mit Gewerbe Thurgauerstrasse Teilg
 ebiet C - Baubereiche C2-C4\, Fragenbeantwortung (Stufe 1) ab 09.07.2025 -
  09.09.2025
DESCRIPTION:Link zum Verfahren: https://konkurado.ch/en/thurgauerstrasse-te
 ilgebiet-c-c2-c4
X-MICROSOFT-CDO-ALLDAYEVENT:TRUE
DTSTART;TZID=Europe/Zurich;VALUE=DATE:20250709
END:VEVENT
BEGIN:VEVENT
UID:69ea082884f37
DTSTAMP:20260423T115312Z
SUMMARY:KONKURADO: Neubauten Wohnhäuser mit Gewerbe Thurgauerstrasse Teilg
 ebiet C - Baubereiche C2-C4\, Fragenbeantwortung (Stufe 1) ab 09.07.2025 -
  09.09.2025
DESCRIPTION:Link zum Verfahren: https://konkurado.ch/en/thurgauerstrasse-te
 ilgebiet-c-c2-c4
X-MICROSOFT-CDO-ALLDAYEVENT:TRUE
DTSTART;TZID=Europe/Zurich;VALUE=DATE:20250909
END:VEVENT
BEGIN:VEVENT
UID:69ea082884f6d
DTSTAMP:20260423T115312Z
SUMMARY:KONKURADO: Neubauten Wohnhäuser mit Gewerbe Thurgauerstrasse Teilg
 ebiet C - Baubereiche C2-C4\, Anmeldung 06.06.2025 - 09.09.2025
DESCRIPTION:Link zum Verfahren: https://konkurado.ch/en/thurgauerstrasse-te
 ilgebiet-c-c2-c4
X-MICROSOFT-CDO-ALLDAYEVENT:TRUE
DTSTART;TZID=Europe/Zurich;VALUE=DATE:20250606
END:VEVENT
BEGIN:VEVENT
UID:69ea082884f94
DTSTAMP:20260423T115312Z
SUMMARY:KONKURADO: Neubauten Wohnhäuser mit Gewerbe Thurgauerstrasse Teilg
 ebiet C - Baubereiche C2-C4\, Anmeldung 06.06.2025 - 09.09.2025
DESCRIPTION:Link zum Verfahren: https://konkurado.ch/en/thurgauerstrasse-te
 ilgebiet-c-c2-c4
X-MICROSOFT-CDO-ALLDAYEVENT:TRUE
DTSTART;TZID=Europe/Zurich;VALUE=DATE:20250909
END:VEVENT
BEGIN:VEVENT
UID:69ea082885000
DTSTAMP:20260423T115312Z
SUMMARY:KONKURADO: Neubauten Wohnhäuser mit Gewerbe Thurgauerstrasse Teilg
 ebiet C - Baubereiche C2-C4\, Wettbewerbsausgabe – Stufe 2 15.12.2025 - 
 15.12.2025
DESCRIPTION:Link zum Verfahren: https://konkurado.ch/en/thurgauerstrasse-te
 ilgebiet-c-c2-c4
X-MICROSOFT-CDO-ALLDAYEVENT:TRUE
DTSTART;TZID=Europe/Zurich;VALUE=DATE:20251215
END:VEVENT
BEGIN:VEVENT
UID:69ea082885029
DTSTAMP:20260423T115312Z
SUMMARY:KONKURADO: Neubauten Wohnhäuser mit Gewerbe Thurgauerstrasse Teilg
 ebiet C - Baubereiche C2-C4\, Wettbewerbsausgabe – Stufe 2 15.12.2025 - 
 15.12.2025
DESCRIPTION:Link zum Verfahren: https://konkurado.ch/en/thurgauerstrasse-te
 ilgebiet-c-c2-c4
X-MICROSOFT-CDO-ALLDAYEVENT:TRUE
DTSTART;TZID=Europe/Zurich;VALUE=DATE:20251215
END:VEVENT
BEGIN:VEVENT
UID:69ea082885084
DTSTAMP:20260423T115312Z
SUMMARY:KONKURADO: Neubauten Wohnhäuser mit Gewerbe Thurgauerstrasse Teilg
 ebiet C - Baubereiche C2-C4\, Modellausgabe – Stufe 2 15.12.2025 - 15.12
 .2025
DESCRIPTION:Link zum Verfahren: https://konkurado.ch/en/thurgauerstrasse-te
 ilgebiet-c-c2-c4
X-MICROSOFT-CDO-ALLDAYEVENT:TRUE
DTSTART;TZID=Europe/Zurich;VALUE=DATE:20251215
END:VEVENT
BEGIN:VEVENT
UID:69ea0828850bd
DTSTAMP:20260423T115312Z
SUMMARY:KONKURADO: Neubauten Wohnhäuser mit Gewerbe Thurgauerstrasse Teilg
 ebiet C - Baubereiche C2-C4\, Modellausgabe – Stufe 2 15.12.2025 - 15.12
 .2025
DESCRIPTION:Link zum Verfahren: https://konkurado.ch/en/thurgauerstrasse-te
 ilgebiet-c-c2-c4
X-MICROSOFT-CDO-ALLDAYEVENT:TRUE
DTSTART;TZID=Europe/Zurich;VALUE=DATE:20251215
END:VEVENT
BEGIN:VEVENT
UID:69ea0828850f0
DTSTAMP:20260423T115312Z
SUMMARY:KONKURADO: Neubauten Wohnhäuser mit Gewerbe Thurgauerstrasse Teilg
 ebiet C - Baubereiche C2-C4\, Fragenstellung allgemein (Stufe 2) bis 15.12
 .2025 - 05.01.2026
DESCRIPTION:Link zum Verfahren: https://konkurado.ch/en/thurgauerstrasse-te
 ilgebiet-c-c2-c4
X-MICROSOFT-CDO-ALLDAYEVENT:TRUE
DTSTART;TZID=Europe/Zurich;VALUE=DATE:20251215
END:VEVENT
BEGIN:VEVENT
UID:69ea082885117
DTSTAMP:20260423T115312Z
SUMMARY:KONKURADO: Neubauten Wohnhäuser mit Gewerbe Thurgauerstrasse Teilg
 ebiet C - Baubereiche C2-C4\, Fragenstellung allgemein (Stufe 2) bis 15.12
 .2025 - 05.01.2026
DESCRIPTION:Link zum Verfahren: https://konkurado.ch/en/thurgauerstrasse-te
 ilgebiet-c-c2-c4
X-MICROSOFT-CDO-ALLDAYEVENT:TRUE
DTSTART;TZID=Europe/Zurich;VALUE=DATE:20260105
END:VEVENT
BEGIN:VEVENT
UID:69ea082885171
DTSTAMP:20260423T115312Z
SUMMARY:KONKURADO: Neubauten Wohnhäuser mit Gewerbe Thurgauerstrasse Teilg
 ebiet C - Baubereiche C2-C4\, Fragenbeantwortung (Stufe 2) bis 05.01.2026 
 - 20.01.2026
DESCRIPTION:Link zum Verfahren: https://konkurado.ch/en/thurgauerstrasse-te
 ilgebiet-c-c2-c4
X-MICROSOFT-CDO-ALLDAYEVENT:TRUE
DTSTART;TZID=Europe/Zurich;VALUE=DATE:20260105
END:VEVENT
BEGIN:VEVENT
UID:69ea08288519a
DTSTAMP:20260423T115312Z
SUMMARY:KONKURADO: Neubauten Wohnhäuser mit Gewerbe Thurgauerstrasse Teilg
 ebiet C - Baubereiche C2-C4\, Fragenbeantwortung (Stufe 2) bis 05.01.2026 
 - 20.01.2026
DESCRIPTION:Link zum Verfahren: https://konkurado.ch/en/thurgauerstrasse-te
 ilgebiet-c-c2-c4
X-MICROSOFT-CDO-ALLDAYEVENT:TRUE
DTSTART;TZID=Europe/Zurich;VALUE=DATE:20260120
END:VEVENT
BEGIN:VEVENT
UID:69ea0828851cb
DTSTAMP:20260423T115312Z
SUMMARY:KONKURADO: Neubauten Wohnhäuser mit Gewerbe Thurgauerstrasse Teilg
 ebiet C - Baubereiche C2-C4\, Plan- und Unterlagenabgabe (inkl. Verfasserd
 aten) – Stufe 2 15.12.2025 - 17.03.2026
DESCRIPTION:Link zum Verfahren: https://konkurado.ch/en/thurgauerstrasse-te
 ilgebiet-c-c2-c4
X-MICROSOFT-CDO-ALLDAYEVENT:TRUE
DTSTART;TZID=Europe/Zurich;VALUE=DATE:20251215
END:VEVENT
BEGIN:VEVENT
UID:69ea0828851f3
DTSTAMP:20260423T115312Z
SUMMARY:KONKURADO: Neubauten Wohnhäuser mit Gewerbe Thurgauerstrasse Teilg
 ebiet C - Baubereiche C2-C4\, Plan- und Unterlagenabgabe (inkl. Verfasserd
 aten) – Stufe 2 15.12.2025 - 17.03.2026
DESCRIPTION:Link zum Verfahren: https://konkurado.ch/en/thurgauerstrasse-te
 ilgebiet-c-c2-c4
X-MICROSOFT-CDO-ALLDAYEVENT:TRUE
DTSTART;TZID=Europe/Zurich;VALUE=DATE:20260317
END:VEVENT
BEGIN:VEVENT
UID:69ea082885249
DTSTAMP:20260423T115312Z
SUMMARY:KONKURADO: Neubauten Wohnhäuser mit Gewerbe Thurgauerstrasse Teilg
 ebiet C - Baubereiche C2-C4\, Modellabgabe – Stufe 2 15.12.2025 - 01.04.
 2026
DESCRIPTION:Link zum Verfahren: https://konkurado.ch/en/thurgauerstrasse-te
 ilgebiet-c-c2-c4
X-MICROSOFT-CDO-ALLDAYEVENT:TRUE
DTSTART;TZID=Europe/Zurich;VALUE=DATE:20251215
END:VEVENT
BEGIN:VEVENT
UID:69ea082885273
DTSTAMP:20260423T115312Z
SUMMARY:KONKURADO: Neubauten Wohnhäuser mit Gewerbe Thurgauerstrasse Teilg
 ebiet C - Baubereiche C2-C4\, Modellabgabe – Stufe 2 15.12.2025 - 01.04.
 2026
DESCRIPTION:Link zum Verfahren: https://konkurado.ch/en/thurgauerstrasse-te
 ilgebiet-c-c2-c4
X-MICROSOFT-CDO-ALLDAYEVENT:TRUE
DTSTART;TZID=Europe/Zurich;VALUE=DATE:20260401
END:VEVENT
BEGIN:VEVENT
UID:69ea0828852a5
DTSTAMP:20260423T115312Z
SUMMARY:KONKURADO: Neubauten Wohnhäuser mit Gewerbe Thurgauerstrasse Teilg
 ebiet C - Baubereiche C2-C4\, Fragestellung zum individuellen Bericht (Stu
 fe 2) bis 15.12.2025 - 05.01.2026
DESCRIPTION:Link zum Verfahren: https://konkurado.ch/en/thurgauerstrasse-te
 ilgebiet-c-c2-c4
X-MICROSOFT-CDO-ALLDAYEVENT:TRUE
DTSTART;TZID=Europe/Zurich;VALUE=DATE:20251215
END:VEVENT
BEGIN:VEVENT
UID:69ea0828852cb
DTSTAMP:20260423T115312Z
SUMMARY:KONKURADO: Neubauten Wohnhäuser mit Gewerbe Thurgauerstrasse Teilg
 ebiet C - Baubereiche C2-C4\, Fragestellung zum individuellen Bericht (Stu
 fe 2) bis 15.12.2025 - 05.01.2026
DESCRIPTION:Link zum Verfahren: https://konkurado.ch/en/thurgauerstrasse-te
 ilgebiet-c-c2-c4
X-MICROSOFT-CDO-ALLDAYEVENT:TRUE
DTSTART;TZID=Europe/Zurich;VALUE=DATE:20260105
END:VEVENT
END:VCALENDAR