BEGIN:VCALENDAR
VERSION:2.0
PRODID:spatie/icalendar-generator
NAME:Testplanung Bahnhofareal Baar
X-WR-CALNAME:Testplanung Bahnhofareal Baar
BEGIN:VTIMEZONE
TZID:Europe/Zurich
BEGIN:STANDARD
DTSTART:20241027T030000
TZOFFSETFROM:+0200
TZOFFSETTO:+0100
END:STANDARD
BEGIN:DAYLIGHT
DTSTART:20250330T010000
TZOFFSETFROM:+0100
TZOFFSETTO:+0200
END:DAYLIGHT
BEGIN:STANDARD
DTSTART:20251026T030000
TZOFFSETFROM:+0200
TZOFFSETTO:+0100
END:STANDARD
BEGIN:DAYLIGHT
DTSTART:20260329T010000
TZOFFSETFROM:+0100
TZOFFSETTO:+0200
END:DAYLIGHT
BEGIN:STANDARD
DTSTART:20261025T030000
TZOFFSETFROM:+0200
TZOFFSETTO:+0100
END:STANDARD
END:VTIMEZONE
BEGIN:VTIMEZONE
TZID:UTC
BEGIN:STANDARD
DTSTART:20250727T115259
TZOFFSETFROM:+0000
TZOFFSETTO:+0000
END:STANDARD
END:VTIMEZONE
BEGIN:VEVENT
UID:69ea081b61fbf
DTSTAMP:20260423T115259Z
SUMMARY:KONKURADO: Testplanung Bahnhofareal Baar\, Eingabe der Bewerbungen 
 für die Präqualifikation 04.06.2025 - 15.07.2025
DESCRIPTION:Link zum Verfahren: https://konkurado.ch/en/testplanung-bahnhof
 areal-baar
X-MICROSOFT-CDO-ALLDAYEVENT:TRUE
DTSTART;TZID=Europe/Zurich;VALUE=DATE:20250604
END:VEVENT
BEGIN:VEVENT
UID:69ea081b62038
DTSTAMP:20260423T115259Z
SUMMARY:KONKURADO: Testplanung Bahnhofareal Baar\, Eingabe der Bewerbungen 
 für die Präqualifikation 04.06.2025 - 15.07.2025
DESCRIPTION:Link zum Verfahren: https://konkurado.ch/en/testplanung-bahnhof
 areal-baar
X-MICROSOFT-CDO-ALLDAYEVENT:TRUE
DTSTART;TZID=Europe/Zurich;VALUE=DATE:20250715
END:VEVENT
BEGIN:VEVENT
UID:69ea081b6215b
DTSTAMP:20260423T115259Z
SUMMARY:KONKURADO: Testplanung Bahnhofareal Baar\, Entscheid zur Zulassung 
 im Verfahren voraus. 08.09.2025 - 08.09.2025
DESCRIPTION:Link zum Verfahren: https://konkurado.ch/en/testplanung-bahnhof
 areal-baar
X-MICROSOFT-CDO-ALLDAYEVENT:TRUE
DTSTART;TZID=Europe/Zurich;VALUE=DATE:20250908
END:VEVENT
BEGIN:VEVENT
UID:69ea081b62186
DTSTAMP:20260423T115259Z
SUMMARY:KONKURADO: Testplanung Bahnhofareal Baar\, Entscheid zur Zulassung 
 im Verfahren voraus. 08.09.2025 - 08.09.2025
DESCRIPTION:Link zum Verfahren: https://konkurado.ch/en/testplanung-bahnhof
 areal-baar
X-MICROSOFT-CDO-ALLDAYEVENT:TRUE
DTSTART;TZID=Europe/Zurich;VALUE=DATE:20250908
END:VEVENT
BEGIN:VEVENT
UID:69ea081b621c4
DTSTAMP:20260423T115259Z
SUMMARY:KONKURADO: Testplanung Bahnhofareal Baar\, Schlussabgabe 13.10.2025
  - 24.04.2026
DESCRIPTION:Link zum Verfahren: https://konkurado.ch/en/testplanung-bahnhof
 areal-baar
X-MICROSOFT-CDO-ALLDAYEVENT:TRUE
DTSTART;TZID=Europe/Zurich;VALUE=DATE:20251013
END:VEVENT
BEGIN:VEVENT
UID:69ea081b621ea
DTSTAMP:20260423T115259Z
SUMMARY:KONKURADO: Testplanung Bahnhofareal Baar\, Schlussabgabe 13.10.2025
  - 24.04.2026
DESCRIPTION:Link zum Verfahren: https://konkurado.ch/en/testplanung-bahnhof
 areal-baar
X-MICROSOFT-CDO-ALLDAYEVENT:TRUE
DTSTART;TZID=Europe/Zurich;VALUE=DATE:20260424
END:VEVENT
BEGIN:VEVENT
UID:69ea081b62249
DTSTAMP:20260423T115259Z
SUMMARY:KONKURADO: Testplanung Bahnhofareal Baar\, Ausgabe Verfahrensprogra
 mm & -unterlagen 13.10.2025 - 13.10.2025
DESCRIPTION:Link zum Verfahren: https://konkurado.ch/en/testplanung-bahnhof
 areal-baar
X-MICROSOFT-CDO-ALLDAYEVENT:TRUE
DTSTART;TZID=Europe/Zurich;VALUE=DATE:20251013
END:VEVENT
BEGIN:VEVENT
UID:69ea081b6226f
DTSTAMP:20260423T115259Z
SUMMARY:KONKURADO: Testplanung Bahnhofareal Baar\, Ausgabe Verfahrensprogra
 mm & -unterlagen 13.10.2025 - 13.10.2025
DESCRIPTION:Link zum Verfahren: https://konkurado.ch/en/testplanung-bahnhof
 areal-baar
X-MICROSOFT-CDO-ALLDAYEVENT:TRUE
DTSTART;TZID=Europe/Zurich;VALUE=DATE:20251013
END:VEVENT
BEGIN:VEVENT
UID:69ea081b622d0
DTSTAMP:20260423T115259Z
SUMMARY:KONKURADO: Testplanung Bahnhofareal Baar\, Startveranstaltung 28.10
 .2025 - 28.10.2025
DESCRIPTION:Link zum Verfahren: https://konkurado.ch/en/testplanung-bahnhof
 areal-baar
X-MICROSOFT-CDO-ALLDAYEVENT:TRUE
DTSTART;TZID=Europe/Zurich;VALUE=DATE:20251028
END:VEVENT
BEGIN:VEVENT
UID:69ea081b622fc
DTSTAMP:20260423T115259Z
SUMMARY:KONKURADO: Testplanung Bahnhofareal Baar\, Startveranstaltung 28.10
 .2025 - 28.10.2025
DESCRIPTION:Link zum Verfahren: https://konkurado.ch/en/testplanung-bahnhof
 areal-baar
X-MICROSOFT-CDO-ALLDAYEVENT:TRUE
DTSTART;TZID=Europe/Zurich;VALUE=DATE:20251028
END:VEVENT
BEGIN:VEVENT
UID:69ea081b62351
DTSTAMP:20260423T115259Z
SUMMARY:KONKURADO: Testplanung Bahnhofareal Baar\, Zwischenbesprechung 1 11
 .12.2025 - 11.12.2025
DESCRIPTION:Link zum Verfahren: https://konkurado.ch/en/testplanung-bahnhof
 areal-baar
X-MICROSOFT-CDO-ALLDAYEVENT:TRUE
DTSTART;TZID=Europe/Zurich;VALUE=DATE:20251211
END:VEVENT
BEGIN:VEVENT
UID:69ea081b62378
DTSTAMP:20260423T115259Z
SUMMARY:KONKURADO: Testplanung Bahnhofareal Baar\, Zwischenbesprechung 1 11
 .12.2025 - 11.12.2025
DESCRIPTION:Link zum Verfahren: https://konkurado.ch/en/testplanung-bahnhof
 areal-baar
X-MICROSOFT-CDO-ALLDAYEVENT:TRUE
DTSTART;TZID=Europe/Zurich;VALUE=DATE:20251211
END:VEVENT
BEGIN:VEVENT
UID:69ea081b623ca
DTSTAMP:20260423T115259Z
SUMMARY:KONKURADO: Testplanung Bahnhofareal Baar\, Zwischenbesprechung 2 25
 .02.2026 - 25.02.2026
DESCRIPTION:Link zum Verfahren: https://konkurado.ch/en/testplanung-bahnhof
 areal-baar
X-MICROSOFT-CDO-ALLDAYEVENT:TRUE
DTSTART;TZID=Europe/Zurich;VALUE=DATE:20260225
END:VEVENT
BEGIN:VEVENT
UID:69ea081b623f2
DTSTAMP:20260423T115259Z
SUMMARY:KONKURADO: Testplanung Bahnhofareal Baar\, Zwischenbesprechung 2 25
 .02.2026 - 25.02.2026
DESCRIPTION:Link zum Verfahren: https://konkurado.ch/en/testplanung-bahnhof
 areal-baar
X-MICROSOFT-CDO-ALLDAYEVENT:TRUE
DTSTART;TZID=Europe/Zurich;VALUE=DATE:20260225
END:VEVENT
BEGIN:VEVENT
UID:69ea081b62444
DTSTAMP:20260423T115259Z
SUMMARY:KONKURADO: Testplanung Bahnhofareal Baar\, Schlusspräsentation 28.
 05.2026 - 28.05.2026
DESCRIPTION:Link zum Verfahren: https://konkurado.ch/en/testplanung-bahnhof
 areal-baar
X-MICROSOFT-CDO-ALLDAYEVENT:TRUE
DTSTART;TZID=Europe/Zurich;VALUE=DATE:20260528
END:VEVENT
BEGIN:VEVENT
UID:69ea081b6246a
DTSTAMP:20260423T115259Z
SUMMARY:KONKURADO: Testplanung Bahnhofareal Baar\, Schlusspräsentation 28.
 05.2026 - 28.05.2026
DESCRIPTION:Link zum Verfahren: https://konkurado.ch/en/testplanung-bahnhof
 areal-baar
X-MICROSOFT-CDO-ALLDAYEVENT:TRUE
DTSTART;TZID=Europe/Zurich;VALUE=DATE:20260528
END:VEVENT
BEGIN:VEVENT
UID:69ea081b624a8
DTSTAMP:20260423T115259Z
SUMMARY:KONKURADO: Testplanung Bahnhofareal Baar\, Schlussbeurteilung 28.05
 .2026 - 28.05.2026
DESCRIPTION:Link zum Verfahren: https://konkurado.ch/en/testplanung-bahnhof
 areal-baar
X-MICROSOFT-CDO-ALLDAYEVENT:TRUE
DTSTART;TZID=Europe/Zurich;VALUE=DATE:20260528
END:VEVENT
BEGIN:VEVENT
UID:69ea081b624d1
DTSTAMP:20260423T115259Z
SUMMARY:KONKURADO: Testplanung Bahnhofareal Baar\, Schlussbeurteilung 28.05
 .2026 - 28.05.2026
DESCRIPTION:Link zum Verfahren: https://konkurado.ch/en/testplanung-bahnhof
 areal-baar
X-MICROSOFT-CDO-ALLDAYEVENT:TRUE
DTSTART;TZID=Europe/Zurich;VALUE=DATE:20260528
END:VEVENT
END:VCALENDAR