BEGIN:VCALENDAR
VERSION:2.0
PRODID:spatie/icalendar-generator
NAME:Tagesbetreuung und Kindergarten Halden
X-WR-CALNAME:Tagesbetreuung und Kindergarten Halden
BEGIN:VTIMEZONE
TZID:Europe/Zurich
BEGIN:STANDARD
DTSTART:20241027T030000
TZOFFSETFROM:+0200
TZOFFSETTO:+0100
END:STANDARD
BEGIN:DAYLIGHT
DTSTART:20250330T010000
TZOFFSETFROM:+0100
TZOFFSETTO:+0200
END:DAYLIGHT
BEGIN:STANDARD
DTSTART:20251026T030000
TZOFFSETFROM:+0200
TZOFFSETTO:+0100
END:STANDARD
BEGIN:DAYLIGHT
DTSTART:20260329T010000
TZOFFSETFROM:+0100
TZOFFSETTO:+0200
END:DAYLIGHT
END:VTIMEZONE
BEGIN:VTIMEZONE
TZID:UTC
BEGIN:STANDARD
DTSTART:20250727T120429
TZOFFSETFROM:+0000
TZOFFSETTO:+0000
END:STANDARD
END:VTIMEZONE
BEGIN:VEVENT
UID:69ea0acd761ec
DTSTAMP:20260423T120429Z
SUMMARY:KONKURADO: Tagesbetreuung und Kindergarten Halden\, Anmeldung bis 0
 8.05.2025 - 26.05.2025
DESCRIPTION:Link zum Verfahren: https://konkurado.ch/en/tagesbetreuung-und-
 kindergarten-halden
X-MICROSOFT-CDO-ALLDAYEVENT:TRUE
DTSTART;TZID=Europe/Zurich;VALUE=DATE:20250508
END:VEVENT
BEGIN:VEVENT
UID:69ea0acd76266
DTSTAMP:20260423T120429Z
SUMMARY:KONKURADO: Tagesbetreuung und Kindergarten Halden\, Anmeldung bis 0
 8.05.2025 - 26.05.2025
DESCRIPTION:Link zum Verfahren: https://konkurado.ch/en/tagesbetreuung-und-
 kindergarten-halden
X-MICROSOFT-CDO-ALLDAYEVENT:TRUE
DTSTART;TZID=Europe/Zurich;VALUE=DATE:20250526
END:VEVENT
BEGIN:VEVENT
UID:69ea0acd762a5
DTSTAMP:20260423T120429Z
SUMMARY:KONKURADO: Tagesbetreuung und Kindergarten Halden\, Fragenstellung 
 08.05.2025 - 13.06.2025
DESCRIPTION:Link zum Verfahren: https://konkurado.ch/en/tagesbetreuung-und-
 kindergarten-halden
X-MICROSOFT-CDO-ALLDAYEVENT:TRUE
DTSTART;TZID=Europe/Zurich;VALUE=DATE:20250508
END:VEVENT
BEGIN:VEVENT
UID:69ea0acd762dd
DTSTAMP:20260423T120429Z
SUMMARY:KONKURADO: Tagesbetreuung und Kindergarten Halden\, Fragenstellung 
 08.05.2025 - 13.06.2025
DESCRIPTION:Link zum Verfahren: https://konkurado.ch/en/tagesbetreuung-und-
 kindergarten-halden
X-MICROSOFT-CDO-ALLDAYEVENT:TRUE
DTSTART;TZID=Europe/Zurich;VALUE=DATE:20250613
END:VEVENT
BEGIN:VEVENT
UID:69ea0acd76476
DTSTAMP:20260423T120429Z
SUMMARY:KONKURADO: Tagesbetreuung und Kindergarten Halden\, Einzahlung Mode
 lldepotgebühr bis 08.05.2025 - 15.05.2025
DESCRIPTION:Link zum Verfahren: https://konkurado.ch/en/tagesbetreuung-und-
 kindergarten-halden
X-MICROSOFT-CDO-ALLDAYEVENT:TRUE
DTSTART;TZID=Europe/Zurich;VALUE=DATE:20250508
END:VEVENT
BEGIN:VEVENT
UID:69ea0acd764a2
DTSTAMP:20260423T120429Z
SUMMARY:KONKURADO: Tagesbetreuung und Kindergarten Halden\, Einzahlung Mode
 lldepotgebühr bis 08.05.2025 - 15.05.2025
DESCRIPTION:Link zum Verfahren: https://konkurado.ch/en/tagesbetreuung-und-
 kindergarten-halden
X-MICROSOFT-CDO-ALLDAYEVENT:TRUE
DTSTART;TZID=Europe/Zurich;VALUE=DATE:20250515
END:VEVENT
BEGIN:VEVENT
UID:69ea0acd76505
DTSTAMP:20260423T120429Z
SUMMARY:KONKURADO: Tagesbetreuung und Kindergarten Halden\, Offizielle Bege
 hung 28.05.2025 - 28.05.2025
DESCRIPTION:Link zum Verfahren: https://konkurado.ch/en/tagesbetreuung-und-
 kindergarten-halden
X-MICROSOFT-CDO-ALLDAYEVENT:TRUE
DTSTART;TZID=Europe/Zurich;VALUE=DATE:20250528
END:VEVENT
BEGIN:VEVENT
UID:69ea0acd7652b
DTSTAMP:20260423T120429Z
SUMMARY:KONKURADO: Tagesbetreuung und Kindergarten Halden\, Offizielle Bege
 hung 28.05.2025 - 28.05.2025
DESCRIPTION:Link zum Verfahren: https://konkurado.ch/en/tagesbetreuung-und-
 kindergarten-halden
X-MICROSOFT-CDO-ALLDAYEVENT:TRUE
DTSTART;TZID=Europe/Zurich;VALUE=DATE:20250528
END:VEVENT
BEGIN:VEVENT
UID:69ea0acd76596
DTSTAMP:20260423T120429Z
SUMMARY:KONKURADO: Tagesbetreuung und Kindergarten Halden\, Bezug Modellgru
 ndlage 28.05.2025 - 13.11.2025
DESCRIPTION:Link zum Verfahren: https://konkurado.ch/en/tagesbetreuung-und-
 kindergarten-halden
X-MICROSOFT-CDO-ALLDAYEVENT:TRUE
DTSTART;TZID=Europe/Zurich;VALUE=DATE:20250528
END:VEVENT
BEGIN:VEVENT
UID:69ea0acd765bd
DTSTAMP:20260423T120429Z
SUMMARY:KONKURADO: Tagesbetreuung und Kindergarten Halden\, Bezug Modellgru
 ndlage 28.05.2025 - 13.11.2025
DESCRIPTION:Link zum Verfahren: https://konkurado.ch/en/tagesbetreuung-und-
 kindergarten-halden
X-MICROSOFT-CDO-ALLDAYEVENT:TRUE
DTSTART;TZID=Europe/Zurich;VALUE=DATE:20251113
END:VEVENT
BEGIN:VEVENT
UID:69ea0acd76611
DTSTAMP:20260423T120429Z
SUMMARY:KONKURADO: Tagesbetreuung und Kindergarten Halden\, Fragenbeantwort
 ung 30.06.2025 - 30.10.2025
DESCRIPTION:Link zum Verfahren: https://konkurado.ch/en/tagesbetreuung-und-
 kindergarten-halden
X-MICROSOFT-CDO-ALLDAYEVENT:TRUE
DTSTART;TZID=Europe/Zurich;VALUE=DATE:20250630
END:VEVENT
BEGIN:VEVENT
UID:69ea0acd76638
DTSTAMP:20260423T120429Z
SUMMARY:KONKURADO: Tagesbetreuung und Kindergarten Halden\, Fragenbeantwort
 ung 30.06.2025 - 30.10.2025
DESCRIPTION:Link zum Verfahren: https://konkurado.ch/en/tagesbetreuung-und-
 kindergarten-halden
X-MICROSOFT-CDO-ALLDAYEVENT:TRUE
DTSTART;TZID=Europe/Zurich;VALUE=DATE:20251030
END:VEVENT
BEGIN:VEVENT
UID:69ea0acd76689
DTSTAMP:20260423T120429Z
SUMMARY:KONKURADO: Tagesbetreuung und Kindergarten Halden\, Schulung/Webina
 r EcoTool.org für Teilnehmende (online) 13.08.2025 - 13.08.2025
DESCRIPTION:Link zum Verfahren: https://konkurado.ch/en/tagesbetreuung-und-
 kindergarten-halden
X-MICROSOFT-CDO-ALLDAYEVENT:TRUE
DTSTART;TZID=Europe/Zurich;VALUE=DATE:20250813
END:VEVENT
BEGIN:VEVENT
UID:69ea0acd766af
DTSTAMP:20260423T120429Z
SUMMARY:KONKURADO: Tagesbetreuung und Kindergarten Halden\, Schulung/Webina
 r EcoTool.org für Teilnehmende (online) 13.08.2025 - 13.08.2025
DESCRIPTION:Link zum Verfahren: https://konkurado.ch/en/tagesbetreuung-und-
 kindergarten-halden
X-MICROSOFT-CDO-ALLDAYEVENT:TRUE
DTSTART;TZID=Europe/Zurich;VALUE=DATE:20250813
END:VEVENT
BEGIN:VEVENT
UID:69ea0acd766e4
DTSTAMP:20260423T120429Z
SUMMARY:KONKURADO: Tagesbetreuung und Kindergarten Halden\, Abgabe Pläne 0
 8.05.2025 - 30.10.2025
DESCRIPTION:Link zum Verfahren: https://konkurado.ch/en/tagesbetreuung-und-
 kindergarten-halden
X-MICROSOFT-CDO-ALLDAYEVENT:TRUE
DTSTART;TZID=Europe/Zurich;VALUE=DATE:20250508
END:VEVENT
BEGIN:VEVENT
UID:69ea0acd7670a
DTSTAMP:20260423T120429Z
SUMMARY:KONKURADO: Tagesbetreuung und Kindergarten Halden\, Abgabe Pläne 0
 8.05.2025 - 30.10.2025
DESCRIPTION:Link zum Verfahren: https://konkurado.ch/en/tagesbetreuung-und-
 kindergarten-halden
X-MICROSOFT-CDO-ALLDAYEVENT:TRUE
DTSTART;TZID=Europe/Zurich;VALUE=DATE:20251030
END:VEVENT
BEGIN:VEVENT
UID:69ea0acd7675d
DTSTAMP:20260423T120429Z
SUMMARY:KONKURADO: Tagesbetreuung und Kindergarten Halden\, Abgabe Modell 2
 8.05.2025 - 13.11.2025
DESCRIPTION:Link zum Verfahren: https://konkurado.ch/en/tagesbetreuung-und-
 kindergarten-halden
X-MICROSOFT-CDO-ALLDAYEVENT:TRUE
DTSTART;TZID=Europe/Zurich;VALUE=DATE:20250528
END:VEVENT
BEGIN:VEVENT
UID:69ea0acd76782
DTSTAMP:20260423T120429Z
SUMMARY:KONKURADO: Tagesbetreuung und Kindergarten Halden\, Abgabe Modell 2
 8.05.2025 - 13.11.2025
DESCRIPTION:Link zum Verfahren: https://konkurado.ch/en/tagesbetreuung-und-
 kindergarten-halden
X-MICROSOFT-CDO-ALLDAYEVENT:TRUE
DTSTART;TZID=Europe/Zurich;VALUE=DATE:20251113
END:VEVENT
END:VCALENDAR