BEGIN:VCALENDAR
VERSION:2.0
PRODID:spatie/icalendar-generator
NAME:Surélévation d'immeubles d'habitations et transformation d'un centre
  d'activités\, Rue du Livron\, Rue de la Prulay
X-WR-CALNAME:Surélévation d'immeubles d'habitations et transformation d'u
 n centre d'activités\, Rue du Livron\, Rue de la Prulay
BEGIN:VTIMEZONE
TZID:Europe/Zurich
BEGIN:STANDARD
DTSTART:20241027T030000
TZOFFSETFROM:+0200
TZOFFSETTO:+0100
END:STANDARD
BEGIN:DAYLIGHT
DTSTART:20250330T010000
TZOFFSETFROM:+0100
TZOFFSETTO:+0200
END:DAYLIGHT
BEGIN:STANDARD
DTSTART:20251026T030000
TZOFFSETFROM:+0200
TZOFFSETTO:+0100
END:STANDARD
END:VTIMEZONE
BEGIN:VTIMEZONE
TZID:UTC
BEGIN:STANDARD
DTSTART:20250727T120600
TZOFFSETFROM:+0000
TZOFFSETTO:+0000
END:STANDARD
END:VTIMEZONE
BEGIN:VEVENT
UID:69ea0b2839593
DTSTAMP:20260423T120600Z
SUMMARY:KONKURADO: Surélévation d'immeubles d'habitations et transformati
 on d'un centre d'activités\, Rue du Livron\, Rue de la Prulay\, Anmeldung
  28.01.2025 - 28.02.2025
DESCRIPTION:Link zum Verfahren: https://konkurado.ch/en/surelevation-dimmeu
 bles-dhabitations-et-transformation-dun-centre-dactivites-rue-du-livron-ru
 e-de-la-prulay
X-MICROSOFT-CDO-ALLDAYEVENT:TRUE
DTSTART;TZID=Europe/Zurich;VALUE=DATE:20250128
END:VEVENT
BEGIN:VEVENT
UID:69ea0b28395f5
DTSTAMP:20260423T120600Z
SUMMARY:KONKURADO: Surélévation d'immeubles d'habitations et transformati
 on d'un centre d'activités\, Rue du Livron\, Rue de la Prulay\, Anmeldung
  28.01.2025 - 28.02.2025
DESCRIPTION:Link zum Verfahren: https://konkurado.ch/en/surelevation-dimmeu
 bles-dhabitations-et-transformation-dun-centre-dactivites-rue-du-livron-ru
 e-de-la-prulay
X-MICROSOFT-CDO-ALLDAYEVENT:TRUE
DTSTART;TZID=Europe/Zurich;VALUE=DATE:20250228
END:VEVENT
BEGIN:VEVENT
UID:69ea0b2839753
DTSTAMP:20260423T120600Z
SUMMARY:KONKURADO: Surélévation d'immeubles d'habitations et transformati
 on d'un centre d'activités\, Rue du Livron\, Rue de la Prulay\, Fragenbea
 ntwortung 04.03.2025 - 14.03.2025
DESCRIPTION:Link zum Verfahren: https://konkurado.ch/en/surelevation-dimmeu
 bles-dhabitations-et-transformation-dun-centre-dactivites-rue-du-livron-ru
 e-de-la-prulay
X-MICROSOFT-CDO-ALLDAYEVENT:TRUE
DTSTART;TZID=Europe/Zurich;VALUE=DATE:20250304
END:VEVENT
BEGIN:VEVENT
UID:69ea0b2839780
DTSTAMP:20260423T120600Z
SUMMARY:KONKURADO: Surélévation d'immeubles d'habitations et transformati
 on d'un centre d'activités\, Rue du Livron\, Rue de la Prulay\, Fragenbea
 ntwortung 04.03.2025 - 14.03.2025
DESCRIPTION:Link zum Verfahren: https://konkurado.ch/en/surelevation-dimmeu
 bles-dhabitations-et-transformation-dun-centre-dactivites-rue-du-livron-ru
 e-de-la-prulay
X-MICROSOFT-CDO-ALLDAYEVENT:TRUE
DTSTART;TZID=Europe/Zurich;VALUE=DATE:20250314
END:VEVENT
BEGIN:VEVENT
UID:69ea0b28397b7
DTSTAMP:20260423T120600Z
SUMMARY:KONKURADO: Surélévation d'immeubles d'habitations et transformati
 on d'un centre d'activités\, Rue du Livron\, Rue de la Prulay\, Einreichu
 ng von Fragen bis 28.01.2025 - 03.03.2025
DESCRIPTION:Link zum Verfahren: https://konkurado.ch/en/surelevation-dimmeu
 bles-dhabitations-et-transformation-dun-centre-dactivites-rue-du-livron-ru
 e-de-la-prulay
X-MICROSOFT-CDO-ALLDAYEVENT:TRUE
DTSTART;TZID=Europe/Zurich;VALUE=DATE:20250128
END:VEVENT
BEGIN:VEVENT
UID:69ea0b28397dd
DTSTAMP:20260423T120600Z
SUMMARY:KONKURADO: Surélévation d'immeubles d'habitations et transformati
 on d'un centre d'activités\, Rue du Livron\, Rue de la Prulay\, Einreichu
 ng von Fragen bis 28.01.2025 - 03.03.2025
DESCRIPTION:Link zum Verfahren: https://konkurado.ch/en/surelevation-dimmeu
 bles-dhabitations-et-transformation-dun-centre-dactivites-rue-du-livron-ru
 e-de-la-prulay
X-MICROSOFT-CDO-ALLDAYEVENT:TRUE
DTSTART;TZID=Europe/Zurich;VALUE=DATE:20250303
END:VEVENT
BEGIN:VEVENT
UID:69ea0b2839810
DTSTAMP:20260423T120600Z
SUMMARY:KONKURADO: Surélévation d'immeubles d'habitations et transformati
 on d'un centre d'activités\, Rue du Livron\, Rue de la Prulay\, Wettbewer
 bsabgabe 28.01.2025 - 28.05.2025
DESCRIPTION:Link zum Verfahren: https://konkurado.ch/en/surelevation-dimmeu
 bles-dhabitations-et-transformation-dun-centre-dactivites-rue-du-livron-ru
 e-de-la-prulay
X-MICROSOFT-CDO-ALLDAYEVENT:TRUE
DTSTART;TZID=Europe/Zurich;VALUE=DATE:20250128
END:VEVENT
BEGIN:VEVENT
UID:69ea0b2839834
DTSTAMP:20260423T120600Z
SUMMARY:KONKURADO: Surélévation d'immeubles d'habitations et transformati
 on d'un centre d'activités\, Rue du Livron\, Rue de la Prulay\, Wettbewer
 bsabgabe 28.01.2025 - 28.05.2025
DESCRIPTION:Link zum Verfahren: https://konkurado.ch/en/surelevation-dimmeu
 bles-dhabitations-et-transformation-dun-centre-dactivites-rue-du-livron-ru
 e-de-la-prulay
X-MICROSOFT-CDO-ALLDAYEVENT:TRUE
DTSTART;TZID=Europe/Zurich;VALUE=DATE:20250528
END:VEVENT
BEGIN:VEVENT
UID:69ea0b2839872
DTSTAMP:20260423T120600Z
SUMMARY:KONKURADO: Surélévation d'immeubles d'habitations et transformati
 on d'un centre d'activités\, Rue du Livron\, Rue de la Prulay\, Jurierung
  05.06.2025 - 20.06.2025
DESCRIPTION:Link zum Verfahren: https://konkurado.ch/en/surelevation-dimmeu
 bles-dhabitations-et-transformation-dun-centre-dactivites-rue-du-livron-ru
 e-de-la-prulay
X-MICROSOFT-CDO-ALLDAYEVENT:TRUE
DTSTART;TZID=Europe/Zurich;VALUE=DATE:20250605
END:VEVENT
BEGIN:VEVENT
UID:69ea0b283989f
DTSTAMP:20260423T120600Z
SUMMARY:KONKURADO: Surélévation d'immeubles d'habitations et transformati
 on d'un centre d'activités\, Rue du Livron\, Rue de la Prulay\, Jurierung
  05.06.2025 - 20.06.2025
DESCRIPTION:Link zum Verfahren: https://konkurado.ch/en/surelevation-dimmeu
 bles-dhabitations-et-transformation-dun-centre-dactivites-rue-du-livron-ru
 e-de-la-prulay
X-MICROSOFT-CDO-ALLDAYEVENT:TRUE
DTSTART;TZID=Europe/Zurich;VALUE=DATE:20250620
END:VEVENT
BEGIN:VEVENT
UID:69ea0b2839901
DTSTAMP:20260423T120600Z
SUMMARY:KONKURADO: Surélévation d'immeubles d'habitations et transformati
 on d'un centre d'activités\, Rue du Livron\, Rue de la Prulay\, Kommunika
 tion Resultat 27.06.2025 - 27.06.2025
DESCRIPTION:Link zum Verfahren: https://konkurado.ch/en/surelevation-dimmeu
 bles-dhabitations-et-transformation-dun-centre-dactivites-rue-du-livron-ru
 e-de-la-prulay
X-MICROSOFT-CDO-ALLDAYEVENT:TRUE
DTSTART;TZID=Europe/Zurich;VALUE=DATE:20250627
END:VEVENT
BEGIN:VEVENT
UID:69ea0b2839928
DTSTAMP:20260423T120600Z
SUMMARY:KONKURADO: Surélévation d'immeubles d'habitations et transformati
 on d'un centre d'activités\, Rue du Livron\, Rue de la Prulay\, Kommunika
 tion Resultat 27.06.2025 - 27.06.2025
DESCRIPTION:Link zum Verfahren: https://konkurado.ch/en/surelevation-dimmeu
 bles-dhabitations-et-transformation-dun-centre-dactivites-rue-du-livron-ru
 e-de-la-prulay
X-MICROSOFT-CDO-ALLDAYEVENT:TRUE
DTSTART;TZID=Europe/Zurich;VALUE=DATE:20250627
END:VEVENT
BEGIN:VEVENT
UID:69ea0b283997d
DTSTAMP:20260423T120600Z
SUMMARY:KONKURADO: Surélévation d'immeubles d'habitations et transformati
 on d'un centre d'activités\, Rue du Livron\, Rue de la Prulay\, Ausstellu
 ng 22.08.2025 - 22.08.2025
DESCRIPTION:Link zum Verfahren: https://konkurado.ch/en/surelevation-dimmeu
 bles-dhabitations-et-transformation-dun-centre-dactivites-rue-du-livron-ru
 e-de-la-prulay
X-MICROSOFT-CDO-ALLDAYEVENT:TRUE
DTSTART;TZID=Europe/Zurich;VALUE=DATE:20250822
END:VEVENT
BEGIN:VEVENT
UID:69ea0b28399a3
DTSTAMP:20260423T120600Z
SUMMARY:KONKURADO: Surélévation d'immeubles d'habitations et transformati
 on d'un centre d'activités\, Rue du Livron\, Rue de la Prulay\, Ausstellu
 ng 22.08.2025 - 22.08.2025
DESCRIPTION:Link zum Verfahren: https://konkurado.ch/en/surelevation-dimmeu
 bles-dhabitations-et-transformation-dun-centre-dactivites-rue-du-livron-ru
 e-de-la-prulay
X-MICROSOFT-CDO-ALLDAYEVENT:TRUE
DTSTART;TZID=Europe/Zurich;VALUE=DATE:20250822
END:VEVENT
END:VCALENDAR