BEGIN:VCALENDAR
VERSION:2.0
PRODID:spatie/icalendar-generator
NAME:Studienauftrag Arealentwicklung Nidelbad Rüschlikon
X-WR-CALNAME:Studienauftrag Arealentwicklung Nidelbad Rüschlikon
BEGIN:VTIMEZONE
TZID:Europe/Zurich
BEGIN:STANDARD
DTSTART:20241027T030000
TZOFFSETFROM:+0200
TZOFFSETTO:+0100
END:STANDARD
BEGIN:DAYLIGHT
DTSTART:20250330T010000
TZOFFSETFROM:+0100
TZOFFSETTO:+0200
END:DAYLIGHT
BEGIN:STANDARD
DTSTART:20251026T030000
TZOFFSETFROM:+0200
TZOFFSETTO:+0100
END:STANDARD
BEGIN:DAYLIGHT
DTSTART:20260329T010000
TZOFFSETFROM:+0100
TZOFFSETTO:+0200
END:DAYLIGHT
END:VTIMEZONE
BEGIN:VTIMEZONE
TZID:UTC
BEGIN:STANDARD
DTSTART:20250727T120150
TZOFFSETFROM:+0000
TZOFFSETTO:+0000
END:STANDARD
END:VTIMEZONE
BEGIN:VEVENT
UID:69ea0a2e03b12
DTSTAMP:20260423T120150Z
SUMMARY:KONKURADO: Studienauftrag Arealentwicklung Nidelbad Rüschlikon\, A
 bgabe Bewerbungsunterlagen bis 01.04.2025 - 30.04.2025
DESCRIPTION:Link zum Verfahren: https://konkurado.ch/en/studienauftrag-area
 lentwicklung-nidelbad-ruschlikon
X-MICROSOFT-CDO-ALLDAYEVENT:TRUE
DTSTART;TZID=Europe/Zurich;VALUE=DATE:20250401
END:VEVENT
BEGIN:VEVENT
UID:69ea0a2e03b94
DTSTAMP:20260423T120150Z
SUMMARY:KONKURADO: Studienauftrag Arealentwicklung Nidelbad Rüschlikon\, A
 bgabe Bewerbungsunterlagen bis 01.04.2025 - 30.04.2025
DESCRIPTION:Link zum Verfahren: https://konkurado.ch/en/studienauftrag-area
 lentwicklung-nidelbad-ruschlikon
X-MICROSOFT-CDO-ALLDAYEVENT:TRUE
DTSTART;TZID=Europe/Zurich;VALUE=DATE:20250430
END:VEVENT
BEGIN:VEVENT
UID:69ea0a2e03bd3
DTSTAMP:20260423T120150Z
SUMMARY:KONKURADO: Studienauftrag Arealentwicklung Nidelbad Rüschlikon\, E
 ingabe Fragen bis 02.06.2025 - 13.06.2025
DESCRIPTION:Link zum Verfahren: https://konkurado.ch/en/studienauftrag-area
 lentwicklung-nidelbad-ruschlikon
X-MICROSOFT-CDO-ALLDAYEVENT:TRUE
DTSTART;TZID=Europe/Zurich;VALUE=DATE:20250602
END:VEVENT
BEGIN:VEVENT
UID:69ea0a2e03bfa
DTSTAMP:20260423T120150Z
SUMMARY:KONKURADO: Studienauftrag Arealentwicklung Nidelbad Rüschlikon\, E
 ingabe Fragen bis 02.06.2025 - 13.06.2025
DESCRIPTION:Link zum Verfahren: https://konkurado.ch/en/studienauftrag-area
 lentwicklung-nidelbad-ruschlikon
X-MICROSOFT-CDO-ALLDAYEVENT:TRUE
DTSTART;TZID=Europe/Zurich;VALUE=DATE:20250613
END:VEVENT
BEGIN:VEVENT
UID:69ea0a2e03c2d
DTSTAMP:20260423T120150Z
SUMMARY:KONKURADO: Studienauftrag Arealentwicklung Nidelbad Rüschlikon\, A
 bgabe Unterlagen Stufe 1 bis 02.06.2025 - 22.08.2025
DESCRIPTION:Link zum Verfahren: https://konkurado.ch/en/studienauftrag-area
 lentwicklung-nidelbad-ruschlikon
X-MICROSOFT-CDO-ALLDAYEVENT:TRUE
DTSTART;TZID=Europe/Zurich;VALUE=DATE:20250602
END:VEVENT
BEGIN:VEVENT
UID:69ea0a2e03c52
DTSTAMP:20260423T120150Z
SUMMARY:KONKURADO: Studienauftrag Arealentwicklung Nidelbad Rüschlikon\, A
 bgabe Unterlagen Stufe 1 bis 02.06.2025 - 22.08.2025
DESCRIPTION:Link zum Verfahren: https://konkurado.ch/en/studienauftrag-area
 lentwicklung-nidelbad-ruschlikon
X-MICROSOFT-CDO-ALLDAYEVENT:TRUE
DTSTART;TZID=Europe/Zurich;VALUE=DATE:20250822
END:VEVENT
BEGIN:VEVENT
UID:69ea0a2e03da7
DTSTAMP:20260423T120150Z
SUMMARY:KONKURADO: Studienauftrag Arealentwicklung Nidelbad Rüschlikon\, B
 eurteilung Eingaben 01.05.2025 - 05.05.2025
DESCRIPTION:Link zum Verfahren: https://konkurado.ch/en/studienauftrag-area
 lentwicklung-nidelbad-ruschlikon
X-MICROSOFT-CDO-ALLDAYEVENT:TRUE
DTSTART;TZID=Europe/Zurich;VALUE=DATE:20250501
END:VEVENT
BEGIN:VEVENT
UID:69ea0a2e03de1
DTSTAMP:20260423T120150Z
SUMMARY:KONKURADO: Studienauftrag Arealentwicklung Nidelbad Rüschlikon\, B
 eurteilung Eingaben 01.05.2025 - 05.05.2025
DESCRIPTION:Link zum Verfahren: https://konkurado.ch/en/studienauftrag-area
 lentwicklung-nidelbad-ruschlikon
X-MICROSOFT-CDO-ALLDAYEVENT:TRUE
DTSTART;TZID=Europe/Zurich;VALUE=DATE:20250505
END:VEVENT
BEGIN:VEVENT
UID:69ea0a2e03e42
DTSTAMP:20260423T120150Z
SUMMARY:KONKURADO: Studienauftrag Arealentwicklung Nidelbad Rüschlikon\, T
 eilnahmebestätigung an Teams 06.05.2025 - 12.05.2025
DESCRIPTION:Link zum Verfahren: https://konkurado.ch/en/studienauftrag-area
 lentwicklung-nidelbad-ruschlikon
X-MICROSOFT-CDO-ALLDAYEVENT:TRUE
DTSTART;TZID=Europe/Zurich;VALUE=DATE:20250506
END:VEVENT
BEGIN:VEVENT
UID:69ea0a2e03e69
DTSTAMP:20260423T120150Z
SUMMARY:KONKURADO: Studienauftrag Arealentwicklung Nidelbad Rüschlikon\, T
 eilnahmebestätigung an Teams 06.05.2025 - 12.05.2025
DESCRIPTION:Link zum Verfahren: https://konkurado.ch/en/studienauftrag-area
 lentwicklung-nidelbad-ruschlikon
X-MICROSOFT-CDO-ALLDAYEVENT:TRUE
DTSTART;TZID=Europe/Zurich;VALUE=DATE:20250512
END:VEVENT
BEGIN:VEVENT
UID:69ea0a2e03ebf
DTSTAMP:20260423T120150Z
SUMMARY:KONKURADO: Studienauftrag Arealentwicklung Nidelbad Rüschlikon\, W
 ettbewerbsausgabe\, Begehung 02.06.2025 - 02.06.2025
DESCRIPTION:Link zum Verfahren: https://konkurado.ch/en/studienauftrag-area
 lentwicklung-nidelbad-ruschlikon
X-MICROSOFT-CDO-ALLDAYEVENT:TRUE
DTSTART;TZID=Europe/Zurich;VALUE=DATE:20250602
END:VEVENT
BEGIN:VEVENT
UID:69ea0a2e03ee5
DTSTAMP:20260423T120150Z
SUMMARY:KONKURADO: Studienauftrag Arealentwicklung Nidelbad Rüschlikon\, W
 ettbewerbsausgabe\, Begehung 02.06.2025 - 02.06.2025
DESCRIPTION:Link zum Verfahren: https://konkurado.ch/en/studienauftrag-area
 lentwicklung-nidelbad-ruschlikon
X-MICROSOFT-CDO-ALLDAYEVENT:TRUE
DTSTART;TZID=Europe/Zurich;VALUE=DATE:20250602
END:VEVENT
BEGIN:VEVENT
UID:69ea0a2e03f37
DTSTAMP:20260423T120150Z
SUMMARY:KONKURADO: Studienauftrag Arealentwicklung Nidelbad Rüschlikon\, B
 eantwortung Fragen 14.06.2025 - 27.06.2025
DESCRIPTION:Link zum Verfahren: https://konkurado.ch/en/studienauftrag-area
 lentwicklung-nidelbad-ruschlikon
X-MICROSOFT-CDO-ALLDAYEVENT:TRUE
DTSTART;TZID=Europe/Zurich;VALUE=DATE:20250614
END:VEVENT
BEGIN:VEVENT
UID:69ea0a2e03f5d
DTSTAMP:20260423T120150Z
SUMMARY:KONKURADO: Studienauftrag Arealentwicklung Nidelbad Rüschlikon\, B
 eantwortung Fragen 14.06.2025 - 27.06.2025
DESCRIPTION:Link zum Verfahren: https://konkurado.ch/en/studienauftrag-area
 lentwicklung-nidelbad-ruschlikon
X-MICROSOFT-CDO-ALLDAYEVENT:TRUE
DTSTART;TZID=Europe/Zurich;VALUE=DATE:20250627
END:VEVENT
BEGIN:VEVENT
UID:69ea0a2e03fad
DTSTAMP:20260423T120150Z
SUMMARY:KONKURADO: Studienauftrag Arealentwicklung Nidelbad Rüschlikon\, 1
 . Zwischenpräsentation 27.08.2025 - 28.08.2025
DESCRIPTION:Link zum Verfahren: https://konkurado.ch/en/studienauftrag-area
 lentwicklung-nidelbad-ruschlikon
X-MICROSOFT-CDO-ALLDAYEVENT:TRUE
DTSTART;TZID=Europe/Zurich;VALUE=DATE:20250827
END:VEVENT
BEGIN:VEVENT
UID:69ea0a2e03fd3
DTSTAMP:20260423T120150Z
SUMMARY:KONKURADO: Studienauftrag Arealentwicklung Nidelbad Rüschlikon\, 1
 . Zwischenpräsentation 27.08.2025 - 28.08.2025
DESCRIPTION:Link zum Verfahren: https://konkurado.ch/en/studienauftrag-area
 lentwicklung-nidelbad-ruschlikon
X-MICROSOFT-CDO-ALLDAYEVENT:TRUE
DTSTART;TZID=Europe/Zurich;VALUE=DATE:20250828
END:VEVENT
BEGIN:VEVENT
UID:69ea0a2e0403c
DTSTAMP:20260423T120150Z
SUMMARY:KONKURADO: Studienauftrag Arealentwicklung Nidelbad Rüschlikon\, R
 ückmeldung Zwischenpräsentation bis 29.08.2025 - 12.09.2025
DESCRIPTION:Link zum Verfahren: https://konkurado.ch/en/studienauftrag-area
 lentwicklung-nidelbad-ruschlikon
X-MICROSOFT-CDO-ALLDAYEVENT:TRUE
DTSTART;TZID=Europe/Zurich;VALUE=DATE:20250829
END:VEVENT
BEGIN:VEVENT
UID:69ea0a2e04062
DTSTAMP:20260423T120150Z
SUMMARY:KONKURADO: Studienauftrag Arealentwicklung Nidelbad Rüschlikon\, R
 ückmeldung Zwischenpräsentation bis 29.08.2025 - 12.09.2025
DESCRIPTION:Link zum Verfahren: https://konkurado.ch/en/studienauftrag-area
 lentwicklung-nidelbad-ruschlikon
X-MICROSOFT-CDO-ALLDAYEVENT:TRUE
DTSTART;TZID=Europe/Zurich;VALUE=DATE:20250912
END:VEVENT
BEGIN:VEVENT
UID:69ea0a2e040b3
DTSTAMP:20260423T120150Z
SUMMARY:KONKURADO: Studienauftrag Arealentwicklung Nidelbad Rüschlikon\, S
 chlusspräsentation 06.11.2025 - 07.11.2025
DESCRIPTION:Link zum Verfahren: https://konkurado.ch/en/studienauftrag-area
 lentwicklung-nidelbad-ruschlikon
X-MICROSOFT-CDO-ALLDAYEVENT:TRUE
DTSTART;TZID=Europe/Zurich;VALUE=DATE:20251106
END:VEVENT
BEGIN:VEVENT
UID:69ea0a2e040da
DTSTAMP:20260423T120150Z
SUMMARY:KONKURADO: Studienauftrag Arealentwicklung Nidelbad Rüschlikon\, S
 chlusspräsentation 06.11.2025 - 07.11.2025
DESCRIPTION:Link zum Verfahren: https://konkurado.ch/en/studienauftrag-area
 lentwicklung-nidelbad-ruschlikon
X-MICROSOFT-CDO-ALLDAYEVENT:TRUE
DTSTART;TZID=Europe/Zurich;VALUE=DATE:20251107
END:VEVENT
END:VCALENDAR