BEGIN:VCALENDAR
VERSION:2.0
PRODID:spatie/icalendar-generator
NAME:STEP de l'Asse à Nyon - Rénovation et agrandissement des installatio
 ns de traitement des eaux usées
X-WR-CALNAME:STEP de l'Asse à Nyon - Rénovation et agrandissement des ins
 tallations de traitement des eaux usées
BEGIN:VTIMEZONE
TZID:Europe/Zurich
BEGIN:STANDARD
DTSTART:20241027T030000
TZOFFSETFROM:+0200
TZOFFSETTO:+0100
END:STANDARD
BEGIN:DAYLIGHT
DTSTART:20250330T010000
TZOFFSETFROM:+0100
TZOFFSETTO:+0200
END:DAYLIGHT
BEGIN:STANDARD
DTSTART:20251026T030000
TZOFFSETFROM:+0200
TZOFFSETTO:+0100
END:STANDARD
BEGIN:DAYLIGHT
DTSTART:20260329T010000
TZOFFSETFROM:+0100
TZOFFSETTO:+0200
END:DAYLIGHT
END:VTIMEZONE
BEGIN:VTIMEZONE
TZID:UTC
BEGIN:STANDARD
DTSTART:20250727T120322
TZOFFSETFROM:+0000
TZOFFSETTO:+0000
END:STANDARD
END:VTIMEZONE
BEGIN:VEVENT
UID:69ea0a8a08bf0
DTSTAMP:20260423T120322Z
SUMMARY:KONKURADO: STEP de l'Asse à Nyon - Rénovation et agrandissement d
 es installations de traitement des eaux usées\, Einreichung der Selektion
 sdossiers 21.05.2025 - 25.06.2025
DESCRIPTION:Link zum Verfahren: https://konkurado.ch/en/step-de-lasse-a-nyo
 n-renovation-et-agrandissement-des-installations-de-traitement-des-eaux-us
 ees
X-MICROSOFT-CDO-ALLDAYEVENT:TRUE
DTSTART;TZID=Europe/Zurich;VALUE=DATE:20250521
END:VEVENT
BEGIN:VEVENT
UID:69ea0a8a08c96
DTSTAMP:20260423T120322Z
SUMMARY:KONKURADO: STEP de l'Asse à Nyon - Rénovation et agrandissement d
 es installations de traitement des eaux usées\, Einreichung der Selektion
 sdossiers 21.05.2025 - 25.06.2025
DESCRIPTION:Link zum Verfahren: https://konkurado.ch/en/step-de-lasse-a-nyo
 n-renovation-et-agrandissement-des-installations-de-traitement-des-eaux-us
 ees
X-MICROSOFT-CDO-ALLDAYEVENT:TRUE
DTSTART;TZID=Europe/Zurich;VALUE=DATE:20250625
END:VEVENT
BEGIN:VEVENT
UID:69ea0a8a08cd5
DTSTAMP:20260423T120322Z
SUMMARY:KONKURADO: STEP de l'Asse à Nyon - Rénovation et agrandissement d
 es installations de traitement des eaux usées\, Einreichung von Fragen bi
 s 01.09.2025 - 17.09.2025
DESCRIPTION:Link zum Verfahren: https://konkurado.ch/en/step-de-lasse-a-nyo
 n-renovation-et-agrandissement-des-installations-de-traitement-des-eaux-us
 ees
X-MICROSOFT-CDO-ALLDAYEVENT:TRUE
DTSTART;TZID=Europe/Zurich;VALUE=DATE:20250901
END:VEVENT
BEGIN:VEVENT
UID:69ea0a8a08cfc
DTSTAMP:20260423T120322Z
SUMMARY:KONKURADO: STEP de l'Asse à Nyon - Rénovation et agrandissement d
 es installations de traitement des eaux usées\, Einreichung von Fragen bi
 s 01.09.2025 - 17.09.2025
DESCRIPTION:Link zum Verfahren: https://konkurado.ch/en/step-de-lasse-a-nyo
 n-renovation-et-agrandissement-des-installations-de-traitement-des-eaux-us
 ees
X-MICROSOFT-CDO-ALLDAYEVENT:TRUE
DTSTART;TZID=Europe/Zurich;VALUE=DATE:20250917
END:VEVENT
BEGIN:VEVENT
UID:69ea0a8a08d2e
DTSTAMP:20260423T120322Z
SUMMARY:KONKURADO: STEP de l'Asse à Nyon - Rénovation et agrandissement d
 es installations de traitement des eaux usées\, Schlussabgabe der Projekt
 e 01.09.2025 - 19.03.2026
DESCRIPTION:Link zum Verfahren: https://konkurado.ch/en/step-de-lasse-a-nyo
 n-renovation-et-agrandissement-des-installations-de-traitement-des-eaux-us
 ees
X-MICROSOFT-CDO-ALLDAYEVENT:TRUE
DTSTART;TZID=Europe/Zurich;VALUE=DATE:20250901
END:VEVENT
BEGIN:VEVENT
UID:69ea0a8a08d57
DTSTAMP:20260423T120322Z
SUMMARY:KONKURADO: STEP de l'Asse à Nyon - Rénovation et agrandissement d
 es installations de traitement des eaux usées\, Schlussabgabe der Projekt
 e 01.09.2025 - 19.03.2026
DESCRIPTION:Link zum Verfahren: https://konkurado.ch/en/step-de-lasse-a-nyo
 n-renovation-et-agrandissement-des-installations-de-traitement-des-eaux-us
 ees
X-MICROSOFT-CDO-ALLDAYEVENT:TRUE
DTSTART;TZID=Europe/Zurich;VALUE=DATE:20260319
END:VEVENT
BEGIN:VEVENT
UID:69ea0a8a08ebe
DTSTAMP:20260423T120322Z
SUMMARY:KONKURADO: STEP de l'Asse à Nyon - Rénovation et agrandissement d
 es installations de traitement des eaux usées\, Start Studienauftrag 01.0
 9.2025 - 01.09.2025
DESCRIPTION:Link zum Verfahren: https://konkurado.ch/en/step-de-lasse-a-nyo
 n-renovation-et-agrandissement-des-installations-de-traitement-des-eaux-us
 ees
X-MICROSOFT-CDO-ALLDAYEVENT:TRUE
DTSTART;TZID=Europe/Zurich;VALUE=DATE:20250901
END:VEVENT
BEGIN:VEVENT
UID:69ea0a8a08eeb
DTSTAMP:20260423T120322Z
SUMMARY:KONKURADO: STEP de l'Asse à Nyon - Rénovation et agrandissement d
 es installations de traitement des eaux usées\, Start Studienauftrag 01.0
 9.2025 - 01.09.2025
DESCRIPTION:Link zum Verfahren: https://konkurado.ch/en/step-de-lasse-a-nyo
 n-renovation-et-agrandissement-des-installations-de-traitement-des-eaux-us
 ees
X-MICROSOFT-CDO-ALLDAYEVENT:TRUE
DTSTART;TZID=Europe/Zurich;VALUE=DATE:20250901
END:VEVENT
BEGIN:VEVENT
UID:69ea0a8a08f4e
DTSTAMP:20260423T120322Z
SUMMARY:KONKURADO: STEP de l'Asse à Nyon - Rénovation et agrandissement d
 es installations de traitement des eaux usées\, Begehung 10.09.2025 - 10.
 09.2025
DESCRIPTION:Link zum Verfahren: https://konkurado.ch/en/step-de-lasse-a-nyo
 n-renovation-et-agrandissement-des-installations-de-traitement-des-eaux-us
 ees
X-MICROSOFT-CDO-ALLDAYEVENT:TRUE
DTSTART;TZID=Europe/Zurich;VALUE=DATE:20250910
END:VEVENT
BEGIN:VEVENT
UID:69ea0a8a08f76
DTSTAMP:20260423T120322Z
SUMMARY:KONKURADO: STEP de l'Asse à Nyon - Rénovation et agrandissement d
 es installations de traitement des eaux usées\, Begehung 10.09.2025 - 10.
 09.2025
DESCRIPTION:Link zum Verfahren: https://konkurado.ch/en/step-de-lasse-a-nyo
 n-renovation-et-agrandissement-des-installations-de-traitement-des-eaux-us
 ees
X-MICROSOFT-CDO-ALLDAYEVENT:TRUE
DTSTART;TZID=Europe/Zurich;VALUE=DATE:20250910
END:VEVENT
BEGIN:VEVENT
UID:69ea0a8a08fcc
DTSTAMP:20260423T120322Z
SUMMARY:KONKURADO: STEP de l'Asse à Nyon - Rénovation et agrandissement d
 es installations de traitement des eaux usées\, Fragenbeantwortung 18.09.
 2025 - 25.09.2025
DESCRIPTION:Link zum Verfahren: https://konkurado.ch/en/step-de-lasse-a-nyo
 n-renovation-et-agrandissement-des-installations-de-traitement-des-eaux-us
 ees
X-MICROSOFT-CDO-ALLDAYEVENT:TRUE
DTSTART;TZID=Europe/Zurich;VALUE=DATE:20250918
END:VEVENT
BEGIN:VEVENT
UID:69ea0a8a08ff3
DTSTAMP:20260423T120322Z
SUMMARY:KONKURADO: STEP de l'Asse à Nyon - Rénovation et agrandissement d
 es installations de traitement des eaux usées\, Fragenbeantwortung 18.09.
 2025 - 25.09.2025
DESCRIPTION:Link zum Verfahren: https://konkurado.ch/en/step-de-lasse-a-nyo
 n-renovation-et-agrandissement-des-installations-de-traitement-des-eaux-us
 ees
X-MICROSOFT-CDO-ALLDAYEVENT:TRUE
DTSTART;TZID=Europe/Zurich;VALUE=DATE:20250925
END:VEVENT
BEGIN:VEVENT
UID:69ea0a8a09046
DTSTAMP:20260423T120322Z
SUMMARY:KONKURADO: STEP de l'Asse à Nyon - Rénovation et agrandissement d
 es installations de traitement des eaux usées\, Zwischenbesprechung 02.12
 .2025 - 02.12.2025
DESCRIPTION:Link zum Verfahren: https://konkurado.ch/en/step-de-lasse-a-nyo
 n-renovation-et-agrandissement-des-installations-de-traitement-des-eaux-us
 ees
X-MICROSOFT-CDO-ALLDAYEVENT:TRUE
DTSTART;TZID=Europe/Zurich;VALUE=DATE:20251202
END:VEVENT
BEGIN:VEVENT
UID:69ea0a8a0906c
DTSTAMP:20260423T120322Z
SUMMARY:KONKURADO: STEP de l'Asse à Nyon - Rénovation et agrandissement d
 es installations de traitement des eaux usées\, Zwischenbesprechung 02.12
 .2025 - 02.12.2025
DESCRIPTION:Link zum Verfahren: https://konkurado.ch/en/step-de-lasse-a-nyo
 n-renovation-et-agrandissement-des-installations-de-traitement-des-eaux-us
 ees
X-MICROSOFT-CDO-ALLDAYEVENT:TRUE
DTSTART;TZID=Europe/Zurich;VALUE=DATE:20251202
END:VEVENT
BEGIN:VEVENT
UID:69ea0a8a090bf
DTSTAMP:20260423T120322Z
SUMMARY:KONKURADO: STEP de l'Asse à Nyon - Rénovation et agrandissement d
 es installations de traitement des eaux usées\, Schlusspräsentation und 
 Abgabe der Modelle 01.09.2025 - 31.03.2026
DESCRIPTION:Link zum Verfahren: https://konkurado.ch/en/step-de-lasse-a-nyo
 n-renovation-et-agrandissement-des-installations-de-traitement-des-eaux-us
 ees
X-MICROSOFT-CDO-ALLDAYEVENT:TRUE
DTSTART;TZID=Europe/Zurich;VALUE=DATE:20250901
END:VEVENT
BEGIN:VEVENT
UID:69ea0a8a090e5
DTSTAMP:20260423T120322Z
SUMMARY:KONKURADO: STEP de l'Asse à Nyon - Rénovation et agrandissement d
 es installations de traitement des eaux usées\, Schlusspräsentation und 
 Abgabe der Modelle 01.09.2025 - 31.03.2026
DESCRIPTION:Link zum Verfahren: https://konkurado.ch/en/step-de-lasse-a-nyo
 n-renovation-et-agrandissement-des-installations-de-traitement-des-eaux-us
 ees
X-MICROSOFT-CDO-ALLDAYEVENT:TRUE
DTSTART;TZID=Europe/Zurich;VALUE=DATE:20260331
END:VEVENT
END:VCALENDAR