BEGIN:VCALENDAR
VERSION:2.0
PRODID:spatie/icalendar-generator
NAME:Stadtraum Bahnhof Grüze
X-WR-CALNAME:Stadtraum Bahnhof Grüze
BEGIN:VTIMEZONE
TZID:Europe/Zurich
BEGIN:STANDARD
DTSTART:20241027T030000
TZOFFSETFROM:+0200
TZOFFSETTO:+0100
END:STANDARD
BEGIN:DAYLIGHT
DTSTART:20250330T010000
TZOFFSETFROM:+0100
TZOFFSETTO:+0200
END:DAYLIGHT
BEGIN:STANDARD
DTSTART:20251026T030000
TZOFFSETFROM:+0200
TZOFFSETTO:+0100
END:STANDARD
BEGIN:DAYLIGHT
DTSTART:20260329T010000
TZOFFSETFROM:+0100
TZOFFSETTO:+0200
END:DAYLIGHT
END:VTIMEZONE
BEGIN:VTIMEZONE
TZID:UTC
BEGIN:STANDARD
DTSTART:20250727T115314
TZOFFSETFROM:+0000
TZOFFSETTO:+0000
END:STANDARD
END:VTIMEZONE
BEGIN:VEVENT
UID:69ea082a84b6e
DTSTAMP:20260423T115314Z
SUMMARY:KONKURADO: Stadtraum Bahnhof Grüze\, Eingabe Präqualifikation 16.
 04.2025 - 03.06.2025
DESCRIPTION:Link zum Verfahren: https://konkurado.ch/en/stadtraum-bahnhof-g
 ruze
X-MICROSOFT-CDO-ALLDAYEVENT:TRUE
DTSTART;TZID=Europe/Zurich;VALUE=DATE:20250416
END:VEVENT
BEGIN:VEVENT
UID:69ea082a84c1d
DTSTAMP:20260423T115314Z
SUMMARY:KONKURADO: Stadtraum Bahnhof Grüze\, Eingabe Präqualifikation 16.
 04.2025 - 03.06.2025
DESCRIPTION:Link zum Verfahren: https://konkurado.ch/en/stadtraum-bahnhof-g
 ruze
X-MICROSOFT-CDO-ALLDAYEVENT:TRUE
DTSTART;TZID=Europe/Zurich;VALUE=DATE:20250603
END:VEVENT
BEGIN:VEVENT
UID:69ea082a84c8c
DTSTAMP:20260423T115314Z
SUMMARY:KONKURADO: Stadtraum Bahnhof Grüze\, Fragenstellung bis 25.08.2025
  - 01.09.2025
DESCRIPTION:Link zum Verfahren: https://konkurado.ch/en/stadtraum-bahnhof-g
 ruze
X-MICROSOFT-CDO-ALLDAYEVENT:TRUE
DTSTART;TZID=Europe/Zurich;VALUE=DATE:20250825
END:VEVENT
BEGIN:VEVENT
UID:69ea082a84cd0
DTSTAMP:20260423T115314Z
SUMMARY:KONKURADO: Stadtraum Bahnhof Grüze\, Fragenstellung bis 25.08.2025
  - 01.09.2025
DESCRIPTION:Link zum Verfahren: https://konkurado.ch/en/stadtraum-bahnhof-g
 ruze
X-MICROSOFT-CDO-ALLDAYEVENT:TRUE
DTSTART;TZID=Europe/Zurich;VALUE=DATE:20250901
END:VEVENT
BEGIN:VEVENT
UID:69ea082a84d2b
DTSTAMP:20260423T115314Z
SUMMARY:KONKURADO: Stadtraum Bahnhof Grüze\, Schlussabgabe 25.08.2025 - 12
 .01.2026
DESCRIPTION:Link zum Verfahren: https://konkurado.ch/en/stadtraum-bahnhof-g
 ruze
X-MICROSOFT-CDO-ALLDAYEVENT:TRUE
DTSTART;TZID=Europe/Zurich;VALUE=DATE:20250825
END:VEVENT
BEGIN:VEVENT
UID:69ea082a84d6c
DTSTAMP:20260423T115314Z
SUMMARY:KONKURADO: Stadtraum Bahnhof Grüze\, Schlussabgabe 25.08.2025 - 12
 .01.2026
DESCRIPTION:Link zum Verfahren: https://konkurado.ch/en/stadtraum-bahnhof-g
 ruze
X-MICROSOFT-CDO-ALLDAYEVENT:TRUE
DTSTART;TZID=Europe/Zurich;VALUE=DATE:20260112
END:VEVENT
BEGIN:VEVENT
UID:69ea082a84deb
DTSTAMP:20260423T115314Z
SUMMARY:KONKURADO: Stadtraum Bahnhof Grüze\, Beurteilung 10.03.2026 - 10.0
 3.2026
DESCRIPTION:Link zum Verfahren: https://konkurado.ch/en/stadtraum-bahnhof-g
 ruze
X-MICROSOFT-CDO-ALLDAYEVENT:TRUE
DTSTART;TZID=Europe/Zurich;VALUE=DATE:20260310
END:VEVENT
BEGIN:VEVENT
UID:69ea082a84e33
DTSTAMP:20260423T115314Z
SUMMARY:KONKURADO: Stadtraum Bahnhof Grüze\, Beurteilung 10.03.2026 - 10.0
 3.2026
DESCRIPTION:Link zum Verfahren: https://konkurado.ch/en/stadtraum-bahnhof-g
 ruze
X-MICROSOFT-CDO-ALLDAYEVENT:TRUE
DTSTART;TZID=Europe/Zurich;VALUE=DATE:20260310
END:VEVENT
BEGIN:VEVENT
UID:69ea082a85023
DTSTAMP:20260423T115314Z
SUMMARY:KONKURADO: Stadtraum Bahnhof Grüze\, Beurteilung Präqualifikation
  04.06.2025 - 27.06.2025
DESCRIPTION:Link zum Verfahren: https://konkurado.ch/en/stadtraum-bahnhof-g
 ruze
X-MICROSOFT-CDO-ALLDAYEVENT:TRUE
DTSTART;TZID=Europe/Zurich;VALUE=DATE:20250604
END:VEVENT
BEGIN:VEVENT
UID:69ea082a85070
DTSTAMP:20260423T115314Z
SUMMARY:KONKURADO: Stadtraum Bahnhof Grüze\, Beurteilung Präqualifikation
  04.06.2025 - 27.06.2025
DESCRIPTION:Link zum Verfahren: https://konkurado.ch/en/stadtraum-bahnhof-g
 ruze
X-MICROSOFT-CDO-ALLDAYEVENT:TRUE
DTSTART;TZID=Europe/Zurich;VALUE=DATE:20250627
END:VEVENT
BEGIN:VEVENT
UID:69ea082a85115
DTSTAMP:20260423T115314Z
SUMMARY:KONKURADO: Stadtraum Bahnhof Grüze\, Startveranstaltung / Kick Off
  Studienauftrag 25.08.2025 - 25.08.2025
DESCRIPTION:Link zum Verfahren: https://konkurado.ch/en/stadtraum-bahnhof-g
 ruze
X-MICROSOFT-CDO-ALLDAYEVENT:TRUE
DTSTART;TZID=Europe/Zurich;VALUE=DATE:20250825
END:VEVENT
BEGIN:VEVENT
UID:69ea082a85158
DTSTAMP:20260423T115314Z
SUMMARY:KONKURADO: Stadtraum Bahnhof Grüze\, Startveranstaltung / Kick Off
  Studienauftrag 25.08.2025 - 25.08.2025
DESCRIPTION:Link zum Verfahren: https://konkurado.ch/en/stadtraum-bahnhof-g
 ruze
X-MICROSOFT-CDO-ALLDAYEVENT:TRUE
DTSTART;TZID=Europe/Zurich;VALUE=DATE:20250825
END:VEVENT
BEGIN:VEVENT
UID:69ea082a851f7
DTSTAMP:20260423T115314Z
SUMMARY:KONKURADO: Stadtraum Bahnhof Grüze\, Fragenbeantwortung 02.09.2025
  - 12.09.2025
DESCRIPTION:Link zum Verfahren: https://konkurado.ch/en/stadtraum-bahnhof-g
 ruze
X-MICROSOFT-CDO-ALLDAYEVENT:TRUE
DTSTART;TZID=Europe/Zurich;VALUE=DATE:20250902
END:VEVENT
BEGIN:VEVENT
UID:69ea082a8523d
DTSTAMP:20260423T115314Z
SUMMARY:KONKURADO: Stadtraum Bahnhof Grüze\, Fragenbeantwortung 02.09.2025
  - 12.09.2025
DESCRIPTION:Link zum Verfahren: https://konkurado.ch/en/stadtraum-bahnhof-g
 ruze
X-MICROSOFT-CDO-ALLDAYEVENT:TRUE
DTSTART;TZID=Europe/Zurich;VALUE=DATE:20250912
END:VEVENT
BEGIN:VEVENT
UID:69ea082a852da
DTSTAMP:20260423T115314Z
SUMMARY:KONKURADO: Stadtraum Bahnhof Grüze\, Beurteilung 17.03.2026 - 17.0
 3.2026
DESCRIPTION:Link zum Verfahren: https://konkurado.ch/en/stadtraum-bahnhof-g
 ruze
X-MICROSOFT-CDO-ALLDAYEVENT:TRUE
DTSTART;TZID=Europe/Zurich;VALUE=DATE:20260317
END:VEVENT
BEGIN:VEVENT
UID:69ea082a8531f
DTSTAMP:20260423T115314Z
SUMMARY:KONKURADO: Stadtraum Bahnhof Grüze\, Beurteilung 17.03.2026 - 17.0
 3.2026
DESCRIPTION:Link zum Verfahren: https://konkurado.ch/en/stadtraum-bahnhof-g
 ruze
X-MICROSOFT-CDO-ALLDAYEVENT:TRUE
DTSTART;TZID=Europe/Zurich;VALUE=DATE:20260317
END:VEVENT
BEGIN:VEVENT
UID:69ea082a853bc
DTSTAMP:20260423T115314Z
SUMMARY:KONKURADO: Stadtraum Bahnhof Grüze\, Zwischenpräsentation 21.10.2
 025 - 21.10.2025
DESCRIPTION:Link zum Verfahren: https://konkurado.ch/en/stadtraum-bahnhof-g
 ruze
X-MICROSOFT-CDO-ALLDAYEVENT:TRUE
DTSTART;TZID=Europe/Zurich;VALUE=DATE:20251021
END:VEVENT
BEGIN:VEVENT
UID:69ea082a853f4
DTSTAMP:20260423T115314Z
SUMMARY:KONKURADO: Stadtraum Bahnhof Grüze\, Zwischenpräsentation 21.10.2
 025 - 21.10.2025
DESCRIPTION:Link zum Verfahren: https://konkurado.ch/en/stadtraum-bahnhof-g
 ruze
X-MICROSOFT-CDO-ALLDAYEVENT:TRUE
DTSTART;TZID=Europe/Zurich;VALUE=DATE:20251021
END:VEVENT
END:VCALENDAR