BEGIN:VCALENDAR
VERSION:2.0
PRODID:spatie/icalendar-generator
NAME:Sportanlagengebäude Breite\, Schaffhausen
X-WR-CALNAME:Sportanlagengebäude Breite\, Schaffhausen
BEGIN:VTIMEZONE
TZID:Europe/Zurich
BEGIN:STANDARD
DTSTART:20251026T030000
TZOFFSETFROM:+0200
TZOFFSETTO:+0100
END:STANDARD
BEGIN:DAYLIGHT
DTSTART:20260329T010000
TZOFFSETFROM:+0100
TZOFFSETTO:+0200
END:DAYLIGHT
BEGIN:STANDARD
DTSTART:20261025T030000
TZOFFSETFROM:+0200
TZOFFSETTO:+0100
END:STANDARD
BEGIN:DAYLIGHT
DTSTART:20270328T010000
TZOFFSETFROM:+0100
TZOFFSETTO:+0200
END:DAYLIGHT
END:VTIMEZONE
BEGIN:VTIMEZONE
TZID:UTC
BEGIN:STANDARD
DTSTART:20250727T085200
TZOFFSETFROM:+0000
TZOFFSETTO:+0000
END:STANDARD
END:VTIMEZONE
BEGIN:VEVENT
UID:69e9ddb065bf0
DTSTAMP:20260423T085200Z
SUMMARY:KONKURADO: Sportanlagengebäude Breite\, Schaffhausen\, Fragerunde\
 , einreichen bis 07.04.2026 - 07.04.2026
DESCRIPTION:Link zum Verfahren: https://konkurado.ch/en/sportanlagengebaude
 -breite-schaffhausen
X-MICROSOFT-CDO-ALLDAYEVENT:TRUE
DTSTART;TZID=Europe/Zurich;VALUE=DATE:20260407
END:VEVENT
BEGIN:VEVENT
UID:69e9ddb065c8a
DTSTAMP:20260423T085200Z
SUMMARY:KONKURADO: Sportanlagengebäude Breite\, Schaffhausen\, Fragerunde\
 , einreichen bis 07.04.2026 - 07.04.2026
DESCRIPTION:Link zum Verfahren: https://konkurado.ch/en/sportanlagengebaude
 -breite-schaffhausen
X-MICROSOFT-CDO-ALLDAYEVENT:TRUE
DTSTART;TZID=Europe/Zurich;VALUE=DATE:20260407
END:VEVENT
BEGIN:VEVENT
UID:69e9ddb065cfc
DTSTAMP:20260423T085200Z
SUMMARY:KONKURADO: Sportanlagengebäude Breite\, Schaffhausen\, Einreichen 
 des Teilnahmeantrags 11.05.2026 - 11.05.2026
DESCRIPTION:Link zum Verfahren: https://konkurado.ch/en/sportanlagengebaude
 -breite-schaffhausen
X-MICROSOFT-CDO-ALLDAYEVENT:TRUE
DTSTART;TZID=Europe/Zurich;VALUE=DATE:20260511
END:VEVENT
BEGIN:VEVENT
UID:69e9ddb065d23
DTSTAMP:20260423T085200Z
SUMMARY:KONKURADO: Sportanlagengebäude Breite\, Schaffhausen\, Einreichen 
 des Teilnahmeantrags 11.05.2026 - 11.05.2026
DESCRIPTION:Link zum Verfahren: https://konkurado.ch/en/sportanlagengebaude
 -breite-schaffhausen
X-MICROSOFT-CDO-ALLDAYEVENT:TRUE
DTSTART;TZID=Europe/Zurich;VALUE=DATE:20260511
END:VEVENT
BEGIN:VEVENT
UID:69e9ddb065d7b
DTSTAMP:20260423T085200Z
SUMMARY:KONKURADO: Sportanlagengebäude Breite\, Schaffhausen\, Einreichung
  des Projektbeitrags bis 15.01.2027 - 15.01.2027
DESCRIPTION:Link zum Verfahren: https://konkurado.ch/en/sportanlagengebaude
 -breite-schaffhausen
X-MICROSOFT-CDO-ALLDAYEVENT:TRUE
DTSTART;TZID=Europe/Zurich;VALUE=DATE:20270115
END:VEVENT
BEGIN:VEVENT
UID:69e9ddb065da0
DTSTAMP:20260423T085200Z
SUMMARY:KONKURADO: Sportanlagengebäude Breite\, Schaffhausen\, Einreichung
  des Projektbeitrags bis 15.01.2027 - 15.01.2027
DESCRIPTION:Link zum Verfahren: https://konkurado.ch/en/sportanlagengebaude
 -breite-schaffhausen
X-MICROSOFT-CDO-ALLDAYEVENT:TRUE
DTSTART;TZID=Europe/Zurich;VALUE=DATE:20270115
END:VEVENT
BEGIN:VEVENT
UID:69e9ddb065e0b
DTSTAMP:20260423T085200Z
SUMMARY:KONKURADO: Sportanlagengebäude Breite\, Schaffhausen\, Verfügbark
 eit der Ausschreibungsunterlagen 23.03.2026 - 11.05.2026
DESCRIPTION:Link zum Verfahren: https://konkurado.ch/en/sportanlagengebaude
 -breite-schaffhausen
X-MICROSOFT-CDO-ALLDAYEVENT:TRUE
DTSTART;TZID=Europe/Zurich;VALUE=DATE:20260323
END:VEVENT
BEGIN:VEVENT
UID:69e9ddb065e43
DTSTAMP:20260423T085200Z
SUMMARY:KONKURADO: Sportanlagengebäude Breite\, Schaffhausen\, Verfügbark
 eit der Ausschreibungsunterlagen 23.03.2026 - 11.05.2026
DESCRIPTION:Link zum Verfahren: https://konkurado.ch/en/sportanlagengebaude
 -breite-schaffhausen
X-MICROSOFT-CDO-ALLDAYEVENT:TRUE
DTSTART;TZID=Europe/Zurich;VALUE=DATE:20260511
END:VEVENT
END:VCALENDAR