BEGIN:VCALENDAR
VERSION:2.0
PRODID:spatie/icalendar-generator
NAME:Solothurn\; Kantonsschule (KSSO)\, Umbau und Sanierung - Planerwahlver
 fahren
X-WR-CALNAME:Solothurn\; Kantonsschule (KSSO)\, Umbau und Sanierung - Plane
 rwahlverfahren
BEGIN:VTIMEZONE
TZID:Europe/Zurich
BEGIN:STANDARD
DTSTART:20251026T030000
TZOFFSETFROM:+0200
TZOFFSETTO:+0100
END:STANDARD
BEGIN:DAYLIGHT
DTSTART:20260329T010000
TZOFFSETFROM:+0100
TZOFFSETTO:+0200
END:DAYLIGHT
BEGIN:STANDARD
DTSTART:20261025T030000
TZOFFSETFROM:+0200
TZOFFSETTO:+0100
END:STANDARD
BEGIN:DAYLIGHT
DTSTART:20270328T010000
TZOFFSETFROM:+0100
TZOFFSETTO:+0200
END:DAYLIGHT
END:VTIMEZONE
BEGIN:VTIMEZONE
TZID:UTC
BEGIN:STANDARD
DTSTART:20250727T101806
TZOFFSETFROM:+0000
TZOFFSETTO:+0000
END:STANDARD
END:VTIMEZONE
BEGIN:VEVENT
UID:69e9f1de9a96b
DTSTAMP:20260423T101806Z
SUMMARY:KONKURADO: Solothurn\; Kantonsschule (KSSO)\, Umbau und Sanierung -
  Planerwahlverfahren\, Einreichung von Fragen bis 20.04.2026 - 20.04.2026
DESCRIPTION:Link zum Verfahren: https://konkurado.ch/en/solothurn-kantonssc
 hule-ksso-umbau-und-sanierung-planerwahlverfahren
X-MICROSOFT-CDO-ALLDAYEVENT:TRUE
DTSTART;TZID=Europe/Zurich;VALUE=DATE:20260420
END:VEVENT
BEGIN:VEVENT
UID:69e9f1de9a9ed
DTSTAMP:20260423T101806Z
SUMMARY:KONKURADO: Solothurn\; Kantonsschule (KSSO)\, Umbau und Sanierung -
  Planerwahlverfahren\, Einreichung von Fragen bis 20.04.2026 - 20.04.2026
DESCRIPTION:Link zum Verfahren: https://konkurado.ch/en/solothurn-kantonssc
 hule-ksso-umbau-und-sanierung-planerwahlverfahren
X-MICROSOFT-CDO-ALLDAYEVENT:TRUE
DTSTART;TZID=Europe/Zurich;VALUE=DATE:20260420
END:VEVENT
BEGIN:VEVENT
UID:69e9f1de9aa63
DTSTAMP:20260423T101806Z
SUMMARY:KONKURADO: Solothurn\; Kantonsschule (KSSO)\, Umbau und Sanierung -
  Planerwahlverfahren\, Einreichen des Teilnahmeantrags 29.05.2026 - 29.05.
 2026
DESCRIPTION:Link zum Verfahren: https://konkurado.ch/en/solothurn-kantonssc
 hule-ksso-umbau-und-sanierung-planerwahlverfahren
X-MICROSOFT-CDO-ALLDAYEVENT:TRUE
DTSTART;TZID=Europe/Zurich;VALUE=DATE:20260529
END:VEVENT
BEGIN:VEVENT
UID:69e9f1de9aa8d
DTSTAMP:20260423T101806Z
SUMMARY:KONKURADO: Solothurn\; Kantonsschule (KSSO)\, Umbau und Sanierung -
  Planerwahlverfahren\, Einreichen des Teilnahmeantrags 29.05.2026 - 29.05.
 2026
DESCRIPTION:Link zum Verfahren: https://konkurado.ch/en/solothurn-kantonssc
 hule-ksso-umbau-und-sanierung-planerwahlverfahren
X-MICROSOFT-CDO-ALLDAYEVENT:TRUE
DTSTART;TZID=Europe/Zurich;VALUE=DATE:20260529
END:VEVENT
BEGIN:VEVENT
UID:69e9f1de9aae6
DTSTAMP:20260423T101806Z
SUMMARY:KONKURADO: Solothurn\; Kantonsschule (KSSO)\, Umbau und Sanierung -
  Planerwahlverfahren\, Öffnung der Teilnahmeanträge 01.06.2026 - 01.06.2
 026
DESCRIPTION:Link zum Verfahren: https://konkurado.ch/en/solothurn-kantonssc
 hule-ksso-umbau-und-sanierung-planerwahlverfahren
X-MICROSOFT-CDO-ALLDAYEVENT:TRUE
DTSTART;TZID=Europe/Zurich;VALUE=DATE:20260601
END:VEVENT
BEGIN:VEVENT
UID:69e9f1de9ab0c
DTSTAMP:20260423T101806Z
SUMMARY:KONKURADO: Solothurn\; Kantonsschule (KSSO)\, Umbau und Sanierung -
  Planerwahlverfahren\, Öffnung der Teilnahmeanträge 01.06.2026 - 01.06.2
 026
DESCRIPTION:Link zum Verfahren: https://konkurado.ch/en/solothurn-kantonssc
 hule-ksso-umbau-und-sanierung-planerwahlverfahren
X-MICROSOFT-CDO-ALLDAYEVENT:TRUE
DTSTART;TZID=Europe/Zurich;VALUE=DATE:20260601
END:VEVENT
BEGIN:VEVENT
UID:69e9f1de9ab5f
DTSTAMP:20260423T101806Z
SUMMARY:KONKURADO: Solothurn\; Kantonsschule (KSSO)\, Umbau und Sanierung -
  Planerwahlverfahren\, Vorgesehene Frist für die Einreichung des Angebots
  25.09.2026 - 25.09.2026
DESCRIPTION:Link zum Verfahren: https://konkurado.ch/en/solothurn-kantonssc
 hule-ksso-umbau-und-sanierung-planerwahlverfahren
X-MICROSOFT-CDO-ALLDAYEVENT:TRUE
DTSTART;TZID=Europe/Zurich;VALUE=DATE:20260925
END:VEVENT
BEGIN:VEVENT
UID:69e9f1de9ab88
DTSTAMP:20260423T101806Z
SUMMARY:KONKURADO: Solothurn\; Kantonsschule (KSSO)\, Umbau und Sanierung -
  Planerwahlverfahren\, Vorgesehene Frist für die Einreichung des Angebots
  25.09.2026 - 25.09.2026
DESCRIPTION:Link zum Verfahren: https://konkurado.ch/en/solothurn-kantonssc
 hule-ksso-umbau-und-sanierung-planerwahlverfahren
X-MICROSOFT-CDO-ALLDAYEVENT:TRUE
DTSTART;TZID=Europe/Zurich;VALUE=DATE:20260925
END:VEVENT
BEGIN:VEVENT
UID:69e9f1de9abdd
DTSTAMP:20260423T101806Z
SUMMARY:KONKURADO: Solothurn\; Kantonsschule (KSSO)\, Umbau und Sanierung -
  Planerwahlverfahren\, Verfügbarkeit der Ausschreibungsunterlagen 02.04.2
 026 - 29.05.2026
DESCRIPTION:Link zum Verfahren: https://konkurado.ch/en/solothurn-kantonssc
 hule-ksso-umbau-und-sanierung-planerwahlverfahren
X-MICROSOFT-CDO-ALLDAYEVENT:TRUE
DTSTART;TZID=Europe/Zurich;VALUE=DATE:20260402
END:VEVENT
BEGIN:VEVENT
UID:69e9f1de9ac03
DTSTAMP:20260423T101806Z
SUMMARY:KONKURADO: Solothurn\; Kantonsschule (KSSO)\, Umbau und Sanierung -
  Planerwahlverfahren\, Verfügbarkeit der Ausschreibungsunterlagen 02.04.2
 026 - 29.05.2026
DESCRIPTION:Link zum Verfahren: https://konkurado.ch/en/solothurn-kantonssc
 hule-ksso-umbau-und-sanierung-planerwahlverfahren
X-MICROSOFT-CDO-ALLDAYEVENT:TRUE
DTSTART;TZID=Europe/Zurich;VALUE=DATE:20260529
END:VEVENT
END:VCALENDAR