BEGIN:VCALENDAR
VERSION:2.0
PRODID:spatie/icalendar-generator
NAME:Schulanlage Altenburg
X-WR-CALNAME:Schulanlage Altenburg
BEGIN:VTIMEZONE
TZID:Europe/Zurich
BEGIN:DAYLIGHT
DTSTART:20240331T010000
TZOFFSETFROM:+0100
TZOFFSETTO:+0200
END:DAYLIGHT
BEGIN:STANDARD
DTSTART:20241027T030000
TZOFFSETFROM:+0200
TZOFFSETTO:+0100
END:STANDARD
BEGIN:DAYLIGHT
DTSTART:20250330T010000
TZOFFSETFROM:+0100
TZOFFSETTO:+0200
END:DAYLIGHT
END:VTIMEZONE
BEGIN:VTIMEZONE
TZID:UTC
BEGIN:STANDARD
DTSTART:20250727T115416
TZOFFSETFROM:+0000
TZOFFSETTO:+0000
END:STANDARD
END:VTIMEZONE
BEGIN:VEVENT
UID:69ea086815c49
DTSTAMP:20260423T115416Z
SUMMARY:KONKURADO: Schulanlage Altenburg\, Abgabe Bewerbungsunterlagen 08.1
 1.2024 - 09.12.2024
DESCRIPTION:Link zum Verfahren: https://konkurado.ch/en/schulanlage-altenbu
 rg
X-MICROSOFT-CDO-ALLDAYEVENT:TRUE
DTSTART;TZID=Europe/Zurich;VALUE=DATE:20241108
END:VEVENT
BEGIN:VEVENT
UID:69ea086815cdb
DTSTAMP:20260423T115416Z
SUMMARY:KONKURADO: Schulanlage Altenburg\, Abgabe Bewerbungsunterlagen 08.1
 1.2024 - 09.12.2024
DESCRIPTION:Link zum Verfahren: https://konkurado.ch/en/schulanlage-altenbu
 rg
X-MICROSOFT-CDO-ALLDAYEVENT:TRUE
DTSTART;TZID=Europe/Zurich;VALUE=DATE:20241209
END:VEVENT
BEGIN:VEVENT
UID:69ea086815e49
DTSTAMP:20260423T115416Z
SUMMARY:KONKURADO: Schulanlage Altenburg\, Bekanntmachung Auswahl 14.01.202
 5 - 14.01.2025
DESCRIPTION:Link zum Verfahren: https://konkurado.ch/en/schulanlage-altenbu
 rg
X-MICROSOFT-CDO-ALLDAYEVENT:TRUE
DTSTART;TZID=Europe/Zurich;VALUE=DATE:20250114
END:VEVENT
BEGIN:VEVENT
UID:69ea086815e74
DTSTAMP:20260423T115416Z
SUMMARY:KONKURADO: Schulanlage Altenburg\, Bekanntmachung Auswahl 14.01.202
 5 - 14.01.2025
DESCRIPTION:Link zum Verfahren: https://konkurado.ch/en/schulanlage-altenbu
 rg
X-MICROSOFT-CDO-ALLDAYEVENT:TRUE
DTSTART;TZID=Europe/Zurich;VALUE=DATE:20250114
END:VEVENT
BEGIN:VEVENT
UID:69ea086815ead
DTSTAMP:20260423T115416Z
SUMMARY:KONKURADO: Schulanlage Altenburg\, Fragerunde 22.01.2025 - 03.02.20
 25
DESCRIPTION:Link zum Verfahren: https://konkurado.ch/en/schulanlage-altenbu
 rg
X-MICROSOFT-CDO-ALLDAYEVENT:TRUE
DTSTART;TZID=Europe/Zurich;VALUE=DATE:20250122
END:VEVENT
BEGIN:VEVENT
UID:69ea086815ed3
DTSTAMP:20260423T115416Z
SUMMARY:KONKURADO: Schulanlage Altenburg\, Fragerunde 22.01.2025 - 03.02.20
 25
DESCRIPTION:Link zum Verfahren: https://konkurado.ch/en/schulanlage-altenbu
 rg
X-MICROSOFT-CDO-ALLDAYEVENT:TRUE
DTSTART;TZID=Europe/Zurich;VALUE=DATE:20250203
END:VEVENT
BEGIN:VEVENT
UID:69ea086815f07
DTSTAMP:20260423T115416Z
SUMMARY:KONKURADO: Schulanlage Altenburg\, Abgabe Unterlagen 22.01.2025 - 2
 0.03.2025
DESCRIPTION:Link zum Verfahren: https://konkurado.ch/en/schulanlage-altenbu
 rg
X-MICROSOFT-CDO-ALLDAYEVENT:TRUE
DTSTART;TZID=Europe/Zurich;VALUE=DATE:20250122
END:VEVENT
BEGIN:VEVENT
UID:69ea086815f2b
DTSTAMP:20260423T115416Z
SUMMARY:KONKURADO: Schulanlage Altenburg\, Abgabe Unterlagen 22.01.2025 - 2
 0.03.2025
DESCRIPTION:Link zum Verfahren: https://konkurado.ch/en/schulanlage-altenbu
 rg
X-MICROSOFT-CDO-ALLDAYEVENT:TRUE
DTSTART;TZID=Europe/Zurich;VALUE=DATE:20250320
END:VEVENT
BEGIN:VEVENT
UID:69ea086815f89
DTSTAMP:20260423T115416Z
SUMMARY:KONKURADO: Schulanlage Altenburg\, Ausgabe Unterlagen / Gebäudebes
 ichtigung 22.01.2025 - 22.01.2025
DESCRIPTION:Link zum Verfahren: https://konkurado.ch/en/schulanlage-altenbu
 rg
X-MICROSOFT-CDO-ALLDAYEVENT:TRUE
DTSTART;TZID=Europe/Zurich;VALUE=DATE:20250122
END:VEVENT
BEGIN:VEVENT
UID:69ea086815faf
DTSTAMP:20260423T115416Z
SUMMARY:KONKURADO: Schulanlage Altenburg\, Ausgabe Unterlagen / Gebäudebes
 ichtigung 22.01.2025 - 22.01.2025
DESCRIPTION:Link zum Verfahren: https://konkurado.ch/en/schulanlage-altenbu
 rg
X-MICROSOFT-CDO-ALLDAYEVENT:TRUE
DTSTART;TZID=Europe/Zurich;VALUE=DATE:20250122
END:VEVENT
BEGIN:VEVENT
UID:69ea086816005
DTSTAMP:20260423T115416Z
SUMMARY:KONKURADO: Schulanlage Altenburg\, Beantwortung Fragen 04.02.2025 -
  12.02.2025
DESCRIPTION:Link zum Verfahren: https://konkurado.ch/en/schulanlage-altenbu
 rg
X-MICROSOFT-CDO-ALLDAYEVENT:TRUE
DTSTART;TZID=Europe/Zurich;VALUE=DATE:20250204
END:VEVENT
BEGIN:VEVENT
UID:69ea086816043
DTSTAMP:20260423T115416Z
SUMMARY:KONKURADO: Schulanlage Altenburg\, Beantwortung Fragen 04.02.2025 -
  12.02.2025
DESCRIPTION:Link zum Verfahren: https://konkurado.ch/en/schulanlage-altenbu
 rg
X-MICROSOFT-CDO-ALLDAYEVENT:TRUE
DTSTART;TZID=Europe/Zurich;VALUE=DATE:20250212
END:VEVENT
END:VCALENDAR