BEGIN:VCALENDAR
VERSION:2.0
PRODID:spatie/icalendar-generator
NAME:Scénographie pour la préservation et la valorisation du site et des 
 vestiges de l'amphithéâtre de Nyon
X-WR-CALNAME:Scénographie pour la préservation et la valorisation du site
  et des vestiges de l'amphithéâtre de Nyon
BEGIN:VTIMEZONE
TZID:Europe/Zurich
BEGIN:STANDARD
DTSTART:20241027T030000
TZOFFSETFROM:+0200
TZOFFSETTO:+0100
END:STANDARD
BEGIN:DAYLIGHT
DTSTART:20250330T010000
TZOFFSETFROM:+0100
TZOFFSETTO:+0200
END:DAYLIGHT
BEGIN:STANDARD
DTSTART:20251026T030000
TZOFFSETFROM:+0200
TZOFFSETTO:+0100
END:STANDARD
END:VTIMEZONE
BEGIN:VTIMEZONE
TZID:UTC
BEGIN:STANDARD
DTSTART:20250727T120655
TZOFFSETFROM:+0000
TZOFFSETTO:+0000
END:STANDARD
END:VTIMEZONE
BEGIN:VEVENT
UID:69ea0b5f2ad41
DTSTAMP:20260423T120655Z
SUMMARY:KONKURADO: Scénographie pour la préservation et la valorisation d
 u site et des vestiges de l'amphithéâtre de Nyon\, Einreichung der Auswa
 hlunterlagen 18.03.2025 - 29.04.2025
DESCRIPTION:Link zum Verfahren: https://konkurado.ch/en/scenographie-pour-l
 a-preservation-et-la-valorisation-du-site-et-des-vestiges-de-lamphitheatre
 -de-nyon
X-MICROSOFT-CDO-ALLDAYEVENT:TRUE
DTSTART;TZID=Europe/Zurich;VALUE=DATE:20250318
END:VEVENT
BEGIN:VEVENT
UID:69ea0b5f2adf8
DTSTAMP:20260423T120655Z
SUMMARY:KONKURADO: Scénographie pour la préservation et la valorisation d
 u site et des vestiges de l'amphithéâtre de Nyon\, Einreichung der Auswa
 hlunterlagen 18.03.2025 - 29.04.2025
DESCRIPTION:Link zum Verfahren: https://konkurado.ch/en/scenographie-pour-l
 a-preservation-et-la-valorisation-du-site-et-des-vestiges-de-lamphitheatre
 -de-nyon
X-MICROSOFT-CDO-ALLDAYEVENT:TRUE
DTSTART;TZID=Europe/Zurich;VALUE=DATE:20250429
END:VEVENT
BEGIN:VEVENT
UID:69ea0b5f2ae58
DTSTAMP:20260423T120655Z
SUMMARY:KONKURADO: Scénographie pour la préservation et la valorisation d
 u site et des vestiges de l'amphithéâtre de Nyon\, Einreichung von Frage
 n bis 18.03.2025 - 01.04.2025
DESCRIPTION:Link zum Verfahren: https://konkurado.ch/en/scenographie-pour-l
 a-preservation-et-la-valorisation-du-site-et-des-vestiges-de-lamphitheatre
 -de-nyon
X-MICROSOFT-CDO-ALLDAYEVENT:TRUE
DTSTART;TZID=Europe/Zurich;VALUE=DATE:20250318
END:VEVENT
BEGIN:VEVENT
UID:69ea0b5f2ae97
DTSTAMP:20260423T120655Z
SUMMARY:KONKURADO: Scénographie pour la préservation et la valorisation d
 u site et des vestiges de l'amphithéâtre de Nyon\, Einreichung von Frage
 n bis 18.03.2025 - 01.04.2025
DESCRIPTION:Link zum Verfahren: https://konkurado.ch/en/scenographie-pour-l
 a-preservation-et-la-valorisation-du-site-et-des-vestiges-de-lamphitheatre
 -de-nyon
X-MICROSOFT-CDO-ALLDAYEVENT:TRUE
DTSTART;TZID=Europe/Zurich;VALUE=DATE:20250401
END:VEVENT
BEGIN:VEVENT
UID:69ea0b5f2afbd
DTSTAMP:20260423T120655Z
SUMMARY:KONKURADO: Scénographie pour la préservation et la valorisation d
 u site et des vestiges de l'amphithéâtre de Nyon\, Abgabe der Projekte b
 is 26.06.2025 - 22.08.2025
DESCRIPTION:Link zum Verfahren: https://konkurado.ch/en/scenographie-pour-l
 a-preservation-et-la-valorisation-du-site-et-des-vestiges-de-lamphitheatre
 -de-nyon
X-MICROSOFT-CDO-ALLDAYEVENT:TRUE
DTSTART;TZID=Europe/Zurich;VALUE=DATE:20250626
END:VEVENT
BEGIN:VEVENT
UID:69ea0b5f2b003
DTSTAMP:20260423T120655Z
SUMMARY:KONKURADO: Scénographie pour la préservation et la valorisation d
 u site et des vestiges de l'amphithéâtre de Nyon\, Abgabe der Projekte b
 is 26.06.2025 - 22.08.2025
DESCRIPTION:Link zum Verfahren: https://konkurado.ch/en/scenographie-pour-l
 a-preservation-et-la-valorisation-du-site-et-des-vestiges-de-lamphitheatre
 -de-nyon
X-MICROSOFT-CDO-ALLDAYEVENT:TRUE
DTSTART;TZID=Europe/Zurich;VALUE=DATE:20250822
END:VEVENT
BEGIN:VEVENT
UID:69ea0b5f2b1ec
DTSTAMP:20260423T120655Z
SUMMARY:KONKURADO: Scénographie pour la préservation et la valorisation d
 u site et des vestiges de l'amphithéâtre de Nyon\, Beantworten der Frage
 n 02.04.2025 - 15.04.2025
DESCRIPTION:Link zum Verfahren: https://konkurado.ch/en/scenographie-pour-l
 a-preservation-et-la-valorisation-du-site-et-des-vestiges-de-lamphitheatre
 -de-nyon
X-MICROSOFT-CDO-ALLDAYEVENT:TRUE
DTSTART;TZID=Europe/Zurich;VALUE=DATE:20250402
END:VEVENT
BEGIN:VEVENT
UID:69ea0b5f2b361
DTSTAMP:20260423T120655Z
SUMMARY:KONKURADO: Scénographie pour la préservation et la valorisation d
 u site et des vestiges de l'amphithéâtre de Nyon\, Beantworten der Frage
 n 02.04.2025 - 15.04.2025
DESCRIPTION:Link zum Verfahren: https://konkurado.ch/en/scenographie-pour-l
 a-preservation-et-la-valorisation-du-site-et-des-vestiges-de-lamphitheatre
 -de-nyon
X-MICROSOFT-CDO-ALLDAYEVENT:TRUE
DTSTART;TZID=Europe/Zurich;VALUE=DATE:20250415
END:VEVENT
BEGIN:VEVENT
UID:69ea0b5f2b41e
DTSTAMP:20260423T120655Z
SUMMARY:KONKURADO: Scénographie pour la préservation et la valorisation d
 u site et des vestiges de l'amphithéâtre de Nyon\, Start Studienauftrag 
 26.06.2025 - 26.06.2025
DESCRIPTION:Link zum Verfahren: https://konkurado.ch/en/scenographie-pour-l
 a-preservation-et-la-valorisation-du-site-et-des-vestiges-de-lamphitheatre
 -de-nyon
X-MICROSOFT-CDO-ALLDAYEVENT:TRUE
DTSTART;TZID=Europe/Zurich;VALUE=DATE:20250626
END:VEVENT
BEGIN:VEVENT
UID:69ea0b5f2b447
DTSTAMP:20260423T120655Z
SUMMARY:KONKURADO: Scénographie pour la préservation et la valorisation d
 u site et des vestiges de l'amphithéâtre de Nyon\, Start Studienauftrag 
 26.06.2025 - 26.06.2025
DESCRIPTION:Link zum Verfahren: https://konkurado.ch/en/scenographie-pour-l
 a-preservation-et-la-valorisation-du-site-et-des-vestiges-de-lamphitheatre
 -de-nyon
X-MICROSOFT-CDO-ALLDAYEVENT:TRUE
DTSTART;TZID=Europe/Zurich;VALUE=DATE:20250626
END:VEVENT
BEGIN:VEVENT
UID:69ea0b5f2b4a6
DTSTAMP:20260423T120655Z
SUMMARY:KONKURADO: Scénographie pour la préservation et la valorisation d
 u site et des vestiges de l'amphithéâtre de Nyon\, Schlusspräsentation 
 04.09.2025 - 04.09.2025
DESCRIPTION:Link zum Verfahren: https://konkurado.ch/en/scenographie-pour-l
 a-preservation-et-la-valorisation-du-site-et-des-vestiges-de-lamphitheatre
 -de-nyon
X-MICROSOFT-CDO-ALLDAYEVENT:TRUE
DTSTART;TZID=Europe/Zurich;VALUE=DATE:20250904
END:VEVENT
BEGIN:VEVENT
UID:69ea0b5f2b4cd
DTSTAMP:20260423T120655Z
SUMMARY:KONKURADO: Scénographie pour la préservation et la valorisation d
 u site et des vestiges de l'amphithéâtre de Nyon\, Schlusspräsentation 
 04.09.2025 - 04.09.2025
DESCRIPTION:Link zum Verfahren: https://konkurado.ch/en/scenographie-pour-l
 a-preservation-et-la-valorisation-du-site-et-des-vestiges-de-lamphitheatre
 -de-nyon
X-MICROSOFT-CDO-ALLDAYEVENT:TRUE
DTSTART;TZID=Europe/Zurich;VALUE=DATE:20250904
END:VEVENT
END:VCALENDAR