BEGIN:VCALENDAR
VERSION:2.0
PRODID:spatie/icalendar-generator
NAME:Sanierung und Erneuerung von drei Abwasserbauwerken
X-WR-CALNAME:Sanierung und Erneuerung von drei Abwasserbauwerken
BEGIN:VTIMEZONE
TZID:Europe/Zurich
BEGIN:STANDARD
DTSTART:20241027T030000
TZOFFSETFROM:+0200
TZOFFSETTO:+0100
END:STANDARD
BEGIN:DAYLIGHT
DTSTART:20250330T010000
TZOFFSETFROM:+0100
TZOFFSETTO:+0200
END:DAYLIGHT
BEGIN:STANDARD
DTSTART:20251026T030000
TZOFFSETFROM:+0200
TZOFFSETTO:+0100
END:STANDARD
BEGIN:DAYLIGHT
DTSTART:20260329T010000
TZOFFSETFROM:+0100
TZOFFSETTO:+0200
END:DAYLIGHT
END:VTIMEZONE
BEGIN:VTIMEZONE
TZID:UTC
BEGIN:STANDARD
DTSTART:20250727T120553
TZOFFSETFROM:+0000
TZOFFSETTO:+0000
END:STANDARD
END:VTIMEZONE
BEGIN:VEVENT
UID:69ea0b2177bd9
DTSTAMP:20260423T120553Z
SUMMARY:KONKURADO: Sanierung und Erneuerung von drei Abwasserbauwerken\, Fr
 eiwillige Begehung 30.06.2025 - 10.07.2025
DESCRIPTION:Link zum Verfahren: https://konkurado.ch/en/sanierung-und-erneu
 erung-von-drei-abwasserbauwerken
X-MICROSOFT-CDO-ALLDAYEVENT:TRUE
DTSTART;TZID=Europe/Zurich;VALUE=DATE:20250630
END:VEVENT
BEGIN:VEVENT
UID:69ea0b2177c5e
DTSTAMP:20260423T120553Z
SUMMARY:KONKURADO: Sanierung und Erneuerung von drei Abwasserbauwerken\, Fr
 eiwillige Begehung 30.06.2025 - 10.07.2025
DESCRIPTION:Link zum Verfahren: https://konkurado.ch/en/sanierung-und-erneu
 erung-von-drei-abwasserbauwerken
X-MICROSOFT-CDO-ALLDAYEVENT:TRUE
DTSTART;TZID=Europe/Zurich;VALUE=DATE:20250710
END:VEVENT
BEGIN:VEVENT
UID:69ea0b2177c9c
DTSTAMP:20260423T120553Z
SUMMARY:KONKURADO: Sanierung und Erneuerung von drei Abwasserbauwerken\, Ei
 ngang schriftlicher Fragen bis 30.06.2025 - 25.07.2025
DESCRIPTION:Link zum Verfahren: https://konkurado.ch/en/sanierung-und-erneu
 erung-von-drei-abwasserbauwerken
X-MICROSOFT-CDO-ALLDAYEVENT:TRUE
DTSTART;TZID=Europe/Zurich;VALUE=DATE:20250630
END:VEVENT
BEGIN:VEVENT
UID:69ea0b2177cc3
DTSTAMP:20260423T120553Z
SUMMARY:KONKURADO: Sanierung und Erneuerung von drei Abwasserbauwerken\, Ei
 ngang schriftlicher Fragen bis 30.06.2025 - 25.07.2025
DESCRIPTION:Link zum Verfahren: https://konkurado.ch/en/sanierung-und-erneu
 erung-von-drei-abwasserbauwerken
X-MICROSOFT-CDO-ALLDAYEVENT:TRUE
DTSTART;TZID=Europe/Zurich;VALUE=DATE:20250725
END:VEVENT
BEGIN:VEVENT
UID:69ea0b2177cf5
DTSTAMP:20260423T120553Z
SUMMARY:KONKURADO: Sanierung und Erneuerung von drei Abwasserbauwerken\, Ei
 ngabe des Angebotes 14.08.2025 - 14.08.2025
DESCRIPTION:Link zum Verfahren: https://konkurado.ch/en/sanierung-und-erneu
 erung-von-drei-abwasserbauwerken
X-MICROSOFT-CDO-ALLDAYEVENT:TRUE
DTSTART;TZID=Europe/Zurich;VALUE=DATE:20250814
END:VEVENT
BEGIN:VEVENT
UID:69ea0b2177d1a
DTSTAMP:20260423T120553Z
SUMMARY:KONKURADO: Sanierung und Erneuerung von drei Abwasserbauwerken\, Ei
 ngabe des Angebotes 14.08.2025 - 14.08.2025
DESCRIPTION:Link zum Verfahren: https://konkurado.ch/en/sanierung-und-erneu
 erung-von-drei-abwasserbauwerken
X-MICROSOFT-CDO-ALLDAYEVENT:TRUE
DTSTART;TZID=Europe/Zurich;VALUE=DATE:20250814
END:VEVENT
BEGIN:VEVENT
UID:69ea0b2177d84
DTSTAMP:20260423T120553Z
SUMMARY:KONKURADO: Sanierung und Erneuerung von drei Abwasserbauwerken\, An
 onymisierte Beantwortung der Fragen 31.07.2025 - 31.07.2025
DESCRIPTION:Link zum Verfahren: https://konkurado.ch/en/sanierung-und-erneu
 erung-von-drei-abwasserbauwerken
X-MICROSOFT-CDO-ALLDAYEVENT:TRUE
DTSTART;TZID=Europe/Zurich;VALUE=DATE:20250731
END:VEVENT
BEGIN:VEVENT
UID:69ea0b2177dab
DTSTAMP:20260423T120553Z
SUMMARY:KONKURADO: Sanierung und Erneuerung von drei Abwasserbauwerken\, An
 onymisierte Beantwortung der Fragen 31.07.2025 - 31.07.2025
DESCRIPTION:Link zum Verfahren: https://konkurado.ch/en/sanierung-und-erneu
 erung-von-drei-abwasserbauwerken
X-MICROSOFT-CDO-ALLDAYEVENT:TRUE
DTSTART;TZID=Europe/Zurich;VALUE=DATE:20250731
END:VEVENT
BEGIN:VEVENT
UID:69ea0b2177e01
DTSTAMP:20260423T120553Z
SUMMARY:KONKURADO: Sanierung und Erneuerung von drei Abwasserbauwerken\, An
 gebotsöffnung (nicht öffentlich) 15.08.2025 - 15.08.2025
DESCRIPTION:Link zum Verfahren: https://konkurado.ch/en/sanierung-und-erneu
 erung-von-drei-abwasserbauwerken
X-MICROSOFT-CDO-ALLDAYEVENT:TRUE
DTSTART;TZID=Europe/Zurich;VALUE=DATE:20250815
END:VEVENT
BEGIN:VEVENT
UID:69ea0b2177e26
DTSTAMP:20260423T120553Z
SUMMARY:KONKURADO: Sanierung und Erneuerung von drei Abwasserbauwerken\, An
 gebotsöffnung (nicht öffentlich) 15.08.2025 - 15.08.2025
DESCRIPTION:Link zum Verfahren: https://konkurado.ch/en/sanierung-und-erneu
 erung-von-drei-abwasserbauwerken
X-MICROSOFT-CDO-ALLDAYEVENT:TRUE
DTSTART;TZID=Europe/Zurich;VALUE=DATE:20250815
END:VEVENT
BEGIN:VEVENT
UID:69ea0b2177e77
DTSTAMP:20260423T120553Z
SUMMARY:KONKURADO: Sanierung und Erneuerung von drei Abwasserbauwerken\, An
 gebotspräsentation auf Einladung 11.09.2025 - 11.09.2025
DESCRIPTION:Link zum Verfahren: https://konkurado.ch/en/sanierung-und-erneu
 erung-von-drei-abwasserbauwerken
X-MICROSOFT-CDO-ALLDAYEVENT:TRUE
DTSTART;TZID=Europe/Zurich;VALUE=DATE:20250911
END:VEVENT
BEGIN:VEVENT
UID:69ea0b2177e9c
DTSTAMP:20260423T120553Z
SUMMARY:KONKURADO: Sanierung und Erneuerung von drei Abwasserbauwerken\, An
 gebotspräsentation auf Einladung 11.09.2025 - 11.09.2025
DESCRIPTION:Link zum Verfahren: https://konkurado.ch/en/sanierung-und-erneu
 erung-von-drei-abwasserbauwerken
X-MICROSOFT-CDO-ALLDAYEVENT:TRUE
DTSTART;TZID=Europe/Zurich;VALUE=DATE:20250911
END:VEVENT
BEGIN:VEVENT
UID:69ea0b2177eee
DTSTAMP:20260423T120553Z
SUMMARY:KONKURADO: Sanierung und Erneuerung von drei Abwasserbauwerken\, Ve
 rgabe (vorbehältlich Kreditgenehmigung DV) 15.09.2025 - 15.09.2025
DESCRIPTION:Link zum Verfahren: https://konkurado.ch/en/sanierung-und-erneu
 erung-von-drei-abwasserbauwerken
X-MICROSOFT-CDO-ALLDAYEVENT:TRUE
DTSTART;TZID=Europe/Zurich;VALUE=DATE:20250915
END:VEVENT
BEGIN:VEVENT
UID:69ea0b2177f1f
DTSTAMP:20260423T120553Z
SUMMARY:KONKURADO: Sanierung und Erneuerung von drei Abwasserbauwerken\, Ve
 rgabe (vorbehältlich Kreditgenehmigung DV) 15.09.2025 - 15.09.2025
DESCRIPTION:Link zum Verfahren: https://konkurado.ch/en/sanierung-und-erneu
 erung-von-drei-abwasserbauwerken
X-MICROSOFT-CDO-ALLDAYEVENT:TRUE
DTSTART;TZID=Europe/Zurich;VALUE=DATE:20250915
END:VEVENT
BEGIN:VEVENT
UID:69ea0b2177f92
DTSTAMP:20260423T120553Z
SUMMARY:KONKURADO: Sanierung und Erneuerung von drei Abwasserbauwerken\, De
 legiertenversammlung GVRZ 01.12.2025 - 01.12.2025
DESCRIPTION:Link zum Verfahren: https://konkurado.ch/en/sanierung-und-erneu
 erung-von-drei-abwasserbauwerken
X-MICROSOFT-CDO-ALLDAYEVENT:TRUE
DTSTART;TZID=Europe/Zurich;VALUE=DATE:20251201
END:VEVENT
BEGIN:VEVENT
UID:69ea0b2177fbf
DTSTAMP:20260423T120553Z
SUMMARY:KONKURADO: Sanierung und Erneuerung von drei Abwasserbauwerken\, De
 legiertenversammlung GVRZ 01.12.2025 - 01.12.2025
DESCRIPTION:Link zum Verfahren: https://konkurado.ch/en/sanierung-und-erneu
 erung-von-drei-abwasserbauwerken
X-MICROSOFT-CDO-ALLDAYEVENT:TRUE
DTSTART;TZID=Europe/Zurich;VALUE=DATE:20251201
END:VEVENT
BEGIN:VEVENT
UID:69ea0b2178031
DTSTAMP:20260423T120553Z
SUMMARY:KONKURADO: Sanierung und Erneuerung von drei Abwasserbauwerken\, Ve
 rtragsunterzeichnung und Startsitzung Bauprojekt 09.12.2025 - 09.12.2025
DESCRIPTION:Link zum Verfahren: https://konkurado.ch/en/sanierung-und-erneu
 erung-von-drei-abwasserbauwerken
X-MICROSOFT-CDO-ALLDAYEVENT:TRUE
DTSTART;TZID=Europe/Zurich;VALUE=DATE:20251209
END:VEVENT
BEGIN:VEVENT
UID:69ea0b2178059
DTSTAMP:20260423T120553Z
SUMMARY:KONKURADO: Sanierung und Erneuerung von drei Abwasserbauwerken\, Ve
 rtragsunterzeichnung und Startsitzung Bauprojekt 09.12.2025 - 09.12.2025
DESCRIPTION:Link zum Verfahren: https://konkurado.ch/en/sanierung-und-erneu
 erung-von-drei-abwasserbauwerken
X-MICROSOFT-CDO-ALLDAYEVENT:TRUE
DTSTART;TZID=Europe/Zurich;VALUE=DATE:20251209
END:VEVENT
END:VCALENDAR