BEGIN:VCALENDAR
VERSION:2.0
PRODID:spatie/icalendar-generator
NAME:Sanierung Mehrzweckhalle
X-WR-CALNAME:Sanierung Mehrzweckhalle
BEGIN:VTIMEZONE
TZID:Europe/Zurich
BEGIN:STANDARD
DTSTART:20241027T030000
TZOFFSETFROM:+0200
TZOFFSETTO:+0100
END:STANDARD
BEGIN:DAYLIGHT
DTSTART:20250330T010000
TZOFFSETFROM:+0100
TZOFFSETTO:+0200
END:DAYLIGHT
END:VTIMEZONE
BEGIN:VTIMEZONE
TZID:UTC
BEGIN:STANDARD
DTSTART:20250727T120149
TZOFFSETFROM:+0000
TZOFFSETTO:+0000
END:STANDARD
END:VTIMEZONE
BEGIN:VEVENT
UID:69ea0a2df346a
DTSTAMP:20260423T120149Z
SUMMARY:KONKURADO: Sanierung Mehrzweckhalle\, Schriftliche Fragestellung bi
 s 07.02.2025 - 10.02.2025
DESCRIPTION:Link zum Verfahren: https://konkurado.ch/en/sanierung-mehrzweck
 halle
X-MICROSOFT-CDO-ALLDAYEVENT:TRUE
DTSTART;TZID=Europe/Zurich;VALUE=DATE:20250207
END:VEVENT
BEGIN:VEVENT
UID:69ea0a2df351f
DTSTAMP:20260423T120149Z
SUMMARY:KONKURADO: Sanierung Mehrzweckhalle\, Schriftliche Fragestellung bi
 s 07.02.2025 - 10.02.2025
DESCRIPTION:Link zum Verfahren: https://konkurado.ch/en/sanierung-mehrzweck
 halle
X-MICROSOFT-CDO-ALLDAYEVENT:TRUE
DTSTART;TZID=Europe/Zurich;VALUE=DATE:20250210
END:VEVENT
BEGIN:VEVENT
UID:69ea0a2df3581
DTSTAMP:20260423T120149Z
SUMMARY:KONKURADO: Sanierung Mehrzweckhalle\, Angebotseingabe bis 07.02.202
 5 - 03.03.2025
DESCRIPTION:Link zum Verfahren: https://konkurado.ch/en/sanierung-mehrzweck
 halle
X-MICROSOFT-CDO-ALLDAYEVENT:TRUE
DTSTART;TZID=Europe/Zurich;VALUE=DATE:20250207
END:VEVENT
BEGIN:VEVENT
UID:69ea0a2df35c5
DTSTAMP:20260423T120149Z
SUMMARY:KONKURADO: Sanierung Mehrzweckhalle\, Angebotseingabe bis 07.02.202
 5 - 03.03.2025
DESCRIPTION:Link zum Verfahren: https://konkurado.ch/en/sanierung-mehrzweck
 halle
X-MICROSOFT-CDO-ALLDAYEVENT:TRUE
DTSTART;TZID=Europe/Zurich;VALUE=DATE:20250303
END:VEVENT
END:VCALENDAR